{"text_format":"1","workbook":"xlsx","n_sheets":10,"sheets":["Lehm ja ratsiooni tingimused","Söödad","Kontsentratsioonimäärad","Optimaalne ratsioon","Tabel1","Tehniline","0…30 lüpsipäev","Laktatsiooni I pool","Laktatsiooni II pool","Kinnisperiood"],"not_rendered":{"charts":0,"images":2,"macros":1,"external_links":0,"defined_names":212,"comments":3,"pivot_tables":0},"unopened":[],"bounds":{"document_bytes":16777216,"sheet_cells":100000,"rows_first":2000,"rows_last":500,"rows_between":2000,"halvings":0,"cell_chars":16384,"cell_head_chars":4096},"cells_cut":0,"cells_raw":0,"read":"whole","date_system":"1900"}

{"sheet":"Lehm ja ratsiooni tingimused","index":0,"n_rows":44,"n_cols":4,"rows_kept":44,"cut":false,"hidden":false,"merged":[]}
[]
[null,"Piimaklaster MTÜ, Söötmiskulude optimeerimise mudel 3.0"]
[]
[]
[null,null,"Piimalehm"]
[]
[null,null,"Kehamass, kg",650]
[null,null,"Piimatoodang, kg/päev","20"]
[null,null,"Laktatsiooniperioodi etapp/kinnisperiood","0…30 lüpsipäev"]
[null,null,"Sööda kuivaine tarbimine, kg/päev",{"$f":"Tehniline!D10","v":13.559803790000002}]
[null,null,"Söömus, % kehamassist",{"$f":"D10/D7","v":2.0861236600000003E-2}]
[]
[]
[]
[null,null,"Söödaratsiooni tingimused"]
[]
[null,null,"Silo"]
[null,null,"Maksimaalne rohu- ja maisisilo kogus päevas, kg",50]
[null,null,"Minimaalne maisisilo osatähtsus kogu silokogusest, %",0.2]
[null,null,"Maksimaalne maisisilo osatähtsus kogu silokogusest, %",1]
[null,null,"Kui ratsioonis on korraga kaks või rohkem rohusilo, siis neist igaühe minimaalne osakaal, %",0]
[]
[null,null,"Hein ja põhk"]
[null,null,"Maksimaalne heina kogus päevas, kg",1]
[null,null,"Maksimaalne põhu kogus päevas, kg",0.5]
[]
[null,null,"Rapsikook ja -šrott"]
[null,null,"Maksimaalne rapsikoogi ja -šroti kogus päevas, kg",5]
[]
[null,null,"Teravili ja jahu"]
[null,null,"Maksimaalne teravilja, jahu ja õlikoogi kogus päevas, kg",15]
[null,null,"Maksimaalne nisu osatähtsus teravilja ja jahude kogusest, %",0.5]
[null,null,"Kui ratsioonis on korraga kaks või rohkem teravilja, siis neist igaühe minimaalne osakaal, %",0]
[]
[null,null,"Kaitstud rasv"]
[null,null,"Maksimaalne kaitstud rasva kogus päevas, kg",0.2]
[]
[null,null,"Mineraalid"]
[null,null,"Maksimaalne mineraalainete kogus päevas, kg",0.2]
[null,null,"Maksimaalne lubjakivi kogus päevas, kg",0.25]
[]
[null,null,"Lisasööt"]
[null,null,"Lisasööt 1, minmaalne kogus päevas, kg",0]
[null,null,"Lisasööt 2, minimaalne kogus päevas, kg",0]

{"sheet":"Söödad","index":1,"n_rows":84,"n_cols":77,"rows_kept":84,"cut":false,"hidden":false,"merged":[]}
["valik",null,"Söödad","Hind, €/kg","KA,%","ME, MJ/kg KA","Toorkiud, g/kg KA","MP, g/kg KA","VPB, g/kg KA","VPB, g, max","Ca, g/kg KA","Ca,  g, max","P, g/kg KA","(Toor) proteiin, g/kg KA","Vaba - reserveering","Tärklis+suhkur, g/kg KA","ADF, g/kg KA","NDF, g/kg KA","silo","silo max%","hein","põhk","jahud","jahud%","nisu max","õlikoogid","panto","mineraal","lubjakivi","maisisilo min","Kaitstud rasv max","Lisasööt1","Lisasööt2","rohusilo max %","rohusilo max %","rohusilo max %","rohusilo max %","rohusilo max %","rohusilo max %","rohusilo max %","rohusilo max %","rohusilo max %","rohusilo max %","rohusilo max %","rohusilo max %","rohusilo max %","Vesi","teravilja max%","teravilja max%","teravilja max%","teravilja max%","teravilja max%","teravilja max%","teravilja max%","teravilja max%","teravilja max%","teravilja max%","teravilja max%","teravilja max%","teravilja max%","teravilja max%","teravilja max%","teravilja max%","teravilja max%","nisu max%","nisu max%","nisu max%","nisu max%","nisu max%","nisu max%","nisu max%","nisu max%","TR g/kg","Na g/kg KA","K g/kg KA","Mg g/kg KA","KAB, mekv"]
[null,"Silo","Kõrreliste silo hea heintaimikuga kultuurrohumaalt LL 030-12-40",0.03,0.35,10.1,280,79,-6,{"$f":"I2","v":-6},6,{"$f":"K2","v":6},3,128,null,25,370,560,1,{"$f":"-'Lehm ja ratsiooni tingimused'!$D$20","v":-1},null,null,null,null,null,null,null,null,null,{"$f":"0-'Lehm ja ratsiooni tingimused'!$D$19","v":-0.2},null,null,null,{"$f":"1-'Lehm ja ratsiooni tingimused'!$D$21","v":1},{"$f":"IF(AND(Tehniline!$A$32,Tehniline!$A$33),-'Lehm ja ratsiooni tingimused'!$D$21,0)","v":0},{"$f":"IF(AND(Tehniline!$A$32,Tehniline!$A$34),-'Lehm ja ratsiooni tingimused'!$D$21,0)","v":0},{"$f":"IF(AND(Tehniline!$A$32,Tehniline!$A$35),-'Lehm ja ratsiooni tingimused'!$D$21,0)","v":0},{"$f":"IF(AND(Tehniline!$A$32,Tehniline!$A$36),-'Lehm ja ratsiooni tingimused'!$D$21,0)","v":0},{"$f":"IF(AND(Tehniline!$A$32,Tehniline!$A$37),-'Lehm ja ratsiooni tingimused'!$D$21,0)","v":0},{"$f":"IF(AND(Tehniline!$A$32,Tehniline!$A$38),-'Lehm ja ratsiooni tingimused'!$D$21,0)","v":0},{"$f":"IF(AND(Tehniline!$A$32,Tehniline!$A$39),-'Lehm ja ratsiooni tingimused'!$D$21,0)","v":0},{"$f":"IF(AND(Tehniline!$A$32,Tehniline!$A$40),-'Lehm ja ratsiooni tingimused'!$D$21,0)","v":0},{"$f":"IF(AND(Tehniline!$A$32,Tehniline!$A$41),-'Lehm ja ratsiooni tingimused'!$D$21,0)","v":0},{"$f":"IF(AND(Tehniline!$A$32,Tehniline!$A$42),-'Lehm ja ratsiooni tingimused'!$D$21,0)","v":0},{"$f":"IF(AND(Tehniline!$A$32,Tehniline!$A$43),-'Lehm ja ratsiooni tingimused'!$D$21,0)","v":0},{"$f":"IF(AND(Tehniline!$A$32,Tehniline!$A$44),-'Lehm ja ratsiooni tingimused'!$D$21,0)","v":0},null,null,null,null,null,null,null,null,null,null,null,null,null,null,null,null,null,null,null,null,null,null,null,null,null,null,36,0.5,null,null,214]
[null,"Silo","Põldheinasilo (75% ristikut) LL 101-12-40",0.03,0.35,9.6999999999999993,275,79,7,7,12.2,{"$f":"K3","v":12.2},2.6,142,null,25,343,467,1,{"$f":"-'Lehm ja ratsiooni tingimused'!$D$20","v":-1},null,null,null,null,null,null,null,null,null,{"$f":"0-'Lehm ja ratsiooni tingimused'!$D$19","v":-0.2},null,null,null,{"$f":"IF(AND(Tehniline!$A$32,Tehniline!$A$33),-'Lehm ja ratsiooni tingimused'!$D$21,0)","v":0},{"$f":"1-'Lehm ja ratsiooni tingimused'!$D$21","v":1},{"$f":"IF(AND(Tehniline!$A$34,Tehniline!$A$33),-'Lehm ja ratsiooni tingimused'!$D$21,0)","v":0},{"$f":"IF(AND(Tehniline!$A$35,Tehniline!$A$33),-'Lehm ja ratsiooni tingimused'!$D$21,0)","v":0},{"$f":"IF(AND(Tehniline!$A$36,Tehniline!$A$33),-'Lehm ja ratsiooni tingimused'!$D$21,0)","v":0},{"$f":"IF(AND(Tehniline!$A$37,Tehniline!$A$33),-'Lehm ja ratsiooni tingimused'!$D$21,0)","v":0},{"$f":"IF(AND(Tehniline!$A$38,Tehniline!$A$33),-'Lehm ja ratsiooni tingimused'!$D$21,0)","v":0},{"$f":"IF(AND(Tehniline!$A$39,Tehniline!$A$33),-'Lehm ja ratsiooni tingimused'!$D$21,0)","v":0},{"$f":"IF(AND(Tehniline!$A$40,Tehniline!$A$33),-'Lehm ja ratsiooni tingimused'!$D$21,0)","v":0},{"$f":"IF(AND(Tehniline!$A$41,Tehniline!$A$33),-'Lehm ja ratsiooni tingimused'!$D$21,0)","v":0},{"$f":"IF(AND(Tehniline!$A$42,Tehniline!$A$33),-'Lehm ja ratsiooni tingimused'!$D$21,0)","v":0},{"$f":"IF(AND(Tehniline!$A$43,Tehniline!$A$33),-'Lehm ja ratsiooni tingimused'!$D$21,0)","v":0},{"$f":"IF(AND(Tehniline!$A$44,Tehniline!$A$33),-'Lehm ja ratsiooni tingimused'!$D$21,0)","v":0},null,null,null,null,null,null,null,null,null,null,null,null,null,null,null,null,null,null,null,null,null,null,null,null,null,null,37,0.5,null,null,296]
[null,"Silo","Põldheinasilo (50% ristikut) LL  103-12-40",0.03,0.35,9.8000000000000007,280,79,0,0,9.9,9.9,2.6,135,null,25,354,502,1,{"$f":"-'Lehm ja ratsiooni tingimused'!$D$20","v":-1},null,null,null,null,null,null,null,null,null,{"$f":"0-'Lehm ja ratsiooni tingimused'!$D$19","v":-0.2},null,null,null,{"$f":"IF(AND(Tehniline!$A$32,Tehniline!$A$34),-'Lehm ja ratsiooni tingimused'!$D$21,0)","v":0},{"$f":"IF(AND(Tehniline!$A$33,Tehniline!$A$34),-'Lehm ja ratsiooni tingimused'!$D$21,0)","v":0},{"$f":"1-'Lehm ja ratsiooni tingimused'!$D$21","v":1},{"$f":"IF(AND(Tehniline!$A$35,Tehniline!$A$34),-'Lehm ja ratsiooni tingimused'!$D$21,0)","v":0},{"$f":"IF(AND(Tehniline!$A$36,Tehniline!$A$34),-'Lehm ja ratsiooni tingimused'!$D$21,0)","v":0},{"$f":"IF(AND(Tehniline!$A$37,Tehniline!$A$34),-'Lehm ja ratsiooni tingimused'!$D$21,0)","v":0},{"$f":"IF(AND(Tehniline!$A$38,Tehniline!$A$34),-'Lehm ja ratsiooni tingimused'!$D$21,0)","v":0},{"$f":"IF(AND(Tehniline!$A$39,Tehniline!$A$34),-'Lehm ja ratsiooni tingimused'!$D$21,0)","v":0},{"$f":"IF(AND(Tehniline!$A$40,Tehniline!$A$34),-'Lehm ja ratsiooni tingimused'!$D$21,0)","v":0},{"$f":"IF(AND(Tehniline!$A$41,Tehniline!$A$34),-'Lehm ja ratsiooni tingimused'!$D$21,0)","v":0},{"$f":"IF(AND(Tehniline!$A$42,Tehniline!$A$34),-'Lehm ja ratsiooni tingimused'!$D$21,0)","v":0},{"$f":"IF(AND(Tehniline!$A$43,Tehniline!$A$34),-'Lehm ja ratsiooni tingimused'!$D$21,0)","v":0},{"$f":"IF(AND(Tehniline!$A$44,Tehniline!$A$34),-'Lehm ja ratsiooni tingimused'!$D$21,0)","v":0},null,null,null,null,null,null,null,null,null,null,null,null,null,null,null,null,null,null,null,null,null,null,null,null,null,null,36,0.5,null,null,288]
[null,"Silo","Põldheinasilo (25% ristikut) LL  106-12-40",0.03,0.35,9.9,284,76,-5,-5,7.5,7.5,2.7,125,null,25,364,536,1,{"$f":"-'Lehm ja ratsiooni tingimused'!$D$20","v":-1},null,null,null,null,null,null,null,null,null,{"$f":"0-'Lehm ja ratsiooni tingimused'!$D$19","v":-0.2},null,null,null,{"$f":"IF(AND(Tehniline!$A$32,Tehniline!$A$35),-'Lehm ja ratsiooni tingimused'!$D$21,0)","v":0},{"$f":"IF(AND(Tehniline!$A$33,Tehniline!$A$35),-'Lehm ja ratsiooni tingimused'!$D$21,0)","v":0},{"$f":"IF(AND(Tehniline!$A$34,Tehniline!$A$35),-'Lehm ja ratsiooni tingimused'!$D$21,0)","v":0},{"$f":"1-'Lehm ja ratsiooni tingimused'!$D$21","v":1},{"$f":"IF(AND(Tehniline!$A$36,Tehniline!$A$35),-'Lehm ja ratsiooni tingimused'!$D$21,0)","v":0},{"$f":"IF(AND(Tehniline!$A$37,Tehniline!$A$35),-'Lehm ja ratsiooni tingimused'!$D$21,0)","v":0},{"$f":"IF(AND(Tehniline!$A$38,Tehniline!$A$35),-'Lehm ja ratsiooni tingimused'!$D$21,0)","v":0},{"$f":"IF(AND(Tehniline!$A$39,Tehniline!$A$35),-'Lehm ja ratsiooni tingimused'!$D$21,0)","v":0},{"$f":"IF(AND(Tehniline!$A$40,Tehniline!$A$35),-'Lehm ja ratsiooni tingimused'!$D$21,0)","v":0},{"$f":"IF(AND(Tehniline!$A$41,Tehniline!$A$35),-'Lehm ja ratsiooni tingimused'!$D$21,0)","v":0},{"$f":"IF(AND(Tehniline!$A$42,Tehniline!$A$35),-'Lehm ja ratsiooni tingimused'!$D$21,0)","v":0},{"$f":"IF(AND(Tehniline!$A$43,Tehniline!$A$35),-'Lehm ja ratsiooni tingimused'!$D$21,0)","v":0},{"$f":"IF(AND(Tehniline!$A$44,Tehniline!$A$35),-'Lehm ja ratsiooni tingimused'!$D$21,0)","v":0},null,null,null,null,null,null,null,null,null,null,null,null,null,null,null,null,null,null,null,null,null,null,null,null,null,null,35,0.5,null,null,251]
[null,"Silo","Lutsernisilo  TÕ 120-12-60",0.03,0.35,8.4,332,68,30,30,15.5,15.5,2.6,147,null,25,382,475,1,{"$f":"-'Lehm ja ratsiooni tingimused'!$D$20","v":-1},null,null,null,null,null,null,null,null,null,{"$f":"0-'Lehm ja ratsiooni tingimused'!$D$19","v":-0.2},null,null,null,{"$f":"IF(AND(Tehniline!$A$32,Tehniline!$A$36),-'Lehm ja ratsiooni tingimused'!$D$21,0)","v":0},{"$f":"IF(AND(Tehniline!$A$33,Tehniline!$A$36),-'Lehm ja ratsiooni tingimused'!$D$21,0)","v":0},{"$f":"IF(AND(Tehniline!$A$34,Tehniline!$A$36),-'Lehm ja ratsiooni tingimused'!$D$21,0)","v":0},{"$f":"IF(AND(Tehniline!$A$35,Tehniline!$A$36),-'Lehm ja ratsiooni tingimused'!$D$21,0)","v":0},{"$f":"1-'Lehm ja ratsiooni tingimused'!$D$21","v":1},{"$f":"IF(AND(Tehniline!$A$37,Tehniline!$A$36),-'Lehm ja ratsiooni tingimused'!$D$21,0)","v":0},{"$f":"IF(AND(Tehniline!$A$38,Tehniline!$A$36),-'Lehm ja ratsiooni tingimused'!$D$21,0)","v":0},{"$f":"IF(AND(Tehniline!$A$39,Tehniline!$A$36),-'Lehm ja ratsiooni tingimused'!$D$21,0)","v":0},{"$f":"IF(AND(Tehniline!$A$40,Tehniline!$A$36),-'Lehm ja ratsiooni tingimused'!$D$21,0)","v":0},{"$f":"IF(AND(Tehniline!$A$41,Tehniline!$A$36),-'Lehm ja ratsiooni tingimused'!$D$21,0)","v":0},{"$f":"IF(AND(Tehniline!$A$42,Tehniline!$A$36),-'Lehm ja ratsiooni tingimused'!$D$21,0)","v":0},{"$f":"IF(AND(Tehniline!$A$43,Tehniline!$A$36),-'Lehm ja ratsiooni tingimused'!$D$21,0)","v":0},{"$f":"IF(AND(Tehniline!$A$44,Tehniline!$A$36),-'Lehm ja ratsiooni tingimused'!$D$21,0)","v":0},null,null,null,null,null,null,null,null,null,null,null,null,null,null,null,null,null,null,null,null,null,null,null,null,null,null,29,0.4,null,null,156]
[null,"Silo","Timutisilo  LL 200-12-40",0.03,0.35,10.1,289,76,-15,-15,5.2,5.2,2.7,115,null,25,375,571,1,{"$f":"-'Lehm ja ratsiooni tingimused'!$D$20","v":-1},null,null,null,null,null,null,null,null,null,{"$f":"0-'Lehm ja ratsiooni tingimused'!$D$19","v":-0.2},null,null,null,{"$f":"IF(AND(Tehniline!$A$32,Tehniline!$A$37),-'Lehm ja ratsiooni tingimused'!$D$21,0)","v":0},{"$f":"IF(AND(Tehniline!$A$33,Tehniline!$A$37),-'Lehm ja ratsiooni tingimused'!$D$21,0)","v":0},{"$f":"IF(AND(Tehniline!$A$34,Tehniline!$A$37),-'Lehm ja ratsiooni tingimused'!$D$21,0)","v":0},{"$f":"IF(AND(Tehniline!$A$35,Tehniline!$A$37),-'Lehm ja ratsiooni tingimused'!$D$21,0)","v":0},{"$f":"IF(AND(Tehniline!$A$36,Tehniline!$A$37),-'Lehm ja ratsiooni tingimused'!$D$21,0)","v":0},{"$f":"1-'Lehm ja ratsiooni tingimused'!$D$21","v":1},{"$f":"IF(AND(Tehniline!$A$38,Tehniline!$A$37),-'Lehm ja ratsiooni tingimused'!$D$21,0)","v":0},{"$f":"IF(AND(Tehniline!$A$39,Tehniline!$A$37),-'Lehm ja ratsiooni tingimused'!$D$21,0)","v":0},{"$f":"IF(AND(Tehniline!$A$40,Tehniline!$A$37),-'Lehm ja ratsiooni tingimused'!$D$21,0)","v":0},{"$f":"IF(AND(Tehniline!$A$41,Tehniline!$A$37),-'Lehm ja ratsiooni tingimused'!$D$21,0)","v":0},{"$f":"IF(AND(Tehniline!$A$42,Tehniline!$A$37),-'Lehm ja ratsiooni tingimused'!$D$21,0)","v":0},{"$f":"IF(AND(Tehniline!$A$43,Tehniline!$A$37),-'Lehm ja ratsiooni tingimused'!$D$21,0)","v":0},{"$f":"IF(AND(Tehniline!$A$44,Tehniline!$A$37),-'Lehm ja ratsiooni tingimused'!$D$21,0)","v":0},null,null,null,null,null,null,null,null,null,null,null,null,null,null,null,null,null,null,null,null,null,null,null,null,null,null,34,0.4,null,null,235]
[null,"Silo","Odravilisesilo  VK (vahaküpsus) 255-12-80",0.03,0.3,9.1999999999999993,255,72,-26,-26,3.5,3.5,2.4,96,null,25,306,514,1,{"$f":"-'Lehm ja ratsiooni tingimused'!$D$20","v":-1},null,null,null,null,null,null,null,null,null,{"$f":"0-'Lehm ja ratsiooni tingimused'!$D$19","v":-0.2},null,null,null,{"$f":"IF(AND(Tehniline!$A$32,Tehniline!$A$38),-'Lehm ja ratsiooni tingimused'!$D$21,0)","v":0},{"$f":"IF(AND(Tehniline!$A$33,Tehniline!$A$38),-'Lehm ja ratsiooni tingimused'!$D$21,0)","v":0},{"$f":"IF(AND(Tehniline!$A$34,Tehniline!$A$38),-'Lehm ja ratsiooni tingimused'!$D$21,0)","v":0},{"$f":"IF(AND(Tehniline!$A$35,Tehniline!$A$38),-'Lehm ja ratsiooni tingimused'!$D$21,0)","v":0},{"$f":"IF(AND(Tehniline!$A$36,Tehniline!$A$38),-'Lehm ja ratsiooni tingimused'!$D$21,0)","v":0},{"$f":"IF(AND(Tehniline!$A$37,Tehniline!$A$38),-'Lehm ja ratsiooni tingimused'!$D$21,0)","v":0},{"$f":"1-'Lehm ja ratsiooni tingimused'!$D$21","v":1},{"$f":"IF(AND(Tehniline!$A$39,Tehniline!$A$38),-'Lehm ja ratsiooni tingimused'!$D$21,0)","v":0},{"$f":"IF(AND(Tehniline!$A$40,Tehniline!$A$38),-'Lehm ja ratsiooni tingimused'!$D$21,0)","v":0},{"$f":"IF(AND(Tehniline!$A$41,Tehniline!$A$38),-'Lehm ja ratsiooni tingimused'!$D$21,0)","v":0},{"$f":"IF(AND(Tehniline!$A$42,Tehniline!$A$38),-'Lehm ja ratsiooni tingimused'!$D$21,0)","v":0},{"$f":"IF(AND(Tehniline!$A$43,Tehniline!$A$38),-'Lehm ja ratsiooni tingimused'!$D$21,0)","v":0},{"$f":"IF(AND(Tehniline!$A$44,Tehniline!$A$38),-'Lehm ja ratsiooni tingimused'!$D$21,0)","v":0},null,null,null,null,null,null,null,null,null,null,null,null,null,null,null,null,null,null,null,null,null,null,null,null,null,null,25]
[null,"Silo","V auk - rohusilo",0.03,0.253,8.8000000000000007,312,72,27,27,10.9,10.9,3.4,96,null,25,350,500,1,{"$f":"-'Lehm ja ratsiooni tingimused'!$D$20","v":-1},null,null,null,null,null,null,null,null,null,{"$f":"0-'Lehm ja ratsiooni tingimused'!$D$19","v":-0.2},null,null,null,{"$f":"IF(AND(Tehniline!$A$32,Tehniline!$A$39),-'Lehm ja ratsiooni tingimused'!$D$21,0)","v":0},{"$f":"IF(AND(Tehniline!$A$33,Tehniline!$A$39),-'Lehm ja ratsiooni tingimused'!$D$21,0)","v":0},{"$f":"IF(AND(Tehniline!$A$34,Tehniline!$A$39),-'Lehm ja ratsiooni tingimused'!$D$21,0)","v":0},{"$f":"IF(AND(Tehniline!$A$35,Tehniline!$A$39),-'Lehm ja ratsiooni tingimused'!$D$21,0)","v":0},{"$f":"IF(AND(Tehniline!$A$36,Tehniline!$A$39),-'Lehm ja ratsiooni tingimused'!$D$21,0)","v":0},{"$f":"IF(AND(Tehniline!$A$37,Tehniline!$A$39),-'Lehm ja ratsiooni tingimused'!$D$21,0)","v":0},{"$f":"IF(AND(Tehniline!$A$38,Tehniline!$A$39),-'Lehm ja ratsiooni tingimused'!$D$21,0)","v":0},{"$f":"1-'Lehm ja ratsiooni tingimused'!$D$21","v":1},{"$f":"IF(AND(Tehniline!$A$40,Tehniline!$A$39),-'Lehm ja ratsiooni tingimused'!$D$21,0)","v":0},{"$f":"IF(AND(Tehniline!$A$41,Tehniline!$A$39),-'Lehm ja ratsiooni tingimused'!$D$21,0)","v":0},{"$f":"IF(AND(Tehniline!$A$42,Tehniline!$A$39),-'Lehm ja ratsiooni tingimused'!$D$21,0)","v":0},{"$f":"IF(AND(Tehniline!$A$43,Tehniline!$A$39),-'Lehm ja ratsiooni tingimused'!$D$21,0)","v":0},{"$f":"IF(AND(Tehniline!$A$44,Tehniline!$A$39),-'Lehm ja ratsiooni tingimused'!$D$21,0)","v":0},null,null,null,null,null,null,null,null,null,null,null,null,null,null,null,null,null,null,null,null,null,null,null,null,null,null,36,0.5,null,null,280]
[null,"Silo","Uus rohusilo",0.03,0.37,9.5,207,76,-5,-5,5.6,5.6,2.9,125,null,25,350,500,1,{"$f":"-'Lehm ja ratsiooni tingimused'!$D$20","v":-1},null,null,null,null,null,null,null,null,null,{"$f":"0-'Lehm ja ratsiooni tingimused'!$D$19","v":-0.2},null,null,null,{"$f":"IF(AND(Tehniline!$A$32,Tehniline!$A$40),-'Lehm ja ratsiooni tingimused'!$D$21,0)","v":0},{"$f":"IF(AND(Tehniline!$A$33,Tehniline!$A$40),-'Lehm ja ratsiooni tingimused'!$D$21,0)","v":0},{"$f":"IF(AND(Tehniline!$A$34,Tehniline!$A$40),-'Lehm ja ratsiooni tingimused'!$D$21,0)","v":0},{"$f":"IF(AND(Tehniline!$A$35,Tehniline!$A$40),-'Lehm ja ratsiooni tingimused'!$D$21,0)","v":0},{"$f":"IF(AND(Tehniline!$A$36,Tehniline!$A$40),-'Lehm ja ratsiooni tingimused'!$D$21,0)","v":0},{"$f":"IF(AND(Tehniline!$A$37,Tehniline!$A$40),-'Lehm ja ratsiooni tingimused'!$D$21,0)","v":0},{"$f":"IF(AND(Tehniline!$A$38,Tehniline!$A$40),-'Lehm ja ratsiooni tingimused'!$D$21,0)","v":0},{"$f":"IF(AND(Tehniline!$A$39,Tehniline!$A$40),-'Lehm ja ratsiooni tingimused'!$D$21,0)","v":0},{"$f":"1-'Lehm ja ratsiooni tingimused'!$D$21","v":1},{"$f":"IF(AND(Tehniline!$A$41,Tehniline!$A$40),-'Lehm ja ratsiooni tingimused'!$D$21,0)","v":0},{"$f":"IF(AND(Tehniline!$A$42,Tehniline!$A$40),-'Lehm ja ratsiooni tingimused'!$D$21,0)","v":0},{"$f":"IF(AND(Tehniline!$A$43,Tehniline!$A$40),-'Lehm ja ratsiooni tingimused'!$D$21,0)","v":0},{"$f":"IF(AND(Tehniline!$A$44,Tehniline!$A$40),-'Lehm ja ratsiooni tingimused'!$D$21,0)","v":0},null,null,null,null,null,null,null,null,null,null,null,null,null,null,null,null,null,null,null,null,null,null,null,null,null,null,38,0.5,null,null,280]
[null,"Silo",null,null,null,null,null,null,null,0,null,0,null,null,null,null,null,null,1,{"$f":"-'Lehm ja ratsiooni tingimused'!$D$20","v":-1},null,null,null,null,null,null,null,null,null,{"$f":"0-'Lehm ja ratsiooni tingimused'!$D$19","v":-0.2},null,null,null,{"$f":"IF(AND(Tehniline!$A$32,Tehniline!$A$41),-'Lehm ja ratsiooni tingimused'!$D$21,0)","v":0},{"$f":"IF(AND(Tehniline!$A$33,Tehniline!$A$41),-'Lehm ja ratsiooni tingimused'!$D$21,0)","v":0},{"$f":"IF(AND(Tehniline!$A$34,Tehniline!$A$41),-'Lehm ja ratsiooni tingimused'!$D$21,0)","v":0},{"$f":"IF(AND(Tehniline!$A$35,Tehniline!$A$41),-'Lehm ja ratsiooni tingimused'!$D$21,0)","v":0},{"$f":"IF(AND(Tehniline!$A$36,Tehniline!$A$41),-'Lehm ja ratsiooni tingimused'!$D$21,0)","v":0},{"$f":"IF(AND(Tehniline!$A$37,Tehniline!$A$41),-'Lehm ja ratsiooni tingimused'!$D$21,0)","v":0},{"$f":"IF(AND(Tehniline!$A$38,Tehniline!$A$41),-'Lehm ja ratsiooni tingimused'!$D$21,0)","v":0},{"$f":"IF(AND(Tehniline!$A$39,Tehniline!$A$41),-'Lehm ja ratsiooni tingimused'!$D$21,0)","v":0},{"$f":"IF(AND(Tehniline!$A$40,Tehniline!$A$41),-'Lehm ja ratsiooni tingimused'!$D$21,0)","v":0},{"$f":"1-'Lehm ja ratsiooni tingimused'!$D$21","v":1},{"$f":"IF(AND(Tehniline!$A$42,Tehniline!$A$41),-'Lehm ja ratsiooni tingimused'!$D$21,0)","v":0},{"$f":"IF(AND(Tehniline!$A$43,Tehniline!$A$41),-'Lehm ja ratsiooni tingimused'!$D$21,0)","v":0},{"$f":"IF(AND(Tehniline!$A$44,Tehniline!$A$41),-'Lehm ja ratsiooni tingimused'!$D$21,0)","v":0}]
[null,"Silo",null,null,null,null,null,null,null,0,null,0,null,null,null,null,null,null,1,{"$f":"-'Lehm ja ratsiooni tingimused'!$D$20","v":-1},null,null,null,null,null,null,null,null,null,{"$f":"0-'Lehm ja ratsiooni tingimused'!$D$19","v":-0.2},null,null,null,{"$f":"IF(AND(Tehniline!$A$32,Tehniline!$A$42),-'Lehm ja ratsiooni tingimused'!$D$21,0)","v":0},{"$f":"IF(AND(Tehniline!$A$33,Tehniline!$A$42),-'Lehm ja ratsiooni tingimused'!$D$21,0)","v":0},{"$f":"IF(AND(Tehniline!$A$34,Tehniline!$A$42),-'Lehm ja ratsiooni tingimused'!$D$21,0)","v":0},{"$f":"IF(AND(Tehniline!$A$35,Tehniline!$A$42),-'Lehm ja ratsiooni tingimused'!$D$21,0)","v":0},{"$f":"IF(AND(Tehniline!$A$36,Tehniline!$A$42),-'Lehm ja ratsiooni tingimused'!$D$21,0)","v":0},{"$f":"IF(AND(Tehniline!$A$37,Tehniline!$A$42),-'Lehm ja ratsiooni tingimused'!$D$21,0)","v":0},{"$f":"IF(AND(Tehniline!$A$38,Tehniline!$A$42),-'Lehm ja ratsiooni tingimused'!$D$21,0)","v":0},{"$f":"IF(AND(Tehniline!$A$39,Tehniline!$A$42),-'Lehm ja ratsiooni tingimused'!$D$21,0)","v":0},{"$f":"IF(AND(Tehniline!$A$40,Tehniline!$A$42),-'Lehm ja ratsiooni tingimused'!$D$21,0)","v":0},{"$f":"IF(AND(Tehniline!$A$41,Tehniline!$A$42),-'Lehm ja ratsiooni tingimused'!$D$21,0)","v":0},{"$f":"1-'Lehm ja ratsiooni tingimused'!$D$21","v":1},{"$f":"IF(AND(Tehniline!$A$43,Tehniline!$A$42),-'Lehm ja ratsiooni tingimused'!$D$21,0)","v":0},{"$f":"IF(AND(Tehniline!$A$44,Tehniline!$A$42),-'Lehm ja ratsiooni tingimused'!$D$21,0)","v":0}]
[null,"Silo",null,null,null,null,null,null,null,0,null,0,null,null,null,null,null,null,1,{"$f":"-'Lehm ja ratsiooni tingimused'!$D$20","v":-1},null,null,null,null,null,null,null,null,null,{"$f":"0-'Lehm ja ratsiooni tingimused'!$D$19","v":-0.2},null,null,null,{"$f":"IF(AND(Tehniline!$A$32,Tehniline!$A$43),-'Lehm ja ratsiooni tingimused'!$D$21,0)","v":0},{"$f":"IF(AND(Tehniline!$A$33,Tehniline!$A$43),-'Lehm ja ratsiooni tingimused'!$D$21,0)","v":0},{"$f":"IF(AND(Tehniline!$A$34,Tehniline!$A$43),-'Lehm ja ratsiooni tingimused'!$D$21,0)","v":0},{"$f":"IF(AND(Tehniline!$A$35,Tehniline!$A$43),-'Lehm ja ratsiooni tingimused'!$D$21,0)","v":0},{"$f":"IF(AND(Tehniline!$A$36,Tehniline!$A$43),-'Lehm ja ratsiooni tingimused'!$D$21,0)","v":0},{"$f":"IF(AND(Tehniline!$A$37,Tehniline!$A$43),-'Lehm ja ratsiooni tingimused'!$D$21,0)","v":0},{"$f":"IF(AND(Tehniline!$A$38,Tehniline!$A$43),-'Lehm ja ratsiooni tingimused'!$D$21,0)","v":0},{"$f":"IF(AND(Tehniline!$A$39,Tehniline!$A$43),-'Lehm ja ratsiooni tingimused'!$D$21,0)","v":0},{"$f":"IF(AND(Tehniline!$A$40,Tehniline!$A$43),-'Lehm ja ratsiooni tingimused'!$D$21,0)","v":0},{"$f":"IF(AND(Tehniline!$A$41,Tehniline!$A$43),-'Lehm ja ratsiooni tingimused'!$D$21,0)","v":0},{"$f":"IF(AND(Tehniline!$A$42,Tehniline!$A$43),-'Lehm ja ratsiooni tingimused'!$D$21,0)","v":0},{"$f":"1-'Lehm ja ratsiooni tingimused'!$D$21","v":1},{"$f":"IF(AND(Tehniline!$A$44,Tehniline!$A$43),-'Lehm ja ratsiooni tingimused'!$D$21,0)","v":0}]
[null,"Maisisilo","Maisisilo PK 260-12-70",0.03,0.22,10.4,280,76,-34,-34,4,4,2.2999999999999998,95,null,300,356,575,1,{"$f":"1-'Lehm ja ratsiooni tingimused'!$D$20","v":0},null,null,null,null,null,null,null,null,null,{"$f":"1-'Lehm ja ratsiooni tingimused'!$D$19","v":0.8},null,null,null,null,null,null,null,null,null,null,null,null,null,null,null,null,null,null,null,null,null,null,null,null,null,null,null,null,null,null,null,null,null,null,null,null,null,null,null,null,null,null,32,0.5,null,null,141]
[null,"Maisisilo","VII auk - maisisilo",0.03,0.23,11,223,79,-43,-43,3.9,3.9,2.1,91,null,300,356,575,1,{"$f":"1-'Lehm ja ratsiooni tingimused'!$D$20","v":0},null,null,null,null,null,null,null,null,null,{"$f":"1-'Lehm ja ratsiooni tingimused'!$D$19","v":0.8},null,null,null,null,null,null,null,null,null,null,null,null,null,null,null,null,null,null,null,null,null,null,null,null,null,null,null,null,null,null,null,null,null,null,null,null,null,null,null,null,null,null,32,0.5,null,null,141]
[null,"Maisisilo","Uus maisisilo",0.03,0.28100000000000003,10.4,256,77,-43,-43,4.9000000000000004,4.9000000000000004,2.7,88,null,300,356,575,1,{"$f":"1-'Lehm ja ratsiooni tingimused'!$D$20","v":0},null,null,null,null,null,null,null,null,null,{"$f":"1-'Lehm ja ratsiooni tingimused'!$D$19","v":0.8},null,null,null,null,null,null,null,null,null,null,null,null,null,null,null,null,null,null,null,null,null,null,null,null,null,null,null,null,null,null,null,null,null,null,null,null,null,null,null,null,null,null,27,0.5,null,null,141]
[null,"Maisisilo","Tervikkoristatud rukkisilo",2.8000000000000001E-2,0.39,9.4,253,74,-42,-42,2.8,2.8,2.2000000000000002,83,null,198.5,265,473,1,{"$f":"1-'Lehm ja ratsiooni tingimused'!$D$20","v":0},null,null,null,null,null,null,null,null,null,{"$f":"1-'Lehm ja ratsiooni tingimused'!$D$19","v":0.8},null,null,null,null,null,null,null,null,null,null,null,null,null,null,null,null,null,null,null,null,null,null,null,null,null,null,null,null,null,null,null,null,null,null,null,null,null,null,null,null,null,null,27,0.5,null,null,141]
[null,"Maisisilo",null,null,null,null,null,null,null,0,null,0,null,null,null,null,null,null,1,{"$f":"1-'Lehm ja ratsiooni tingimused'!$D$20","v":0},null,null,null,null,null,null,null,null,null,{"$f":"1-'Lehm ja ratsiooni tingimused'!$D$19","v":0.8}]
[null,"Hein","Hein kõrreliste kultuurrohumaa  030-15-60",0.04,0.83,8.4,335,69,-39,-39,5.3,5.3,2.2999999999999998,80,null,null,423,667,null,null,1,null,null,null,null,null,null,null,null,null,null,null,null,null,null,null,null,null,null,null,null,null,null,null,null,null,null,null,null,null,null,null,null,null,null,null,null,null,null,null,null,null,null,null,null,null,null,null,null,null,null,null,23,0.4,null,null,193]
[null,"Hein","Põldhein (75% ristikut) LL 101-15-40",0.04,0.83,9.3000000000000007,308,83,-9,-9,11.4,11.4,2.5,134,null,null,375,530,null,null,1,null,null,null,null,null,null,null,null,null,null,null,null,null,null,null,null,null,null,null,null,null,null,null,null,null,null,null,null,null,null,null,null,null,null,null,null,null,null,null,null,null,null,null,null,null,null,null,null,null,null,null,26,0.6,null,null,313]
[null,"Hein","Põldhein (50% ristikut)  LL 103-15-40",0.04,0.83,9.3000000000000007,314,81,-17,-17,9.1999999999999993,9.1999999999999993,2.4,123,null,null,384,569,null,null,1,null,null,null,null,null,null,null,null,null,null,null,null,null,null,null,null,null,null,null,null,null,null,null,null,null,null,null,null,null,null,null,null,null,null,null,null,null,null,null,null,null,null,null,null,null,null,null,null,null,null,null,25,0.5,null,null,242]
[null,"Hein","Timuthein LL 200-15-40",0.04,0.83,9,325,76,-30,-30,4.8,4.8,2.4,100,null,null,403,646,null,null,1,null,null,null,null,null,null,null,null,null,null,null,null,null,null,null,null,null,null,null,null,null,null,null,null,null,null,null,null,null,null,null,null,null,null,null,null,null,null,null,null,null,null,null,null,null,null,null,null,null,null,null,23,0.5,null,null,213]
[null,"Hein","Põldhein (25% ristikut) LL 106-15-40",0.04,0.83,9,319,77,-22,-22,7,7,2.4,111,null,null,393,607,null,null,1,null,null,null,null,null,null,null,null,null,null,null,null,null,null,null,null,null,null,null,null,null,null,null,null,null,null,null,null,null,null,null,null,null,null,null,null,null,null,null,null,null,null,null,null,null,null,null,null,null,null,null,24,0.5,null,null,250]
[null,"Hein","Püsirohumaa hein",0.04,0.83,7.1,304,63,-19,-19,4,4,2,95,null,null,396,604,null,null,1,null,null,null,null,null,null,null,null,null,null,null,null,null,null,null,null,null,null,null,null,null,null,null,null,null,null,null,null,null,null,null,null,null,null,null,null,null,null,null,null,null,null,null,null,null,null,null,null,null,null,null,23,0.4,null,null,193]
[null,"Hein",null,null,null,null,null,null,null,null,null,null,null,null,null,null,null,null,null,null,1]
[null,"Hein",null,null,null,null,null,null,null,0,null,0,null,null,null,null,null,null,null,null,1]
[null,"Hein",null,null,null,null,null,null,null,0,null,0,null,null,null,null,null,null,null,null,1]
[null,"Põhk","Kaerapõhk 250-16-0",0.01,0.83,6.8,425,54,-48,-48,3.9,3.9,1.1000000000000001,45,null,null,471,751,null,null,null,1,null,null,null,null,null,null,null,null,null,null,null,null,null,null,null,null,null,null,null,null,null,null,null,null,null,null,null,null,null,null,null,null,null,null,null,null,null,null,null,null,null,null,null,null,null,null,null,null,null,null,20,1,null,null,328]
[null,"Põhk","Odrapõhk 255-16-0",0.08,0.83,6.9,420,56,-48,-48,3.9,3.9,1,47,null,null,499,788,null,null,null,1,null,null,null,null,null,null,null,null,null,null,null,null,null,null,null,null,null,null,null,null,null,null,null,null,null,null,null,null,null,null,null,null,null,null,null,null,null,null,null,null,null,null,null,null,null,null,null,null,null,null,20,1,null,null,184]
[null,"Põhk","Nisupõhk 265-16-0",0.08,0.83,6,436,48,-45,-45,3,3,0.8,37,null,null,535,818,null,null,null,1,null,null,null,null,null,null,null,null,null,null,null,null,null,null,null,null,null,null,null,null,null,null,null,null,null,null,null,null,null,null,null,null,null,null,null,null,null,null,null,null,null,null,null,null,null,null,null,null,null,null,17,0.5,null,null,178]
[null,"Põhk","Segaviljapõhk 061-16-0",0.01,0.83,7,420,58,-34,-34,10.199999999999999,10.199999999999999,1.7,65,null,null,null,null,null,null,null,1,null,null,null,null,null,null,null,null,null,null,null,null,null,null,null,null,null,null,null,null,null,null,null,null,null,null,null,null,null,null,null,null,null,null,null,null,null,null,null,null,null,null,null,null,null,null,null,null,null,null,20,0.7,null,null,173]
[null,"Põhk","Rapsipõhk",0.01,0.82,5.3,498,49,-52,-52,14.2,14.2,0.8,31,null,null,null,null,null,null,null,1,null,null,null,null,null,null,null,null,null,null,null,null,null,null,null,null,null,null,null,null,null,null,null,null,null,null,null,null,null,null,null,null,null,null,null,null,null,null,null,null,null,null,null,null,null,null,null,null,null,null,20,1,null,null,175]
[null,"Põhk",null,null,null,null,null,null,null,0,null,0,null,null,null,null,null,null,null,null,null,1]
[null,"Põhk",null,null,null,null,null,null,null,{"$f":"I34","v":0},null,0,null,null,null,null,null,null,null,null,null,1]
[null,"Põhk",null,null,null,null,null,null,null,0,null,0,null,null,null,null,null,null,null,null,null,1]
[null,"Õlikoogid","Rapsikook  350-28",0.27,0.9,13.4,123,161,139,139,8.3000000000000007,8.3000000000000007,10.5,342,null,120,232,333,null,null,null,null,1,null,null,1,null,null,null,null,null,null,null,null,null,null,null,null,null,null,null,null,null,null,null,null,null,null,null,null,null,null,null,null,null,null,null,null,null,null,null,null,null,null,null,null,null,null,null,null,null,null,126,0.1,null,null,-585]
[null,"Õlikoogid","Rapsisrott 350-29",0.37,0.9,11.7,135,157,142,142,8,8,11.5,382,null,120,null,null,null,null,null,null,1,null,null,1,null,null,null,null,null,null,null,null,null,null,null,null,null,null,null,null,null,null,null,null,null,null,null,null,null,null,null,null,null,null,null,null,null,null,null,null,null,null,null,null,null,null,null,null,null,null,29,0.2,null,null,-614]
[null,"Õlikoogid","Sojašrott 310-29",0.47,0.88,14.1,79,196,200,200,3.4,3.4,7.3,500,null,260,94,170,null,null,null,null,1,null,null,null,null,null,null,null,null,null,null,null,null,null,null,null,null,null,null,null,null,null,null,null,null,null,null,null,null,null,null,null,null,null,null,null,null,null,null,null,null,null,null,null,null,null,null,null,null,null,17,0.2,null,null,262]
[null,"Õlikoogid","Päevalillekook 300-28",0.4,0.9,10.8,224,125,164,164,3.5,3.5,9.5,356,null,120,null,null,null,null,null,null,1,null,null,null,null,null,null,null,null,null,null,null,null,null,null,null,null,null,null,null,null,null,null,null,null,null,null,null,null,null,null,null,null,null,null,null,null,null,null,null,null,null,null,null,null,null,null,null,null,null,90,0.2,null,null,78]
[null,"Õlikoogid","Päevalillesrott 300-29",0.4,0.9,9.3000000000000007,235,134,175,175,4.4000000000000004,4.4000000000000004,11.5,380,null,120,null,null,null,null,null,null,1,null,null,null,null,null,null,null,null,null,null,null,null,null,null,null,null,null,null,null,null,null,null,null,null,null,null,null,null,null,null,null,null,null,null,null,null,null,null,null,null,null,null,null,null,null,null,null,null,null,12,0.2,null,null,55]
[null,"Õlikoogid",null,null,null,null,null,null,null,0,null,0,null,null,null,null,null,null,null,null,null,null,1]
[null,"Õlikoogid",null,null,null,null,null,null,null,0,null,0,null,null,null,null,null,null,null,null,null,null,1]
[null,"Õlikoogid",null,null,null,null,null,null,null,0,null,0,null,null,null,null,null,null,null,null,null,null,1]
[null,"Teraviljad","Oder  255-20/21",0.15,0.86,13,60,103,-44,-44,0.8,0.8,4.0999999999999996,125,null,600,79,221,null,null,null,null,1,-0.5,{"$f":"0-'Lehm ja ratsiooni tingimused'!$D$32","v":-0.5},null,null,null,null,null,null,null,null,null,null,null,null,null,null,null,null,null,null,null,null,null,null,{"$f":"1-'Lehm ja ratsiooni tingimused'!$D$33","v":1},{"$f":"IF(AND(Tehniline!$B$33,Tehniline!$B32),-'Lehm ja ratsiooni tingimused'!$D$33,0)","v":0},{"$f":"IF(AND(Tehniline!$B$34,Tehniline!$B32),-'Lehm ja ratsiooni tingimused'!$D$33,0)","v":0},{"$f":"IF(AND(Tehniline!$B$35,Tehniline!$B32),-'Lehm ja ratsiooni tingimused'!$D$33,0)","v":0},{"$f":"IF(AND(Tehniline!$B$36,Tehniline!$B32),-'Lehm ja ratsiooni tingimused'!$D$33,0)","v":0},{"$f":"IF(AND(Tehniline!$B$37,Tehniline!$B32),-'Lehm ja ratsiooni tingimused'!$D$33,0)","v":0},{"$f":"IF(AND(Tehniline!$B$38,Tehniline!$B32),-'Lehm ja ratsiooni tingimused'!$D$33,0)","v":0},{"$f":"IF(AND(Tehniline!$B$39,Tehniline!$B32),-'Lehm ja ratsiooni tingimused'!$D$33,0)","v":0},{"$f":"IF(AND(Tehniline!$B$40,Tehniline!$B32),-'Lehm ja ratsiooni tingimused'!$D$33,0)","v":0},{"$f":"IF(AND(Tehniline!$B$41,Tehniline!$B32),-'Lehm ja ratsiooni tingimused'!$D$33,0)","v":0},{"$f":"IF(AND(Tehniline!$B$42,Tehniline!$B32),-'Lehm ja ratsiooni tingimused'!$D$33,0)","v":0},{"$f":"IF(AND(Tehniline!$B$43,Tehniline!$B32),-'Lehm ja ratsiooni tingimused'!$D$33,0)","v":0},{"$f":"IF(AND(Tehniline!$B$44,Tehniline!$B32),-'Lehm ja ratsiooni tingimused'!$D$33,0)","v":0},{"$f":"IF(AND(Tehniline!$B$45,Tehniline!$B32),-'Lehm ja ratsiooni tingimused'!$D$33,0)","v":0},{"$f":"IF(AND(Tehniline!$B$46,Tehniline!$B32),-'Lehm ja ratsiooni tingimused'!$D$33,0)","v":0},{"$f":"IF(AND(Tehniline!$B$47,Tehniline!$B32),-'Lehm ja ratsiooni tingimused'!$D$33,0)","v":0},{"$f":"IF(AND(Tehniline!$B$48,Tehniline!$B32),-'Lehm ja ratsiooni tingimused'!$D$33,0)","v":0},{"$f":"IF(AND(Tehniline!$B$49,Tehniline!$B32),-'Lehm ja ratsiooni tingimused'!$D$33,0)","v":0},{"$f":"IF(AND(Tehniline!$B$50,Tehniline!$B32),-'Lehm ja ratsiooni tingimused'!$D$33,0)","v":0},{"$f":"IF(AND(Tehniline!$B$51,Tehniline!$B32),-'Lehm ja ratsiooni tingimused'!$D$33,0)","v":0},null,null,null,null,null,22,0.2,null,null,19]
[null,"Teraviljad","Mais 260-20/21",0.2,0.86,14.2,29,121,-100,-100,0.4,0.4,3.1,95,null,700,28,108,null,null,null,null,1,-0.5,{"$f":"0-'Lehm ja ratsiooni tingimused'!$D$32","v":-0.5},null,null,null,null,null,null,null,null,null,null,null,null,null,null,null,null,null,null,null,null,null,null,{"$f":"IF(AND(Tehniline!$B$32,Tehniline!$B33),-'Lehm ja ratsiooni tingimused'!$D$33,0)","v":0},{"$f":"1-'Lehm ja ratsiooni tingimused'!$D$33","v":1},{"$f":"IF(AND(Tehniline!$B$34,Tehniline!$B33),-'Lehm ja ratsiooni tingimused'!$D$33,0)","v":0},{"$f":"IF(AND(Tehniline!$B$35,Tehniline!$B33),-'Lehm ja ratsiooni tingimused'!$D$33,0)","v":0},{"$f":"IF(AND(Tehniline!$B$36,Tehniline!$B33),-'Lehm ja ratsiooni tingimused'!$D$33,0)","v":0},{"$f":"IF(AND(Tehniline!$B$37,Tehniline!$B33),-'Lehm ja ratsiooni tingimused'!$D$33,0)","v":0},{"$f":"IF(AND(Tehniline!$B$38,Tehniline!$B33),-'Lehm ja ratsiooni tingimused'!$D$33,0)","v":0},{"$f":"IF(AND(Tehniline!$B$39,Tehniline!$B33),-'Lehm ja ratsiooni tingimused'!$D$33,0)","v":0},{"$f":"IF(AND(Tehniline!$B$40,Tehniline!$B33),-'Lehm ja ratsiooni tingimused'!$D$33,0)","v":0},{"$f":"IF(AND(Tehniline!$B$41,Tehniline!$B33),-'Lehm ja ratsiooni tingimused'!$D$33,0)","v":0},{"$f":"IF(AND(Tehniline!$B$42,Tehniline!$B33),-'Lehm ja ratsiooni tingimused'!$D$33,0)","v":0},{"$f":"IF(AND(Tehniline!$B$43,Tehniline!$B33),-'Lehm ja ratsiooni tingimused'!$D$33,0)","v":0},{"$f":"IF(AND(Tehniline!$B$44,Tehniline!$B33),-'Lehm ja ratsiooni tingimused'!$D$33,0)","v":0},{"$f":"IF(AND(Tehniline!$B$45,Tehniline!$B33),-'Lehm ja ratsiooni tingimused'!$D$33,0)","v":0},{"$f":"IF(AND(Tehniline!$B$46,Tehniline!$B33),-'Lehm ja ratsiooni tingimused'!$D$33,0)","v":0},{"$f":"IF(AND(Tehniline!$B$47,Tehniline!$B33),-'Lehm ja ratsiooni tingimused'!$D$33,0)","v":0},{"$f":"IF(AND(Tehniline!$B$48,Tehniline!$B33),-'Lehm ja ratsiooni tingimused'!$D$33,0)","v":0},{"$f":"IF(AND(Tehniline!$B$49,Tehniline!$B33),-'Lehm ja ratsiooni tingimused'!$D$33,0)","v":0},{"$f":"IF(AND(Tehniline!$B$50,Tehniline!$B33),-'Lehm ja ratsiooni tingimused'!$D$33,0)","v":0},{"$f":"IF(AND(Tehniline!$B$51,Tehniline!$B33),-'Lehm ja ratsiooni tingimused'!$D$33,0)","v":0},null,null,null,null,null,45,0.1,null,null,12]
[null,"Teraviljad","Kaer 250-20/21",0.15,0.86,11.9,112,92,-23,-23,1.2,1.2,3.8,127,null,600,111,310,null,null,null,null,1,-0.5,{"$f":"0-'Lehm ja ratsiooni tingimused'!$D$32","v":-0.5},null,null,null,null,null,null,null,null,null,null,null,null,null,null,null,null,null,null,null,null,null,null,{"$f":"IF(AND(Tehniline!$B$32,Tehniline!$B34),-'Lehm ja ratsiooni tingimused'!$D$33,0)","v":0},{"$f":"IF(AND(Tehniline!$B$33,Tehniline!$B34),-'Lehm ja ratsiooni tingimused'!$D$33,0)","v":0},{"$f":"1-'Lehm ja ratsiooni tingimused'!$D$33","v":1},{"$f":"IF(AND(Tehniline!$B$35,Tehniline!$B34),-'Lehm ja ratsiooni tingimused'!$D$33,0)","v":0},{"$f":"IF(AND(Tehniline!$B$36,Tehniline!$B34),-'Lehm ja ratsiooni tingimused'!$D$33,0)","v":0},{"$f":"IF(AND(Tehniline!$B$37,Tehniline!$B34),-'Lehm ja ratsiooni tingimused'!$D$33,0)","v":0},{"$f":"IF(AND(Tehniline!$B$38,Tehniline!$B34),-'Lehm ja ratsiooni tingimused'!$D$33,0)","v":0},{"$f":"IF(AND(Tehniline!$B$39,Tehniline!$B34),-'Lehm ja ratsiooni tingimused'!$D$33,0)","v":0},{"$f":"IF(AND(Tehniline!$B$40,Tehniline!$B34),-'Lehm ja ratsiooni tingimused'!$D$33,0)","v":0},{"$f":"IF(AND(Tehniline!$B$41,Tehniline!$B34),-'Lehm ja ratsiooni tingimused'!$D$33,0)","v":0},{"$f":"IF(AND(Tehniline!$B$42,Tehniline!$B34),-'Lehm ja ratsiooni tingimused'!$D$33,0)","v":0},{"$f":"IF(AND(Tehniline!$B$43,Tehniline!$B34),-'Lehm ja ratsiooni tingimused'!$D$33,0)","v":0},{"$f":"IF(AND(Tehniline!$B$44,Tehniline!$B34),-'Lehm ja ratsiooni tingimused'!$D$33,0)","v":0},{"$f":"IF(AND(Tehniline!$B$45,Tehniline!$B34),-'Lehm ja ratsiooni tingimused'!$D$33,0)","v":0},{"$f":"IF(AND(Tehniline!$B$46,Tehniline!$B34),-'Lehm ja ratsiooni tingimused'!$D$33,0)","v":0},{"$f":"IF(AND(Tehniline!$B$47,Tehniline!$B34),-'Lehm ja ratsiooni tingimused'!$D$33,0)","v":0},{"$f":"IF(AND(Tehniline!$B$48,Tehniline!$B34),-'Lehm ja ratsiooni tingimused'!$D$33,0)","v":0},{"$f":"IF(AND(Tehniline!$B$49,Tehniline!$B34),-'Lehm ja ratsiooni tingimused'!$D$33,0)","v":0},{"$f":"IF(AND(Tehniline!$B$50,Tehniline!$B34),-'Lehm ja ratsiooni tingimused'!$D$33,0)","v":0},{"$f":"IF(AND(Tehniline!$B$51,Tehniline!$B34),-'Lehm ja ratsiooni tingimused'!$D$33,0)","v":0},null,null,null,null,null,53,0.2,null,null,-13]
[null,"Teraviljad","Rukis 270-20/21",0.13,0.86,13.6,27,103,-60,-60,0.7,0.7,3.5,110,null,600,null,null,null,null,null,null,1,-0.5,{"$f":"0-'Lehm ja ratsiooni tingimused'!$D$32","v":-0.5},null,null,null,null,null,null,null,null,null,null,null,null,null,null,null,null,null,null,null,null,null,null,{"$f":"IF(AND(Tehniline!$B$32,Tehniline!$B35),-'Lehm ja ratsiooni tingimused'!$D$33,0)","v":0},{"$f":"IF(AND(Tehniline!$B$33,Tehniline!$B35),-'Lehm ja ratsiooni tingimused'!$D$33,0)","v":0},{"$f":"IF(AND(Tehniline!$B$34,Tehniline!$B35),-'Lehm ja ratsiooni tingimused'!$D$33,0)","v":0},{"$f":"1-'Lehm ja ratsiooni tingimused'!$D$33","v":1},{"$f":"IF(AND(Tehniline!$B$36,Tehniline!$B35),-'Lehm ja ratsiooni tingimused'!$D$33,0)","v":0},{"$f":"IF(AND(Tehniline!$B$37,Tehniline!$B35),-'Lehm ja ratsiooni tingimused'!$D$33,0)","v":0},{"$f":"IF(AND(Tehniline!$B$38,Tehniline!$B35),-'Lehm ja ratsiooni tingimused'!$D$33,0)","v":0},{"$f":"IF(AND(Tehniline!$B$39,Tehniline!$B35),-'Lehm ja ratsiooni tingimused'!$D$33,0)","v":0},{"$f":"IF(AND(Tehniline!$B$40,Tehniline!$B35),-'Lehm ja ratsiooni tingimused'!$D$33,0)","v":0},{"$f":"IF(AND(Tehniline!$B$41,Tehniline!$B35),-'Lehm ja ratsiooni tingimused'!$D$33,0)","v":0},{"$f":"IF(AND(Tehniline!$B$42,Tehniline!$B35),-'Lehm ja ratsiooni tingimused'!$D$33,0)","v":0},{"$f":"IF(AND(Tehniline!$B$43,Tehniline!$B35),-'Lehm ja ratsiooni tingimused'!$D$33,0)","v":0},{"$f":"IF(AND(Tehniline!$B$44,Tehniline!$B35),-'Lehm ja ratsiooni tingimused'!$D$33,0)","v":0},{"$f":"IF(AND(Tehniline!$B$45,Tehniline!$B35),-'Lehm ja ratsiooni tingimused'!$D$33,0)","v":0},{"$f":"IF(AND(Tehniline!$B$46,Tehniline!$B35),-'Lehm ja ratsiooni tingimused'!$D$33,0)","v":0},{"$f":"IF(AND(Tehniline!$B$47,Tehniline!$B35),-'Lehm ja ratsiooni tingimused'!$D$33,0)","v":0},{"$f":"IF(AND(Tehniline!$B$48,Tehniline!$B35),-'Lehm ja ratsiooni tingimused'!$D$33,0)","v":0},{"$f":"IF(AND(Tehniline!$B$49,Tehniline!$B35),-'Lehm ja ratsiooni tingimused'!$D$33,0)","v":0},{"$f":"IF(AND(Tehniline!$B$50,Tehniline!$B35),-'Lehm ja ratsiooni tingimused'!$D$33,0)","v":0},{"$f":"IF(AND(Tehniline!$B$51,Tehniline!$B35),-'Lehm ja ratsiooni tingimused'!$D$33,0)","v":0},null,null,null,null,null,21,0.1,null,null,50]
[null,"Teraviljad","Tritikale 275-20/21",0.15,0.86,13.9,27,105,-34,-34,0.5,0.5,3.5,140,null,600,null,null,null,null,null,null,1,-0.5,{"$f":"0-'Lehm ja ratsiooni tingimused'!$D$32","v":-0.5},null,null,null,null,null,null,null,null,null,null,null,null,null,null,null,null,null,null,null,null,null,null,{"$f":"IF(AND(Tehniline!$B$32,Tehniline!$B36),-'Lehm ja ratsiooni tingimused'!$D$33,0)","v":0},{"$f":"IF(AND(Tehniline!$B$33,Tehniline!$B36),-'Lehm ja ratsiooni tingimused'!$D$33,0)","v":0},{"$f":"IF(AND(Tehniline!$B$34,Tehniline!$B36),-'Lehm ja ratsiooni tingimused'!$D$33,0)","v":0},{"$f":"IF(AND(Tehniline!$B$35,Tehniline!$B36),-'Lehm ja ratsiooni tingimused'!$D$33,0)","v":0},{"$f":"1-'Lehm ja ratsiooni tingimused'!$D$33","v":1},{"$f":"IF(AND(Tehniline!$B$37,Tehniline!$B36),-'Lehm ja ratsiooni tingimused'!$D$33,0)","v":0},{"$f":"IF(AND(Tehniline!$B$38,Tehniline!$B36),-'Lehm ja ratsiooni tingimused'!$D$33,0)","v":0},{"$f":"IF(AND(Tehniline!$B$39,Tehniline!$B36),-'Lehm ja ratsiooni tingimused'!$D$33,0)","v":0},{"$f":"IF(AND(Tehniline!$B$40,Tehniline!$B36),-'Lehm ja ratsiooni tingimused'!$D$33,0)","v":0},{"$f":"IF(AND(Tehniline!$B$41,Tehniline!$B36),-'Lehm ja ratsiooni tingimused'!$D$33,0)","v":0},{"$f":"IF(AND(Tehniline!$B$42,Tehniline!$B36),-'Lehm ja ratsiooni tingimused'!$D$33,0)","v":0},{"$f":"IF(AND(Tehniline!$B$43,Tehniline!$B36),-'Lehm ja ratsiooni tingimused'!$D$33,0)","v":0},{"$f":"IF(AND(Tehniline!$B$44,Tehniline!$B36),-'Lehm ja ratsiooni tingimused'!$D$33,0)","v":0},{"$f":"IF(AND(Tehniline!$B$45,Tehniline!$B36),-'Lehm ja ratsiooni tingimused'!$D$33,0)","v":0},{"$f":"IF(AND(Tehniline!$B$46,Tehniline!$B36),-'Lehm ja ratsiooni tingimused'!$D$33,0)","v":0},{"$f":"IF(AND(Tehniline!$B$47,Tehniline!$B36),-'Lehm ja ratsiooni tingimused'!$D$33,0)","v":0},{"$f":"IF(AND(Tehniline!$B$48,Tehniline!$B36),-'Lehm ja ratsiooni tingimused'!$D$33,0)","v":0},{"$f":"IF(AND(Tehniline!$B$49,Tehniline!$B36),-'Lehm ja ratsiooni tingimused'!$D$33,0)","v":0},{"$f":"IF(AND(Tehniline!$B$50,Tehniline!$B36),-'Lehm ja ratsiooni tingimused'!$D$33,0)","v":0},{"$f":"IF(AND(Tehniline!$B$51,Tehniline!$B36),-'Lehm ja ratsiooni tingimused'!$D$33,0)","v":0},null,null,null,null,null,21,0.1,null,null,50]
[null,"Teraviljad","Kaerakliid 250-24",0.15,0.86,9.5,185,76,-28,-28,1.7,1.7,4.0999999999999996,95,null,600,null,null,null,null,null,null,1,-0.5,{"$f":"0-'Lehm ja ratsiooni tingimused'!$D$32","v":-0.5},null,null,null,null,null,null,null,null,null,null,null,null,null,null,null,null,null,null,null,null,null,null,{"$f":"IF(AND(Tehniline!$B$32,Tehniline!$B37),-'Lehm ja ratsiooni tingimused'!$D$33,0)","v":0},{"$f":"IF(AND(Tehniline!$B$33,Tehniline!$B37),-'Lehm ja ratsiooni tingimused'!$D$33,0)","v":0},{"$f":"IF(AND(Tehniline!$B$34,Tehniline!$B37),-'Lehm ja ratsiooni tingimused'!$D$33,0)","v":0},{"$f":"IF(AND(Tehniline!$B$35,Tehniline!$B37),-'Lehm ja ratsiooni tingimused'!$D$33,0)","v":0},{"$f":"IF(AND(Tehniline!$B$36,Tehniline!$B37),-'Lehm ja ratsiooni tingimused'!$D$33,0)","v":0},{"$f":"1-'Lehm ja ratsiooni tingimused'!$D$33","v":1},{"$f":"IF(AND(Tehniline!$B$38,Tehniline!$B37),-'Lehm ja ratsiooni tingimused'!$D$33,0)","v":0},{"$f":"IF(AND(Tehniline!$B$39,Tehniline!$B37),-'Lehm ja ratsiooni tingimused'!$D$33,0)","v":0},{"$f":"IF(AND(Tehniline!$B$40,Tehniline!$B37),-'Lehm ja ratsiooni tingimused'!$D$33,0)","v":0},{"$f":"IF(AND(Tehniline!$B$41,Tehniline!$B37),-'Lehm ja ratsiooni tingimused'!$D$33,0)","v":0},{"$f":"IF(AND(Tehniline!$B$42,Tehniline!$B37),-'Lehm ja ratsiooni tingimused'!$D$33,0)","v":0},{"$f":"IF(AND(Tehniline!$B$43,Tehniline!$B37),-'Lehm ja ratsiooni tingimused'!$D$33,0)","v":0},{"$f":"IF(AND(Tehniline!$B$44,Tehniline!$B37),-'Lehm ja ratsiooni tingimused'!$D$33,0)","v":0},{"$f":"IF(AND(Tehniline!$B$45,Tehniline!$B37),-'Lehm ja ratsiooni tingimused'!$D$33,0)","v":0},{"$f":"IF(AND(Tehniline!$B$46,Tehniline!$B37),-'Lehm ja ratsiooni tingimused'!$D$33,0)","v":0},{"$f":"IF(AND(Tehniline!$B$47,Tehniline!$B37),-'Lehm ja ratsiooni tingimused'!$D$33,0)","v":0},{"$f":"IF(AND(Tehniline!$B$48,Tehniline!$B37),-'Lehm ja ratsiooni tingimused'!$D$33,0)","v":0},{"$f":"IF(AND(Tehniline!$B$49,Tehniline!$B37),-'Lehm ja ratsiooni tingimused'!$D$33,0)","v":0},{"$f":"IF(AND(Tehniline!$B$50,Tehniline!$B37),-'Lehm ja ratsiooni tingimused'!$D$33,0)","v":0},{"$f":"IF(AND(Tehniline!$B$51,Tehniline!$B37),-'Lehm ja ratsiooni tingimused'!$D$33,0)","v":0},null,null,null,null,null,35,0.5,null,null,100]
[null,"Teraviljad","Odrakliid 255-24",0.15,0.86,10.8,155,86,-10,-10,1.6,1.6,4.3,130,null,600,null,null,null,null,null,null,1,-0.5,{"$f":"0-'Lehm ja ratsiooni tingimused'!$D$32","v":-0.5},null,null,null,null,null,null,null,null,null,null,null,null,null,null,null,null,null,null,null,null,null,null,{"$f":"IF(AND(Tehniline!$B$32,Tehniline!$B38),-'Lehm ja ratsiooni tingimused'!$D$33,0)","v":0},{"$f":"IF(AND(Tehniline!$B$33,Tehniline!$B38),-'Lehm ja ratsiooni tingimused'!$D$33,0)","v":0},{"$f":"IF(AND(Tehniline!$B$34,Tehniline!$B38),-'Lehm ja ratsiooni tingimused'!$D$33,0)","v":0},{"$f":"IF(AND(Tehniline!$B$35,Tehniline!$B38),-'Lehm ja ratsiooni tingimused'!$D$33,0)","v":0},{"$f":"IF(AND(Tehniline!$B$36,Tehniline!$B38),-'Lehm ja ratsiooni tingimused'!$D$33,0)","v":0},{"$f":"IF(AND(Tehniline!$B$37,Tehniline!$B38),-'Lehm ja ratsiooni tingimused'!$D$33,0)","v":0},{"$f":"1-'Lehm ja ratsiooni tingimused'!$D$33","v":1},{"$f":"IF(AND(Tehniline!$B$39,Tehniline!$B38),-'Lehm ja ratsiooni tingimused'!$D$33,0)","v":0},{"$f":"IF(AND(Tehniline!$B$40,Tehniline!$B38),-'Lehm ja ratsiooni tingimused'!$D$33,0)","v":0},{"$f":"IF(AND(Tehniline!$B$41,Tehniline!$B38),-'Lehm ja ratsiooni tingimused'!$D$33,0)","v":0},{"$f":"IF(AND(Tehniline!$B$42,Tehniline!$B38),-'Lehm ja ratsiooni tingimused'!$D$33,0)","v":0},{"$f":"IF(AND(Tehniline!$B$43,Tehniline!$B38),-'Lehm ja ratsiooni tingimused'!$D$33,0)","v":0},{"$f":"IF(AND(Tehniline!$B$44,Tehniline!$B38),-'Lehm ja ratsiooni tingimused'!$D$33,0)","v":0},{"$f":"IF(AND(Tehniline!$B$45,Tehniline!$B38),-'Lehm ja ratsiooni tingimused'!$D$33,0)","v":0},{"$f":"IF(AND(Tehniline!$B$46,Tehniline!$B38),-'Lehm ja ratsiooni tingimused'!$D$33,0)","v":0},{"$f":"IF(AND(Tehniline!$B$47,Tehniline!$B38),-'Lehm ja ratsiooni tingimused'!$D$33,0)","v":0},{"$f":"IF(AND(Tehniline!$B$48,Tehniline!$B38),-'Lehm ja ratsiooni tingimused'!$D$33,0)","v":0},{"$f":"IF(AND(Tehniline!$B$49,Tehniline!$B38),-'Lehm ja ratsiooni tingimused'!$D$33,0)","v":0},{"$f":"IF(AND(Tehniline!$B$50,Tehniline!$B38),-'Lehm ja ratsiooni tingimused'!$D$33,0)","v":0},{"$f":"IF(AND(Tehniline!$B$51,Tehniline!$B38),-'Lehm ja ratsiooni tingimused'!$D$33,0)","v":0},null,null,null,null,null,32,0.5,null,null,161]
[null,"Teraviljad","Rukkikliid 270-24",0.15,0.86,10.8,100,92,10,10,1.4,1.4,10.199999999999999,160,null,600,null,null,null,null,null,null,1,-0.5,{"$f":"0-'Lehm ja ratsiooni tingimused'!$D$32","v":-0.5},null,null,null,null,null,null,null,null,null,null,null,null,null,null,null,null,null,null,null,null,null,null,{"$f":"IF(AND(Tehniline!$B$32,Tehniline!$B39),-'Lehm ja ratsiooni tingimused'!$D$33,0)","v":0},{"$f":"IF(AND(Tehniline!$B$33,Tehniline!$B39),-'Lehm ja ratsiooni tingimused'!$D$33,0)","v":0},{"$f":"IF(AND(Tehniline!$B$34,Tehniline!$B39),-'Lehm ja ratsiooni tingimused'!$D$33,0)","v":0},{"$f":"IF(AND(Tehniline!$B$35,Tehniline!$B39),-'Lehm ja ratsiooni tingimused'!$D$33,0)","v":0},{"$f":"IF(AND(Tehniline!$B$36,Tehniline!$B39),-'Lehm ja ratsiooni tingimused'!$D$33,0)","v":0},{"$f":"IF(AND(Tehniline!$B$37,Tehniline!$B39),-'Lehm ja ratsiooni tingimused'!$D$33,0)","v":0},{"$f":"IF(AND(Tehniline!$B$38,Tehniline!$B39),-'Lehm ja ratsiooni tingimused'!$D$33,0)","v":0},{"$f":"1-'Lehm ja ratsiooni tingimused'!$D$33","v":1},{"$f":"IF(AND(Tehniline!$B$40,Tehniline!$B39),-'Lehm ja ratsiooni tingimused'!$D$33,0)","v":0},{"$f":"IF(AND(Tehniline!$B$41,Tehniline!$B39),-'Lehm ja ratsiooni tingimused'!$D$33,0)","v":0},{"$f":"IF(AND(Tehniline!$B$42,Tehniline!$B39),-'Lehm ja ratsiooni tingimused'!$D$33,0)","v":0},{"$f":"IF(AND(Tehniline!$B$43,Tehniline!$B39),-'Lehm ja ratsiooni tingimused'!$D$33,0)","v":0},{"$f":"IF(AND(Tehniline!$B$44,Tehniline!$B39),-'Lehm ja ratsiooni tingimused'!$D$33,0)","v":0},{"$f":"IF(AND(Tehniline!$B$45,Tehniline!$B39),-'Lehm ja ratsiooni tingimused'!$D$33,0)","v":0},{"$f":"IF(AND(Tehniline!$B$46,Tehniline!$B39),-'Lehm ja ratsiooni tingimused'!$D$33,0)","v":0},{"$f":"IF(AND(Tehniline!$B$47,Tehniline!$B39),-'Lehm ja ratsiooni tingimused'!$D$33,0)","v":0},{"$f":"IF(AND(Tehniline!$B$48,Tehniline!$B39),-'Lehm ja ratsiooni tingimused'!$D$33,0)","v":0},{"$f":"IF(AND(Tehniline!$B$49,Tehniline!$B39),-'Lehm ja ratsiooni tingimused'!$D$33,0)","v":0},{"$f":"IF(AND(Tehniline!$B$50,Tehniline!$B39),-'Lehm ja ratsiooni tingimused'!$D$33,0)","v":0},{"$f":"IF(AND(Tehniline!$B$51,Tehniline!$B39),-'Lehm ja ratsiooni tingimused'!$D$33,0)","v":0},null,null,null,null,null,38,0.1,null,null,273]
[null,"Teraviljad","Hernes 150-20/21",0.15,0.86,13.7,67,123,52,52,1.3,1.3,4.5,250,null,600,76,116,null,null,null,null,1,-0.5,{"$f":"0-'Lehm ja ratsiooni tingimused'!$D$32","v":-0.5},null,null,null,null,null,null,null,null,null,null,null,null,null,null,null,null,null,null,null,null,null,null,{"$f":"IF(AND(Tehniline!$B$32,Tehniline!$B40),-'Lehm ja ratsiooni tingimused'!$D$33,0)","v":0},{"$f":"IF(AND(Tehniline!$B$33,Tehniline!$B40),-'Lehm ja ratsiooni tingimused'!$D$33,0)","v":0},{"$f":"IF(AND(Tehniline!$B$34,Tehniline!$B40),-'Lehm ja ratsiooni tingimused'!$D$33,0)","v":0},{"$f":"IF(AND(Tehniline!$B$35,Tehniline!$B40),-'Lehm ja ratsiooni tingimused'!$D$33,0)","v":0},{"$f":"IF(AND(Tehniline!$B$36,Tehniline!$B40),-'Lehm ja ratsiooni tingimused'!$D$33,0)","v":0},{"$f":"IF(AND(Tehniline!$B$37,Tehniline!$B40),-'Lehm ja ratsiooni tingimused'!$D$33,0)","v":0},{"$f":"IF(AND(Tehniline!$B$38,Tehniline!$B40),-'Lehm ja ratsiooni tingimused'!$D$33,0)","v":0},{"$f":"IF(AND(Tehniline!$B$39,Tehniline!$B40),-'Lehm ja ratsiooni tingimused'!$D$33,0)","v":0},{"$f":"1-'Lehm ja ratsiooni tingimused'!$D$33","v":1},{"$f":"IF(AND(Tehniline!$B$41,Tehniline!$B40),-'Lehm ja ratsiooni tingimused'!$D$33,0)","v":0},{"$f":"IF(AND(Tehniline!$B$42,Tehniline!$B40),-'Lehm ja ratsiooni tingimused'!$D$33,0)","v":0},{"$f":"IF(AND(Tehniline!$B$43,Tehniline!$B40),-'Lehm ja ratsiooni tingimused'!$D$33,0)","v":0},{"$f":"IF(AND(Tehniline!$B$44,Tehniline!$B40),-'Lehm ja ratsiooni tingimused'!$D$33,0)","v":0},{"$f":"IF(AND(Tehniline!$B$45,Tehniline!$B40),-'Lehm ja ratsiooni tingimused'!$D$33,0)","v":0},{"$f":"IF(AND(Tehniline!$B$46,Tehniline!$B40),-'Lehm ja ratsiooni tingimused'!$D$33,0)","v":0},{"$f":"IF(AND(Tehniline!$B$47,Tehniline!$B40),-'Lehm ja ratsiooni tingimused'!$D$33,0)","v":0},{"$f":"IF(AND(Tehniline!$B$48,Tehniline!$B40),-'Lehm ja ratsiooni tingimused'!$D$33,0)","v":0},{"$f":"IF(AND(Tehniline!$B$49,Tehniline!$B40),-'Lehm ja ratsiooni tingimused'!$D$33,0)","v":0},{"$f":"IF(AND(Tehniline!$B$50,Tehniline!$B40),-'Lehm ja ratsiooni tingimused'!$D$33,0)","v":0},{"$f":"IF(AND(Tehniline!$B$51,Tehniline!$B40),-'Lehm ja ratsiooni tingimused'!$D$33,0)","v":0},null,null,null,null,null,15,0.1,null,null,159]
[null,"Teraviljad","Konservvili 2677 nisu",0.15,0.63400000000000001,13.8,40,93,-59,-59,0.9,0.9,3.9,null,null,600,null,null,null,null,null,null,1,-0.5,{"$f":"0-'Lehm ja ratsiooni tingimused'!$D$32","v":-0.5},null,null,null,null,null,null,null,null,null,null,null,null,null,null,null,null,null,null,null,null,null,null,{"$f":"IF(AND(Tehniline!$B$32,Tehniline!$B41),-'Lehm ja ratsiooni tingimused'!$D$33,0)","v":0},{"$f":"IF(AND(Tehniline!$B$33,Tehniline!$B41),-'Lehm ja ratsiooni tingimused'!$D$33,0)","v":0},{"$f":"IF(AND(Tehniline!$B$34,Tehniline!$B41),-'Lehm ja ratsiooni tingimused'!$D$33,0)","v":0},{"$f":"IF(AND(Tehniline!$B$35,Tehniline!$B41),-'Lehm ja ratsiooni tingimused'!$D$33,0)","v":0},{"$f":"IF(AND(Tehniline!$B$36,Tehniline!$B41),-'Lehm ja ratsiooni tingimused'!$D$33,0)","v":0},{"$f":"IF(AND(Tehniline!$B$37,Tehniline!$B41),-'Lehm ja ratsiooni tingimused'!$D$33,0)","v":0},{"$f":"IF(AND(Tehniline!$B$38,Tehniline!$B41),-'Lehm ja ratsiooni tingimused'!$D$33,0)","v":0},{"$f":"IF(AND(Tehniline!$B$39,Tehniline!$B41),-'Lehm ja ratsiooni tingimused'!$D$33,0)","v":0},{"$f":"IF(AND(Tehniline!$B$40,Tehniline!$B41),-'Lehm ja ratsiooni tingimused'!$D$33,0)","v":0},{"$f":"1-'Lehm ja ratsiooni tingimused'!$D$33","v":1},{"$f":"IF(AND(Tehniline!$B$42,Tehniline!$B41),-'Lehm ja ratsiooni tingimused'!$D$33,0)","v":0},{"$f":"IF(AND(Tehniline!$B$43,Tehniline!$B41),-'Lehm ja ratsiooni tingimused'!$D$33,0)","v":0},{"$f":"IF(AND(Tehniline!$B$44,Tehniline!$B41),-'Lehm ja ratsiooni tingimused'!$D$33,0)","v":0},{"$f":"IF(AND(Tehniline!$B$45,Tehniline!$B41),-'Lehm ja ratsiooni tingimused'!$D$33,0)","v":0},{"$f":"IF(AND(Tehniline!$B$46,Tehniline!$B41),-'Lehm ja ratsiooni tingimused'!$D$33,0)","v":0},{"$f":"IF(AND(Tehniline!$B$47,Tehniline!$B41),-'Lehm ja ratsiooni tingimused'!$D$33,0)","v":0},{"$f":"IF(AND(Tehniline!$B$48,Tehniline!$B41),-'Lehm ja ratsiooni tingimused'!$D$33,0)","v":0},{"$f":"IF(AND(Tehniline!$B$49,Tehniline!$B41),-'Lehm ja ratsiooni tingimused'!$D$33,0)","v":0},{"$f":"IF(AND(Tehniline!$B$50,Tehniline!$B41),-'Lehm ja ratsiooni tingimused'!$D$33,0)","v":0},{"$f":"IF(AND(Tehniline!$B$51,Tehniline!$B41),-'Lehm ja ratsiooni tingimused'!$D$33,0)","v":0},null,null,null,null,null,41,0.2,null,null,10]
[null,"Teraviljad","Muljutud konserveeritud kaer 250-22",0.15,0.65,12,117,92,-18,-18,1.2,1.2,3.5,130,null,630,137,313,null,null,null,null,1,-0.5,{"$f":"0-'Lehm ja ratsiooni tingimused'!$D$32","v":-0.5},null,null,null,null,null,null,null,null,null,null,null,null,null,null,null,null,null,null,null,null,null,null,{"$f":"IF(AND(Tehniline!$B$32,Tehniline!$B42),-'Lehm ja ratsiooni tingimused'!$D$33,0)","v":0},{"$f":"IF(AND(Tehniline!$B$33,Tehniline!$B42),-'Lehm ja ratsiooni tingimused'!$D$33,0)","v":0},{"$f":"IF(AND(Tehniline!$B$34,Tehniline!$B42),-'Lehm ja ratsiooni tingimused'!$D$33,0)","v":0},{"$f":"IF(AND(Tehniline!$B$35,Tehniline!$B42),-'Lehm ja ratsiooni tingimused'!$D$33,0)","v":0},{"$f":"IF(AND(Tehniline!$B$36,Tehniline!$B42),-'Lehm ja ratsiooni tingimused'!$D$33,0)","v":0},{"$f":"IF(AND(Tehniline!$B$37,Tehniline!$B42),-'Lehm ja ratsiooni tingimused'!$D$33,0)","v":0},{"$f":"IF(AND(Tehniline!$B$38,Tehniline!$B42),-'Lehm ja ratsiooni tingimused'!$D$33,0)","v":0},{"$f":"IF(AND(Tehniline!$B$39,Tehniline!$B42),-'Lehm ja ratsiooni tingimused'!$D$33,0)","v":0},{"$f":"IF(AND(Tehniline!$B$40,Tehniline!$B42),-'Lehm ja ratsiooni tingimused'!$D$33,0)","v":0},{"$f":"IF(AND(Tehniline!$B$41,Tehniline!$B42),-'Lehm ja ratsiooni tingimused'!$D$33,0)","v":0},{"$f":"1-'Lehm ja ratsiooni tingimused'!$D$33","v":1},{"$f":"IF(AND(Tehniline!$B$43,Tehniline!$B42),-'Lehm ja ratsiooni tingimused'!$D$33,0)","v":0},{"$f":"IF(AND(Tehniline!$B$44,Tehniline!$B42),-'Lehm ja ratsiooni tingimused'!$D$33,0)","v":0},{"$f":"IF(AND(Tehniline!$B$45,Tehniline!$B42),-'Lehm ja ratsiooni tingimused'!$D$33,0)","v":0},{"$f":"IF(AND(Tehniline!$B$46,Tehniline!$B42),-'Lehm ja ratsiooni tingimused'!$D$33,0)","v":0},{"$f":"IF(AND(Tehniline!$B$47,Tehniline!$B42),-'Lehm ja ratsiooni tingimused'!$D$33,0)","v":0},{"$f":"IF(AND(Tehniline!$B$48,Tehniline!$B42),-'Lehm ja ratsiooni tingimused'!$D$33,0)","v":0},{"$f":"IF(AND(Tehniline!$B$49,Tehniline!$B42),-'Lehm ja ratsiooni tingimused'!$D$33,0)","v":0},{"$f":"IF(AND(Tehniline!$B$50,Tehniline!$B42),-'Lehm ja ratsiooni tingimused'!$D$33,0)","v":0},{"$f":"IF(AND(Tehniline!$B$51,Tehniline!$B42),-'Lehm ja ratsiooni tingimused'!$D$33,0)","v":0},null,null,null,null,null,59,0.2,null,null,-13]
[null,"Teraviljad","Muljutud konserveeritud oder 255-22",0.15,0.65,12.9,68,102,-41,-41,0.8,0.8,3.6,126,null,630,78,235,null,null,null,null,1,-0.5,{"$f":"0-'Lehm ja ratsiooni tingimused'!$D$32","v":-0.5},null,null,null,null,null,null,null,null,null,null,null,null,null,null,null,null,null,null,null,null,null,null,{"$f":"IF(AND(Tehniline!$B$32,Tehniline!$B43),-'Lehm ja ratsiooni tingimused'!$D$33,0)","v":0},{"$f":"IF(AND(Tehniline!$B$33,Tehniline!$B43),-'Lehm ja ratsiooni tingimused'!$D$33,0)","v":0},{"$f":"IF(AND(Tehniline!$B$34,Tehniline!$B43),-'Lehm ja ratsiooni tingimused'!$D$33,0)","v":0},{"$f":"IF(AND(Tehniline!$B$35,Tehniline!$B43),-'Lehm ja ratsiooni tingimused'!$D$33,0)","v":0},{"$f":"IF(AND(Tehniline!$B$36,Tehniline!$B43),-'Lehm ja ratsiooni tingimused'!$D$33,0)","v":0},{"$f":"IF(AND(Tehniline!$B$37,Tehniline!$B43),-'Lehm ja ratsiooni tingimused'!$D$33,0)","v":0},{"$f":"IF(AND(Tehniline!$B$38,Tehniline!$B43),-'Lehm ja ratsiooni tingimused'!$D$33,0)","v":0},{"$f":"IF(AND(Tehniline!$B$39,Tehniline!$B43),-'Lehm ja ratsiooni tingimused'!$D$33,0)","v":0},{"$f":"IF(AND(Tehniline!$B$40,Tehniline!$B43),-'Lehm ja ratsiooni tingimused'!$D$33,0)","v":0},{"$f":"IF(AND(Tehniline!$B$41,Tehniline!$B43),-'Lehm ja ratsiooni tingimused'!$D$33,0)","v":0},{"$f":"IF(AND(Tehniline!$B$42,Tehniline!$B43),-'Lehm ja ratsiooni tingimused'!$D$33,0)","v":0},{"$f":"1-'Lehm ja ratsiooni tingimused'!$D$33","v":1},{"$f":"IF(AND(Tehniline!$B$44,Tehniline!$B43),-'Lehm ja ratsiooni tingimused'!$D$33,0)","v":0},{"$f":"IF(AND(Tehniline!$B$45,Tehniline!$B43),-'Lehm ja ratsiooni tingimused'!$D$33,0)","v":0},{"$f":"IF(AND(Tehniline!$B$46,Tehniline!$B43),-'Lehm ja ratsiooni tingimused'!$D$33,0)","v":0},{"$f":"IF(AND(Tehniline!$B$47,Tehniline!$B43),-'Lehm ja ratsiooni tingimused'!$D$33,0)","v":0},{"$f":"IF(AND(Tehniline!$B$48,Tehniline!$B43),-'Lehm ja ratsiooni tingimused'!$D$33,0)","v":0},{"$f":"IF(AND(Tehniline!$B$49,Tehniline!$B43),-'Lehm ja ratsiooni tingimused'!$D$33,0)","v":0},{"$f":"IF(AND(Tehniline!$B$50,Tehniline!$B43),-'Lehm ja ratsiooni tingimused'!$D$33,0)","v":0},{"$f":"IF(AND(Tehniline!$B$51,Tehniline!$B43),-'Lehm ja ratsiooni tingimused'!$D$33,0)","v":0},null,null,null,null,null,24,0.2,null,null,32]
[null,"Teraviljad",null,null,null,null,null,null,null,0,null,0,null,null,null,null,null,null,null,null,null,null,1,-0.5,{"$f":"0-'Lehm ja ratsiooni tingimused'!$D$32","v":-0.5},null,null,null,null,null,null,null,null,null,null,null,null,null,null,null,null,null,null,null,null,null,null,{"$f":"IF(AND(Tehniline!$B$32,Tehniline!$B44),-'Lehm ja ratsiooni tingimused'!$D$33,0)","v":0},{"$f":"IF(AND(Tehniline!$B$33,Tehniline!$B44),-'Lehm ja ratsiooni tingimused'!$D$33,0)","v":0},{"$f":"IF(AND(Tehniline!$B$34,Tehniline!$B44),-'Lehm ja ratsiooni tingimused'!$D$33,0)","v":0},{"$f":"IF(AND(Tehniline!$B$35,Tehniline!$B44),-'Lehm ja ratsiooni tingimused'!$D$33,0)","v":0},{"$f":"IF(AND(Tehniline!$B$36,Tehniline!$B44),-'Lehm ja ratsiooni tingimused'!$D$33,0)","v":0},{"$f":"IF(AND(Tehniline!$B$37,Tehniline!$B44),-'Lehm ja ratsiooni tingimused'!$D$33,0)","v":0},{"$f":"IF(AND(Tehniline!$B$38,Tehniline!$B44),-'Lehm ja ratsiooni tingimused'!$D$33,0)","v":0},{"$f":"IF(AND(Tehniline!$B$39,Tehniline!$B44),-'Lehm ja ratsiooni tingimused'!$D$33,0)","v":0},{"$f":"IF(AND(Tehniline!$B$40,Tehniline!$B44),-'Lehm ja ratsiooni tingimused'!$D$33,0)","v":0},{"$f":"IF(AND(Tehniline!$B$41,Tehniline!$B44),-'Lehm ja ratsiooni tingimused'!$D$33,0)","v":0},{"$f":"IF(AND(Tehniline!$B$42,Tehniline!$B44),-'Lehm ja ratsiooni tingimused'!$D$33,0)","v":0},{"$f":"IF(AND(Tehniline!$B$43,Tehniline!$B44),-'Lehm ja ratsiooni tingimused'!$D$33,0)","v":0},{"$f":"1-'Lehm ja ratsiooni tingimused'!$D$33","v":1},{"$f":"IF(AND(Tehniline!$B$45,Tehniline!$B44),-'Lehm ja ratsiooni tingimused'!$D$33,0)","v":0},{"$f":"IF(AND(Tehniline!$B$46,Tehniline!$B44),-'Lehm ja ratsiooni tingimused'!$D$33,0)","v":0},{"$f":"IF(AND(Tehniline!$B$47,Tehniline!$B44),-'Lehm ja ratsiooni tingimused'!$D$33,0)","v":0},{"$f":"IF(AND(Tehniline!$B$48,Tehniline!$B44),-'Lehm ja ratsiooni tingimused'!$D$33,0)","v":0},{"$f":"IF(AND(Tehniline!$B$49,Tehniline!$B44),-'Lehm ja ratsiooni tingimused'!$D$33,0)","v":0},{"$f":"IF(AND(Tehniline!$B$50,Tehniline!$B44),-'Lehm ja ratsiooni tingimused'!$D$33,0)","v":0},{"$f":"IF(AND(Tehniline!$B$51,Tehniline!$B44),-'Lehm ja ratsiooni tingimused'!$D$33,0)","v":0}]
[null,"Teraviljad",null,null,null,null,null,null,null,0,null,0,null,null,null,null,null,null,null,null,null,null,1,-0.5,{"$f":"0-'Lehm ja ratsiooni tingimused'!$D$32","v":-0.5},null,null,null,null,null,null,null,null,null,null,null,null,null,null,null,null,null,null,null,null,null,null,{"$f":"IF(AND(Tehniline!$B$32,Tehniline!$B45),-'Lehm ja ratsiooni tingimused'!$D$33,0)","v":0},{"$f":"IF(AND(Tehniline!$B$33,Tehniline!$B45),-'Lehm ja ratsiooni tingimused'!$D$33,0)","v":0},{"$f":"IF(AND(Tehniline!$B$34,Tehniline!$B45),-'Lehm ja ratsiooni tingimused'!$D$33,0)","v":0},{"$f":"IF(AND(Tehniline!$B$35,Tehniline!$B45),-'Lehm ja ratsiooni tingimused'!$D$33,0)","v":0},{"$f":"IF(AND(Tehniline!$B$36,Tehniline!$B45),-'Lehm ja ratsiooni tingimused'!$D$33,0)","v":0},{"$f":"IF(AND(Tehniline!$B$37,Tehniline!$B45),-'Lehm ja ratsiooni tingimused'!$D$33,0)","v":0},{"$f":"IF(AND(Tehniline!$B$38,Tehniline!$B45),-'Lehm ja ratsiooni tingimused'!$D$33,0)","v":0},{"$f":"IF(AND(Tehniline!$B$39,Tehniline!$B45),-'Lehm ja ratsiooni tingimused'!$D$33,0)","v":0},{"$f":"IF(AND(Tehniline!$B$40,Tehniline!$B45),-'Lehm ja ratsiooni tingimused'!$D$33,0)","v":0},{"$f":"IF(AND(Tehniline!$B$41,Tehniline!$B45),-'Lehm ja ratsiooni tingimused'!$D$33,0)","v":0},{"$f":"IF(AND(Tehniline!$B$42,Tehniline!$B45),-'Lehm ja ratsiooni tingimused'!$D$33,0)","v":0},{"$f":"IF(AND(Tehniline!$B$43,Tehniline!$B45),-'Lehm ja ratsiooni tingimused'!$D$33,0)","v":0},{"$f":"IF(AND(Tehniline!$B$44,Tehniline!$B45),-'Lehm ja ratsiooni tingimused'!$D$33,0)","v":0},{"$f":"1-'Lehm ja ratsiooni tingimused'!$D$33","v":1},{"$f":"IF(AND(Tehniline!$B$46,Tehniline!$B45),-'Lehm ja ratsiooni tingimused'!$D$33,0)","v":0},{"$f":"IF(AND(Tehniline!$B$47,Tehniline!$B45),-'Lehm ja ratsiooni tingimused'!$D$33,0)","v":0},{"$f":"IF(AND(Tehniline!$B$48,Tehniline!$B45),-'Lehm ja ratsiooni tingimused'!$D$33,0)","v":0},{"$f":"IF(AND(Tehniline!$B$49,Tehniline!$B45),-'Lehm ja ratsiooni tingimused'!$D$33,0)","v":0},{"$f":"IF(AND(Tehniline!$B$50,Tehniline!$B45),-'Lehm ja ratsiooni tingimused'!$D$33,0)","v":0},{"$f":"IF(AND(Tehniline!$B$51,Tehniline!$B45),-'Lehm ja ratsiooni tingimused'!$D$33,0)","v":0}]
[null,"Teraviljad",null,null,null,null,null,null,null,0,null,0,null,null,null,null,null,null,null,null,null,null,1,-0.5,{"$f":"0-'Lehm ja ratsiooni tingimused'!$D$32","v":-0.5},null,null,null,null,null,null,null,null,null,null,null,null,null,null,null,null,null,null,null,null,null,null,{"$f":"IF(AND(Tehniline!$B$32,Tehniline!$B46),-'Lehm ja ratsiooni tingimused'!$D$33,0)","v":0},{"$f":"IF(AND(Tehniline!$B$33,Tehniline!$B46),-'Lehm ja ratsiooni tingimused'!$D$33,0)","v":0},{"$f":"IF(AND(Tehniline!$B$34,Tehniline!$B46),-'Lehm ja ratsiooni tingimused'!$D$33,0)","v":0},{"$f":"IF(AND(Tehniline!$B$35,Tehniline!$B46),-'Lehm ja ratsiooni tingimused'!$D$33,0)","v":0},{"$f":"IF(AND(Tehniline!$B$36,Tehniline!$B46),-'Lehm ja ratsiooni tingimused'!$D$33,0)","v":0},{"$f":"IF(AND(Tehniline!$B$37,Tehniline!$B46),-'Lehm ja ratsiooni tingimused'!$D$33,0)","v":0},{"$f":"IF(AND(Tehniline!$B$38,Tehniline!$B46),-'Lehm ja ratsiooni tingimused'!$D$33,0)","v":0},{"$f":"IF(AND(Tehniline!$B$39,Tehniline!$B46),-'Lehm ja ratsiooni tingimused'!$D$33,0)","v":0},{"$f":"IF(AND(Tehniline!$B$40,Tehniline!$B46),-'Lehm ja ratsiooni tingimused'!$D$33,0)","v":0},{"$f":"IF(AND(Tehniline!$B$41,Tehniline!$B46),-'Lehm ja ratsiooni tingimused'!$D$33,0)","v":0},{"$f":"IF(AND(Tehniline!$B$42,Tehniline!$B46),-'Lehm ja ratsiooni tingimused'!$D$33,0)","v":0},{"$f":"IF(AND(Tehniline!$B$43,Tehniline!$B46),-'Lehm ja ratsiooni tingimused'!$D$33,0)","v":0},{"$f":"IF(AND(Tehniline!$B$44,Tehniline!$B46),-'Lehm ja ratsiooni tingimused'!$D$33,0)","v":0},{"$f":"IF(AND(Tehniline!$B$45,Tehniline!$B46),-'Lehm ja ratsiooni tingimused'!$D$33,0)","v":0},{"$f":"1-'Lehm ja ratsiooni tingimused'!$D$33","v":1},{"$f":"IF(AND(Tehniline!$B$47,Tehniline!$B46),-'Lehm ja ratsiooni tingimused'!$D$33,0)","v":0},{"$f":"IF(AND(Tehniline!$B$48,Tehniline!$B46),-'Lehm ja ratsiooni tingimused'!$D$33,0)","v":0},{"$f":"IF(AND(Tehniline!$B$49,Tehniline!$B46),-'Lehm ja ratsiooni tingimused'!$D$33,0)","v":0},{"$f":"IF(AND(Tehniline!$B$50,Tehniline!$B46),-'Lehm ja ratsiooni tingimused'!$D$33,0)","v":0},{"$f":"IF(AND(Tehniline!$B$51,Tehniline!$B46),-'Lehm ja ratsiooni tingimused'!$D$33,0)","v":0}]
[null,"Teraviljad",null,null,null,null,null,null,null,0,null,0,null,null,null,null,null,null,null,null,null,null,1,-0.5,{"$f":"0-'Lehm ja ratsiooni tingimused'!$D$32","v":-0.5},null,null,null,null,null,null,null,null,null,null,null,null,null,null,null,null,null,null,null,null,null,null,{"$f":"IF(AND(Tehniline!$B$32,Tehniline!$B47),-'Lehm ja ratsiooni tingimused'!$D$33,0)","v":0},{"$f":"IF(AND(Tehniline!$B$33,Tehniline!$B47),-'Lehm ja ratsiooni tingimused'!$D$33,0)","v":0},{"$f":"IF(AND(Tehniline!$B$34,Tehniline!$B47),-'Lehm ja ratsiooni tingimused'!$D$33,0)","v":0},{"$f":"IF(AND(Tehniline!$B$35,Tehniline!$B47),-'Lehm ja ratsiooni tingimused'!$D$33,0)","v":0},{"$f":"IF(AND(Tehniline!$B$36,Tehniline!$B47),-'Lehm ja ratsiooni tingimused'!$D$33,0)","v":0},{"$f":"IF(AND(Tehniline!$B$37,Tehniline!$B47),-'Lehm ja ratsiooni tingimused'!$D$33,0)","v":0},{"$f":"IF(AND(Tehniline!$B$38,Tehniline!$B47),-'Lehm ja ratsiooni tingimused'!$D$33,0)","v":0},{"$f":"IF(AND(Tehniline!$B$39,Tehniline!$B47),-'Lehm ja ratsiooni tingimused'!$D$33,0)","v":0},{"$f":"IF(AND(Tehniline!$B$40,Tehniline!$B47),-'Lehm ja ratsiooni tingimused'!$D$33,0)","v":0},{"$f":"IF(AND(Tehniline!$B$41,Tehniline!$B47),-'Lehm ja ratsiooni tingimused'!$D$33,0)","v":0},{"$f":"IF(AND(Tehniline!$B$42,Tehniline!$B47),-'Lehm ja ratsiooni tingimused'!$D$33,0)","v":0},{"$f":"IF(AND(Tehniline!$B$43,Tehniline!$B47),-'Lehm ja ratsiooni tingimused'!$D$33,0)","v":0},{"$f":"IF(AND(Tehniline!$B$44,Tehniline!$B47),-'Lehm ja ratsiooni tingimused'!$D$33,0)","v":0},{"$f":"IF(AND(Tehniline!$B$45,Tehniline!$B47),-'Lehm ja ratsiooni tingimused'!$D$33,0)","v":0},{"$f":"IF(AND(Tehniline!$B$46,Tehniline!$B47),-'Lehm ja ratsiooni tingimused'!$D$33,0)","v":0},{"$f":"1-'Lehm ja ratsiooni tingimused'!$D$33","v":1},{"$f":"IF(AND(Tehniline!$B$48,Tehniline!$B47),-'Lehm ja ratsiooni tingimused'!$D$33,0)","v":0},{"$f":"IF(AND(Tehniline!$B$49,Tehniline!$B47),-'Lehm ja ratsiooni tingimused'!$D$33,0)","v":0},{"$f":"IF(AND(Tehniline!$B$50,Tehniline!$B47),-'Lehm ja ratsiooni tingimused'!$D$33,0)","v":0},{"$f":"IF(AND(Tehniline!$B$51,Tehniline!$B47),-'Lehm ja ratsiooni tingimused'!$D$33,0)","v":0}]
[null,"Nisu","Nisukliid 265-24",0.15,0.86,11.2,97,92,18,18,1.4,{"$f":"K60","v":1.4},11,167,null,600,null,null,null,null,null,null,1,-0.5,{"$f":"0-'Lehm ja ratsiooni tingimused'!$D$32","v":-0.5},null,null,null,null,null,null,null,null,null,null,null,null,null,null,null,null,null,null,null,null,null,null,{"$f":"IF(AND(Tehniline!$B$32,Tehniline!$B48),-'Lehm ja ratsiooni tingimused'!$D$33,0)","v":0},{"$f":"IF(AND(Tehniline!$B$33,Tehniline!$B48),-'Lehm ja ratsiooni tingimused'!$D$33,0)","v":0},{"$f":"IF(AND(Tehniline!$B$34,Tehniline!$B48),-'Lehm ja ratsiooni tingimused'!$D$33,0)","v":0},{"$f":"IF(AND(Tehniline!$B$35,Tehniline!$B48),-'Lehm ja ratsiooni tingimused'!$D$33,0)","v":0},{"$f":"IF(AND(Tehniline!$B$36,Tehniline!$B48),-'Lehm ja ratsiooni tingimused'!$D$33,0)","v":0},{"$f":"IF(AND(Tehniline!$B$37,Tehniline!$B48),-'Lehm ja ratsiooni tingimused'!$D$33,0)","v":0},{"$f":"IF(AND(Tehniline!$B$38,Tehniline!$B48),-'Lehm ja ratsiooni tingimused'!$D$33,0)","v":0},{"$f":"IF(AND(Tehniline!$B$39,Tehniline!$B48),-'Lehm ja ratsiooni tingimused'!$D$33,0)","v":0},{"$f":"IF(AND(Tehniline!$B$40,Tehniline!$B48),-'Lehm ja ratsiooni tingimused'!$D$33,0)","v":0},{"$f":"IF(AND(Tehniline!$B$41,Tehniline!$B48),-'Lehm ja ratsiooni tingimused'!$D$33,0)","v":0},{"$f":"IF(AND(Tehniline!$B$42,Tehniline!$B48),-'Lehm ja ratsiooni tingimused'!$D$33,0)","v":0},{"$f":"IF(AND(Tehniline!$B$43,Tehniline!$B48),-'Lehm ja ratsiooni tingimused'!$D$33,0)","v":0},{"$f":"IF(AND(Tehniline!$B$44,Tehniline!$B48),-'Lehm ja ratsiooni tingimused'!$D$33,0)","v":0},{"$f":"IF(AND(Tehniline!$B$45,Tehniline!$B48),-'Lehm ja ratsiooni tingimused'!$D$33,0)","v":0},{"$f":"IF(AND(Tehniline!$B$46,Tehniline!$B48),-'Lehm ja ratsiooni tingimused'!$D$33,0)","v":0},{"$f":"IF(AND(Tehniline!$B$47,Tehniline!$B49),-'Lehm ja ratsiooni tingimused'!$D$33,0)","v":0},{"$f":"1-'Lehm ja ratsiooni tingimused'!$D$33","v":1},{"$f":"IF(AND(Tehniline!$B$49,Tehniline!$B48),-'Lehm ja ratsiooni tingimused'!$D$33,0)","v":0},{"$f":"IF(AND(Tehniline!$B$50,Tehniline!$B48),-'Lehm ja ratsiooni tingimused'!$D$33,0)","v":0},{"$f":"IF(AND(Tehniline!$B$51,Tehniline!$B48),-'Lehm ja ratsiooni tingimused'!$D$33,0)","v":0},null,null,null,null,null,43,null,null,null,65]
[null,"Nisu","Nisu 265-20/21",0.17699999999999999,0.86,13.8,25,106,-28,-28,0.6,0.6,3.8,146,null,650,null,null,null,null,null,null,1,-0.5,{"$f":"1-'Lehm ja ratsiooni tingimused'!D32","v":0.5},null,null,null,null,null,null,null,null,null,null,null,null,null,null,null,null,null,null,null,null,null,null,{"$f":"IF(AND(Tehniline!$B$32,Tehniline!$B49),-'Lehm ja ratsiooni tingimused'!$D$33,0)","v":0},{"$f":"IF(AND(Tehniline!$B$33,Tehniline!$B49),-'Lehm ja ratsiooni tingimused'!$D$33,0)","v":0},{"$f":"IF(AND(Tehniline!$B$34,Tehniline!$B49),-'Lehm ja ratsiooni tingimused'!$D$33,0)","v":0},{"$f":"IF(AND(Tehniline!$B$35,Tehniline!$B49),-'Lehm ja ratsiooni tingimused'!$D$33,0)","v":0},{"$f":"IF(AND(Tehniline!$B$36,Tehniline!$B49),-'Lehm ja ratsiooni tingimused'!$D$33,0)","v":0},{"$f":"IF(AND(Tehniline!$B$37,Tehniline!$B49),-'Lehm ja ratsiooni tingimused'!$D$33,0)","v":0},{"$f":"IF(AND(Tehniline!$B$38,Tehniline!$B49),-'Lehm ja ratsiooni tingimused'!$D$33,0)","v":0},{"$f":"IF(AND(Tehniline!$B$39,Tehniline!$B49),-'Lehm ja ratsiooni tingimused'!$D$33,0)","v":0},{"$f":"IF(AND(Tehniline!$B$40,Tehniline!$B49),-'Lehm ja ratsiooni tingimused'!$D$33,0)","v":0},{"$f":"IF(AND(Tehniline!$B$41,Tehniline!$B49),-'Lehm ja ratsiooni tingimused'!$D$33,0)","v":0},{"$f":"IF(AND(Tehniline!$B$42,Tehniline!$B49),-'Lehm ja ratsiooni tingimused'!$D$33,0)","v":0},{"$f":"IF(AND(Tehniline!$B$43,Tehniline!$B49),-'Lehm ja ratsiooni tingimused'!$D$33,0)","v":0},{"$f":"IF(AND(Tehniline!$B$44,Tehniline!$B49),-'Lehm ja ratsiooni tingimused'!$D$33,0)","v":0},{"$f":"IF(AND(Tehniline!$B$45,Tehniline!$B49),-'Lehm ja ratsiooni tingimused'!$D$33,0)","v":0},{"$f":"IF(AND(Tehniline!$B$46,Tehniline!$B49),-'Lehm ja ratsiooni tingimused'!$D$33,0)","v":0},{"$f":"IF(AND(Tehniline!$B$47,Tehniline!$B50),-'Lehm ja ratsiooni tingimused'!$D$33,0)","v":0},{"$f":"IF(AND(Tehniline!$B$48,Tehniline!$B49),-'Lehm ja ratsiooni tingimused'!$D$33,0)","v":0},{"$f":"1-'Lehm ja ratsiooni tingimused'!$D$33","v":1},{"$f":"IF(AND(Tehniline!$B$50,Tehniline!$B49),-'Lehm ja ratsiooni tingimused'!$D$33,0)","v":0},{"$f":"IF(AND(Tehniline!$B$51,Tehniline!$B49),-'Lehm ja ratsiooni tingimused'!$D$33,0)","v":0},null,null,null,null,null,26,null,null,null,90]
[null,"Nisu",null,null,null,null,null,null,null,0,null,0,null,null,null,null,null,null,null,null,null,null,1,-0.5,{"$f":"1-'Lehm ja ratsiooni tingimused'!D33","v":1},null,null,null,null,null,null,null,null,null,null,null,null,null,null,null,null,null,null,null,null,null,null,{"$f":"IF(AND(Tehniline!$B$32,Tehniline!$B50),-'Lehm ja ratsiooni tingimused'!$D$33,0)","v":0},{"$f":"IF(AND(Tehniline!$B$33,Tehniline!$B50),-'Lehm ja ratsiooni tingimused'!$D$33,0)","v":0},{"$f":"IF(AND(Tehniline!$B$34,Tehniline!$B50),-'Lehm ja ratsiooni tingimused'!$D$33,0)","v":0},{"$f":"IF(AND(Tehniline!$B$35,Tehniline!$B50),-'Lehm ja ratsiooni tingimused'!$D$33,0)","v":0},{"$f":"IF(AND(Tehniline!$B$36,Tehniline!$B50),-'Lehm ja ratsiooni tingimused'!$D$33,0)","v":0},{"$f":"IF(AND(Tehniline!$B$37,Tehniline!$B50),-'Lehm ja ratsiooni tingimused'!$D$33,0)","v":0},{"$f":"IF(AND(Tehniline!$B$38,Tehniline!$B50),-'Lehm ja ratsiooni tingimused'!$D$33,0)","v":0},{"$f":"IF(AND(Tehniline!$B$39,Tehniline!$B50),-'Lehm ja ratsiooni tingimused'!$D$33,0)","v":0},{"$f":"IF(AND(Tehniline!$B$40,Tehniline!$B50),-'Lehm ja ratsiooni tingimused'!$D$33,0)","v":0},{"$f":"IF(AND(Tehniline!$B$41,Tehniline!$B50),-'Lehm ja ratsiooni tingimused'!$D$33,0)","v":0},{"$f":"IF(AND(Tehniline!$B$42,Tehniline!$B50),-'Lehm ja ratsiooni tingimused'!$D$33,0)","v":0},{"$f":"IF(AND(Tehniline!$B$43,Tehniline!$B50),-'Lehm ja ratsiooni tingimused'!$D$33,0)","v":0},{"$f":"IF(AND(Tehniline!$B$44,Tehniline!$B50),-'Lehm ja ratsiooni tingimused'!$D$33,0)","v":0},{"$f":"IF(AND(Tehniline!$B$45,Tehniline!$B50),-'Lehm ja ratsiooni tingimused'!$D$33,0)","v":0},{"$f":"IF(AND(Tehniline!$B$46,Tehniline!$B50),-'Lehm ja ratsiooni tingimused'!$D$33,0)","v":0},{"$f":"IF(AND(Tehniline!$B$47,Tehniline!$B50),-'Lehm ja ratsiooni tingimused'!$D$33,0)","v":0},{"$f":"IF(AND(Tehniline!$B$48,Tehniline!$B50),-'Lehm ja ratsiooni tingimused'!$D$33,0)","v":0},{"$f":"IF(AND(Tehniline!$B$49,Tehniline!$B50),-'Lehm ja ratsiooni tingimused'!$D$33,0)","v":0},{"$f":"1-'Lehm ja ratsiooni tingimused'!$D$33","v":1},{"$f":"IF(AND(Tehniline!$B$51,Tehniline!$B50),-'Lehm ja ratsiooni tingimused'!$D$33,0)","v":0}]
[null,"Nisu",null,null,null,null,null,null,null,0,null,0,null,null,null,null,null,null,null,null,null,null,1,-0.5,{"$f":"1-'Lehm ja ratsiooni tingimused'!D34","v":1},null,null,null,null,null,null,null,null,null,null,null,null,null,null,null,null,null,null,null,null,null,null,{"$f":"IF(AND(Tehniline!$B$32,Tehniline!$B51),-'Lehm ja ratsiooni tingimused'!$D$33,0)","v":0},{"$f":"IF(AND(Tehniline!$B$33,Tehniline!$B51),-'Lehm ja ratsiooni tingimused'!$D$33,0)","v":0},{"$f":"IF(AND(Tehniline!$B$34,Tehniline!$B51),-'Lehm ja ratsiooni tingimused'!$D$33,0)","v":0},{"$f":"IF(AND(Tehniline!$B$35,Tehniline!$B51),-'Lehm ja ratsiooni tingimused'!$D$33,0)","v":0},{"$f":"IF(AND(Tehniline!$B$36,Tehniline!$B51),-'Lehm ja ratsiooni tingimused'!$D$33,0)","v":0},{"$f":"IF(AND(Tehniline!$B$37,Tehniline!$B51),-'Lehm ja ratsiooni tingimused'!$D$33,0)","v":0},{"$f":"IF(AND(Tehniline!$B$38,Tehniline!$B51),-'Lehm ja ratsiooni tingimused'!$D$33,0)","v":0},{"$f":"IF(AND(Tehniline!$B$39,Tehniline!$B51),-'Lehm ja ratsiooni tingimused'!$D$33,0)","v":0},{"$f":"IF(AND(Tehniline!$B$40,Tehniline!$B51),-'Lehm ja ratsiooni tingimused'!$D$33,0)","v":0},{"$f":"IF(AND(Tehniline!$B$41,Tehniline!$B51),-'Lehm ja ratsiooni tingimused'!$D$33,0)","v":0},{"$f":"IF(AND(Tehniline!$B$42,Tehniline!$B51),-'Lehm ja ratsiooni tingimused'!$D$33,0)","v":0},{"$f":"IF(AND(Tehniline!$B$43,Tehniline!$B51),-'Lehm ja ratsiooni tingimused'!$D$33,0)","v":0},{"$f":"IF(AND(Tehniline!$B$44,Tehniline!$B51),-'Lehm ja ratsiooni tingimused'!$D$33,0)","v":0},{"$f":"IF(AND(Tehniline!$B$45,Tehniline!$B51),-'Lehm ja ratsiooni tingimused'!$D$33,0)","v":0},{"$f":"IF(AND(Tehniline!$B$46,Tehniline!$B51),-'Lehm ja ratsiooni tingimused'!$D$33,0)","v":0},{"$f":"IF(AND(Tehniline!$B$47,Tehniline!$B51),-'Lehm ja ratsiooni tingimused'!$D$33,0)","v":0},{"$f":"IF(AND(Tehniline!$B$48,Tehniline!$B51),-'Lehm ja ratsiooni tingimused'!$D$33,0)","v":0},{"$f":"IF(AND(Tehniline!$B$49,Tehniline!$B51),-'Lehm ja ratsiooni tingimused'!$D$33,0)","v":0},{"$f":"IF(AND(Tehniline!$B$50,Tehniline!$B51),-'Lehm ja ratsiooni tingimused'!$D$33,0)","v":0},{"$f":"1-'Lehm ja ratsiooni tingimused'!$D$33","v":1}]
[null,"Mineraalid","Mineraal1",0.05,0.99,null,null,null,null,0,140,140,40,null,null,null,null,null,null,null,null,null,null,null,null,null,null,1]
[null,"Mineraalid","Mineraal2",0.05,0.99,null,null,null,null,0,150,150,75,null,null,null,null,null,null,null,null,null,null,null,null,null,null,1]
[null,"Mineraalid","Lubjakivi",0.01,0.99,null,null,null,null,{"$f":"I66","v":0},360,360,null,null,null,null,null,null,null,null,null,null,null,null,null,null,null,null,1]
[null,"Mineraalid","Panto",0.95,0.99,null,null,null,null,0,185,185,40,null,null,null,null,null,null,null,null,null,null,null,null,null,1]
[null,"Mineraalid","Mineraal 3",0.72,0.99,null,null,null,null,0,175,175,75]
[null,"Mineraalid","Sooda",0.34300000000000003,0.99,null,null,null,null,0,null,0]
[null,"Mineraalid","Karbamiid",0.29499999999999998,0.99,null,null,null,2625,2625,null,0,null,2625]
[null,"Mineraalid","Mineraal 4",1.3149999999999999,0.99,null,null,null,null,0,175,175,20]
[null,"Mineraalid",null,null,null,null,null,null,null,0,null,0]
[null,"Rasv","Kaitstud rasv",1.1299999999999999,0.99,32,null,null,null,0,null,0,null,null,null,null,null,null,null,null,null,null,null,null,null,null,null,null,null,null,1]
[null,"Lisasööt1","lisasööt1",99,0.99,null,null,null,null,null,null,null,null,null,null,null,null,null,null,null,null,null,null,null,null,null,null,null,null,null,null,1]
[null,"Lisasööt1","Muljutud konserveeritud oder 255-22",0.15,0.65,12.9,68,102,-41,null,0.8,null,3.6,126,null,630,78,235,null,null,null,null,null,null,null,null,null,null,null,null,null,1,null,null,null,null,null,null,null,null,null,null,null,null,null,null,null,null,null,null,null,null,null,null,null,null,null,null,null,null,null,null,null,null,null,null,null,null,null,null,null,null,24,0.2,null,null,32]
[null,"Lisasööt1",null,null,null,null,null,null,null,{"$f":"I76","v":0},null,0,null,null,null,null,null,null,null,null,null,null,null,null,null,null,null,null,null,null,null,1]
[null,"Lisasööt1",null,null,null,null,null,null,null,0,null,0,null,null,null,null,null,null,null,null,null,null,null,null,null,null,null,null,null,null,null,1]
[null,"Lisasööt1",null,null,null,null,null,null,null,0,null,0,null,null,null,null,null,null,null,null,null,null,null,null,null,null,null,null,null,null,null,1]
[null,"Lisasööt2","sööda nimi 2",null,null,null,null,null,null,0,null,0,null,null,null,null,null,null,null,null,null,null,null,null,null,null,null,null,null,null,null,null,1]
[null,"Lisasööt2",null,null,null,null,null,null,null,0,null,0,null,null,null,null,null,null,null,null,null,null,null,null,null,null,null,null,null,null,null,null,1]
[null,"Lisasööt2",null,null,null,null,null,null,null,0,null,0,null,null,null,null,null,null,null,null,null,null,null,null,null,null,null,null,null,null,null,null,1]
[null,"Lisasööt2",null,null,null,null,null,null,null,0,null,0,null,null,null,null,null,null,null,null,null,null,null,null,null,null,null,null,null,null,null,null,1]
[null,"Lisasööt2",null,null,null,null,null,null,null,0,null,0,null,null,null,null,null,null,null,null,null,null,null,null,null,null,null,null,null,null,null,null,1]
[null,"Vesi","Töötlemata joogivesi",1E-3,0.01,null,null,null,null,0,null,0,null,null,null,null,null,null,null,null,null,null,null,null,null,null,null,null,null,null,null,null,null,null,null,null,null,null,null,null,null,null,null,null,null,null,1]

{"sheet":"Kontsentratsioonimäärad","index":2,"n_rows":41,"n_cols":24,"rows_kept":41,"cut":false,"hidden":false,"merged":[[31,23,39,23],[21,23,29,23],[11,23,19,23],[0,23,9,23]]}
["Piimatoodang, kg/päev",20,22,24,26,28,30,32,34,36,38,40,42,44,46,48,50,52,54,56,58,60,null,"0…30 päeva"]
["ME, MJ min",10.5,10.6,10.7,10.8,10.9,11,11.05,11.1,11.15,11.200000000000001,11.250000000000002,11.300000000000002,11.350000000000003,11.400000000000004,11.450000000000005,11.500000000000005,11.550000000000006,11.600000000000007,11.650000000000007,11.700000000000008,11.750000000000009]
["TK, g/kg KA min",140,140,140,140,140,140,140,140,140,140,140,140,140,140,140,140,140,140,140,140,140]
["MP, g",92,93,94,95,96,97,98,99,99.25,99.5,99.75,100,100.25,100.5,100.75,101,101.25,101.5,101.75,102,102]
["VPB, min, g",0,0,0,0,0,0,0,0,0,0,0,0,0,0,0,0,0,0,0,0,0]
["VPB,max, g",5,5,5,5,5,5,5,5,5,5,5,5,5,5,5,5,5,5,5,5,5]
["Ca, g min",7,7.0750000000000002,7.15,7.2250000000000005,7.3000000000000007,7.3750000000000009,7.4500000000000011,7.5250000000000012,7.6000000000000014,7.6750000000000016,7.7500000000000018,7.825000000000002,7.9000000000000021,7.9750000000000023,8.0500000000000025,8.1250000000000018,8.2000000000000011,8.2750000000000004,8.35,8.4249999999999989,8.4999999999999982]
["Ca, g max",8,8.0749999999999993,8.1499999999999986,8.2249999999999979,8.2999999999999972,8.3749999999999964,8.4499999999999957,8.524999999999995,8.5999999999999943,8.6749999999999936,8.7499999999999929,8.8249999999999922,8.8999999999999915,8.9749999999999908,9.0499999999999901,9.1249999999999893,9.1999999999999886,9.2749999999999879,9.3499999999999872,9.4249999999999865,9.4999999999999858]
["P, g",4,4.05,4.0999999999999996,4.1499999999999995,4.1999999999999993,4.2499999999999991,4.2999999999999989,4.3499999999999988,4.3999999999999986,4.4499999999999984,4.4999999999999982,4.549999999999998,4.5999999999999979,4.6499999999999977,4.6999999999999975,4.7499999999999973,4.7999999999999972,4.849999999999997,4.8999999999999968,4.9499999999999966,4.9999999999999964]
["Proteiin, g",158,159,160,161,162,163,164,165,165,165,165,165,165,165,166,167,168,169,170,170,170]
["Vaba - reserveering"]
["ME, MJ min",11,11.1,11.2,11.3,11.4,11.5,11.55,11.6,11.654999999999999,11.709999999999999,11.764999999999999,11.819999999999999,11.874999999999998,11.929999999999998,11.984999999999998,12.039999999999997,12.094999999999997,12.149999999999997,12.2,12.25,12.3,null,"Laktatsiooni I pool"]
["TK, g/kg KA min",140,140,140,140,140,140,140,140,140,140,140,139.5,139,138.5,138,137.5,137,136.5,136,135.5,135]
["MP, g",95,96,97,98,99,100,101,102,102.25,102.5,102.75,103,103.25,103.5,103.75,104,104.25,104.5,104.75,105,105]
["VPB, min, g",0,0,0,0,0,0,0,0,0,0,0,0,0,0,0,0,0,0,0,0,0]
["VPB,max, g",5,5,5,5,5,5,5,5,5,5,5,5,5,5,5,5,5,5,5,5,5]
["Ca, g min",7,7.0750000000000002,7.15,7.2250000000000005,7.3000000000000007,7.3750000000000009,7.4500000000000011,7.5250000000000012,7.6000000000000014,7.6750000000000016,7.7500000000000018,7.825000000000002,7.9000000000000021,7.9750000000000023,8.0500000000000025,8.1250000000000018,8.2000000000000011,8.2750000000000004,8.35,8.4249999999999989,8.4999999999999982]
["Ca, g max",8,8.0749999999999993,8.1499999999999986,8.2249999999999979,8.2999999999999972,8.3749999999999964,8.4499999999999957,8.524999999999995,8.5999999999999943,8.6749999999999936,8.7499999999999929,8.8249999999999922,8.8999999999999915,8.9749999999999908,9.0499999999999901,9.1249999999999893,9.1999999999999886,9.2749999999999879,9.3499999999999872,9.4249999999999865,9.4999999999999858]
["P, g",4,4.05,4.0999999999999996,4.1499999999999995,4.1999999999999993,4.2499999999999991,4.2999999999999989,4.3499999999999988,4.3999999999999986,4.4499999999999984,4.4999999999999982,4.549999999999998,4.5999999999999979,4.6499999999999977,4.6999999999999975,4.7499999999999973,4.7999999999999972,4.849999999999997,4.8999999999999968,4.9499999999999966,4.9999999999999964]
["Proteiin, g",163,164,165,166,167,168,169,170,170,170,170,170,170,170,171,172,173,174,175,175,175]
["Vaba - reserveering"]
["ME, MJ min",10,10.15,10.3,10.45,10.6,10.75,10.85,10.95,10.989999999999998,11.029999999999998,11.069999999999997,11.109999999999996,11.149999999999995,11.189999999999994,11.229999999999993,11.269999999999992,11.3,11.35,11.4,11.45,11.5,null,"Laktatsiooni II pool"]
["TK, g/kg KA min",170,169,168,167,166,165,164,163,162,161,160,159,158,157,156,155,154,153,152,151,150]
["MP, g",84,85,86,87,88,89,90,91,91.82,92.639999999999986,93.45999999999998,94.279999999999973,95.099999999999966,95.919999999999959,96.739999999999952,97.559999999999945,98.379999999999939,99.199999999999932,100.01999999999992,100,100]
["VPB, min, g",0,0,0,0,0,0,0,0,0,0,0,0,0,0,0,0,0,0,0,0,0]
["VPB,max, g",5,5,5,5,5,5,5,5,5,5,5,5,5,5,5,5,5,5,5,5,5]
["Ca, g min",6,6.0750000000000002,6.15,6.2250000000000005,6.3000000000000007,6.3750000000000009,6.4500000000000011,6.5250000000000012,6.6000000000000014,6.6750000000000016,6.7500000000000018,6.825000000000002,6.9000000000000021,6.9750000000000023,7.0500000000000025,7.1250000000000027,7.2000000000000028,7.275000000000003,7.3500000000000032,7.4250000000000034,7.5000000000000036]
["Ca, g max",7,7.0750000000000002,7.15,7.2250000000000005,7.3000000000000007,7.3750000000000009,7.4500000000000011,7.5250000000000012,7.6000000000000014,7.6750000000000016,7.7500000000000018,7.825000000000002,7.9000000000000021,7.9750000000000023,8.0500000000000025,8.1250000000000018,8.2000000000000011,8.2750000000000004,8.35,8.4249999999999989,8.4999999999999982]
["P, g",3.8,3.8249999999999997,3.8499999999999996,3.8749999999999996,3.8999999999999995,3.9249999999999994,3.9499999999999993,3.9749999999999992,3.9999999999999991,4.0249999999999995,4.05,4.0750000000000002,4.1000000000000005,4.1250000000000009,4.1500000000000012,4.1750000000000016,4.200000000000002,4.2250000000000023,4.2500000000000027,4.275000000000003,4.3000000000000034]
["Proteiin, g",140,141.25,142.5,143.75,145,146.25,147.5,148.75,150,151.25,152.5,153.75,155,156.25,157.5,158.75,160,161.25,162.5,163.75,165]
["Vaba - reserveering",null,null,null,null,null,null,null,null,null,null,null,null,null,null,null,null,null,null,null,"   "]
["ME, MJ min",8.5,8.5,8.5,8.5,8.5,8.5,8.5,8.5,8.5,8.5,8.5,8.5,8.5,8.5,8.5,8.5,8.5,8.5,8.5,8.5,8.5,null,"Kinnislehmad"]
["TK, g/kg KA min",220,220,220,220,220,220,220,220,220,220,220,220,220,220,220,220,220,220,220,220,220]
["MP, g",70,70,70,70,70,70,70,70,70,70,70,70,70,70,70,70,70,70,70,70,70]
["VPB, min, g",-5,-5,-5,-5,-5,-5,-5,-5,-5,-5,-5,-5,-5,-5,-5,-5,-5,-5,-5,-5,-5]
["VPB,max, g",5,5,5,5,5,5,5,5,5,5,5,5,5,5,5,5,5,5,5,5,5]
["Ca, g min",4.5,4.5,4.5,4.5,4.5,4.5,4.5,4.5,4.5,4.5,4.5,4.5,4.5,4.5,4.5,4.5,4.5,4.5,4.5,4.5,4.5]
["Ca, g max",5.5,5.5,5.5,5.5,5.5,5.5,5.5,5.5,5.5,5.5,5.5,5.5,5.5,5.5,5.5,5.5,5.5,5.5,5.5,5.5,5.5]
["P, g",3,3,3,3,3,3,3,3,3,3,3,3,3,3,3,3,3,3,3,3,3]
["Proteiin, g",125,125,125,125,125,125,125,125,125,125,125,125,125,125,125,125,125,125,125,125,125]
["Vaba - reserveering"]

{"sheet":"Optimaalne ratsioon","index":3,"n_rows":50,"n_cols":22,"rows_kept":50,"cut":false,"hidden":false,"merged":[[0,7,0,21],[29,7,29,8],[29,10,29,11],[29,14,29,15]]}
[null,null,null,null,null,null,null,"Ratsioonis"]
[null,"Söödad","Kogus, kg","Hind, €/kg","Maksumus, €",null,"Kogus","KA, kg","TP, g","T+S, g","MP, g","VPB, g","ME, MJ","TR, g","TK, g","Ca, g","P, g","Na, g","K, g","Mg, g","KAB, mekv","Hind"]
[null,"Lutsernisilo  TÕ 120-12-60",-1.4524788776189426E-15,0.03,{"$f":"C3*D3","v":-4.3574366328568273E-17},null,{"$f":"Tehniline!CZ3","v":-1.4524788776189426E-15},-5.083676071666299E-16,{"$f":"Tehniline!DK3","v":-7.4730038253494589E-14},{"$f":"Tehniline!DB3","v":-1.2709190179165747E-14},{"$f":"Tehniline!DF3","v":-3.4568997287330836E-14},{"$f":"Tehniline!DG3","v":-1.5251028214998896E-14},{"$f":"Tehniline!DE3","v":-4.2702879001996913E-15},{"$f":"Tehniline!DL3","v":-1.4742660607832268E-14},{"$f":"Tehniline!DH3","v":-1.6877804557932113E-13},{"$f":"Tehniline!DC3","v":-7.8796979110827631E-15},{"$f":"Tehniline!DD3","v":-1.3217557786332377E-15},{"$f":"Tehniline!DM3","v":-2.0334704286665198E-16},{"$f":"Tehniline!DN3","v":0},{"$f":"Tehniline!DO3","v":0},{"$f":"Tehniline!DP3","v":-7.9305346717994258E-14},{"$f":"G3*D3","v":-4.3574366328568273E-17}]
[null,"V auk - rohusilo",2.4544473695641013E-13,0.03,{"$f":"C4*D4","v":7.3633421086923044E-15},null,{"$f":"Tehniline!CZ4","v":2.4544473695641013E-13},6.2097518449971764E-14,{"$f":"Tehniline!DK4","v":5.9613617711972889E-12},{"$f":"Tehniline!DB4","v":1.5524379612492941E-12},{"$f":"Tehniline!DF4","v":4.4710213283979667E-12},{"$f":"Tehniline!DG4","v":1.6766329981492377E-12},{"$f":"Tehniline!DE4","v":5.4645816235975161E-13},{"$f":"Tehniline!DL4","v":2.2355106641989834E-12},{"$f":"Tehniline!DH4","v":1.9374425756391189E-11},{"$f":"Tehniline!DC4","v":6.7686295110469223E-13},{"$f":"Tehniline!DD4","v":2.1113156272990398E-13},{"$f":"Tehniline!DM4","v":3.1048759224985882E-14},{"$f":"Tehniline!DN4","v":0},{"$f":"Tehniline!DO4","v":0},{"$f":"Tehniline!DP4","v":1.7387305165992094E-11},{"$f":"G4*D4","v":7.3633421086923044E-15}]
[null,"Uus rohusilo",17.516656708824321,0.03,0.52549970126472967,null,{"$f":"Tehniline!CZ5","v":17.516656708824321},6.4811629822649985,{"$f":"Tehniline!DK5","v":810.1453727831248},{"$f":"Tehniline!DB5","v":162.02907455662498},{"$f":"Tehniline!DF5","v":492.56838665213991},{"$f":"Tehniline!DG5","v":-32.405814911324995},{"$f":"Tehniline!DE5","v":61.571048331517488},{"$f":"Tehniline!DL5","v":246.28419332606995},{"$f":"Tehniline!DH5","v":1341.6007373288546},{"$f":"Tehniline!DC5","v":36.294512700683988},{"$f":"Tehniline!DD5","v":18.795372648568495},{"$f":"Tehniline!DM5","v":3.2405814911324993},{"$f":"Tehniline!DN5","v":0},{"$f":"Tehniline!DO5","v":0},{"$f":"Tehniline!DP5","v":1814.7256350341995},0.52549970126472967]
[null,"VII auk - maisisilo",0,0.03,0,null,{"$f":"Tehniline!CZ6","v":0},0,{"$f":"Tehniline!DK6","v":0},{"$f":"Tehniline!DB6","v":0},{"$f":"Tehniline!DF6","v":0},{"$f":"Tehniline!DG6","v":0},{"$f":"Tehniline!DE6","v":0},{"$f":"Tehniline!DL6","v":0},{"$f":"Tehniline!DH6","v":0},{"$f":"Tehniline!DC6","v":0},{"$f":"Tehniline!DD6","v":0},{"$f":"Tehniline!DM6","v":0},{"$f":"Tehniline!DN6","v":0},{"$f":"Tehniline!DO6","v":0},{"$f":"Tehniline!DP6","v":0},0]
[null,"Uus maisisilo",4.3791641772061149,0.03,0.13137492531618344,null,{"$f":"Tehniline!CZ7","v":4.3791641772061149},1.2305451337949185,{"$f":"Tehniline!DK7","v":108.28797177395282},{"$f":"Tehniline!DB7","v":369.16354013847553},{"$f":"Tehniline!DF7","v":94.75197530220872},{"$f":"Tehniline!DG7","v":-52.913440753181497},{"$f":"Tehniline!DE7","v":12.797669391467153},{"$f":"Tehniline!DL7","v":33.224718612462802},{"$f":"Tehniline!DH7","v":315.01955425149913},{"$f":"Tehniline!DC7","v":6.0296711555951008},{"$f":"Tehniline!DD7","v":3.3224718612462802},{"$f":"Tehniline!DM7","v":0.61527256689745924},{"$f":"Tehniline!DN7","v":0},{"$f":"Tehniline!DO7","v":0},{"$f":"Tehniline!DP7","v":173.50686386508352},0.13137492531618344]
[null,"Hein kõrreliste kultuurrohumaa  030-15-60",0.99999999999999989,0.04,3.9999999999999994E-2,null,{"$f":"Tehniline!CZ8","v":0.99999999999999989},0.82999999999999985,{"$f":"Tehniline!DK8","v":66.399999999999991},{"$f":"Tehniline!DB8","v":0},{"$f":"Tehniline!DF8","v":57.269999999999989},{"$f":"Tehniline!DG8","v":-32.369999999999997},{"$f":"Tehniline!DE8","v":6.9719999999999986},{"$f":"Tehniline!DL8","v":19.089999999999996},{"$f":"Tehniline!DH8","v":278.04999999999995},{"$f":"Tehniline!DC8","v":4.3989999999999991},{"$f":"Tehniline!DD8","v":1.9089999999999996},{"$f":"Tehniline!DM8","v":0.33199999999999996},{"$f":"Tehniline!DN8","v":0},{"$f":"Tehniline!DO8","v":0},{"$f":"Tehniline!DP8","v":160.18999999999997},3.9999999999999994E-2]
[null,"Odrapõhk 255-16-0",0,0.08,0,null,{"$f":"Tehniline!CZ9","v":0},0,{"$f":"Tehniline!DK9","v":0},{"$f":"Tehniline!DB9","v":0},{"$f":"Tehniline!DF9","v":0},{"$f":"Tehniline!DG9","v":0},{"$f":"Tehniline!DE9","v":0},{"$f":"Tehniline!DL9","v":0},{"$f":"Tehniline!DH9","v":0},{"$f":"Tehniline!DC9","v":0},{"$f":"Tehniline!DD9","v":0},{"$f":"Tehniline!DM9","v":0},{"$f":"Tehniline!DN9","v":0},{"$f":"Tehniline!DO9","v":0},{"$f":"Tehniline!DP9","v":0},0]
[null,"Rapsikook  350-28",1.3176729165010233,0.27,0.35577168745527632,null,{"$f":"Tehniline!CZ10","v":1.3176729165010233},1.185905624850921,{"$f":"Tehniline!DK10","v":405.57972369901501},{"$f":"Tehniline!DB10","v":142.30867498211052},{"$f":"Tehniline!DF10","v":190.93080560099827},{"$f":"Tehniline!DG10","v":164.84088185427802},{"$f":"Tehniline!DE10","v":15.891135373002342},{"$f":"Tehniline!DL10","v":149.42410873121605},{"$f":"Tehniline!DH10","v":145.86639185666328},{"$f":"Tehniline!DC10","v":9.8430166862626454},{"$f":"Tehniline!DD10","v":12.452009060934671},{"$f":"Tehniline!DM10","v":0.1185905624850921},{"$f":"Tehniline!DN10","v":0},{"$f":"Tehniline!DO10","v":0},{"$f":"Tehniline!DP10","v":-693.75479053778884},0.35577168745527632]
[null,"Sojašrott 310-29",0.86243967697873725,0.47,0.40534664818000649,null,{"$f":"Tehniline!CZ11","v":0.86243967697873725},0.75894691574128881,{"$f":"Tehniline!DK11","v":379.47345787064438},{"$f":"Tehniline!DB11","v":197.3261980927351},{"$f":"Tehniline!DF11","v":148.75359548529261},{"$f":"Tehniline!DG11","v":151.78938314825777},{"$f":"Tehniline!DE11","v":10.701151511952173},{"$f":"Tehniline!DL11","v":12.90209756760191},{"$f":"Tehniline!DH11","v":59.956806343561816},{"$f":"Tehniline!DC11","v":2.5804195135203818},{"$f":"Tehniline!DD11","v":5.540312484911408},{"$f":"Tehniline!DM11","v":0.15178938314825777},{"$f":"Tehniline!DN11","v":0},{"$f":"Tehniline!DO11","v":0},{"$f":"Tehniline!DP11","v":198.84409192421768},0.40534664818000649]
[null,"Oder  255-20/21",3.4656974204030488,0.15,0.51985461306045733,null,{"$f":"Tehniline!CZ12","v":3.4656974204030488},2.9804997815466221,{"$f":"Tehniline!DK12","v":372.56247269332778},{"$f":"Tehniline!DB12","v":1788.2998689279732},{"$f":"Tehniline!DF12","v":306.99147749930205},{"$f":"Tehniline!DG12","v":-131.14199038805137},{"$f":"Tehniline!DE12","v":38.746497160106088},{"$f":"Tehniline!DL12","v":65.570995194025684},{"$f":"Tehniline!DH12","v":178.82998689279734},{"$f":"Tehniline!DC12","v":2.3843998252372978},{"$f":"Tehniline!DD12","v":12.22004910434115},{"$f":"Tehniline!DM12","v":0.59609995630932444},{"$f":"Tehniline!DN12","v":0},{"$f":"Tehniline!DO12","v":0},{"$f":"Tehniline!DP12","v":56.629495849385819},0.51985461306045733]
[null,"Mais 260-20/21",8.8817841970012523E-16,0.2,1.7763568394002506E-16,null,{"$f":"Tehniline!CZ13","v":8.8817841970012523E-16},7.6383344094210769E-16,{"$f":"Tehniline!DK13","v":7.2564176889500234E-14},{"$f":"Tehniline!DB13","v":5.3468340865947539E-13},{"$f":"Tehniline!DF13","v":9.2423846353995034E-14},{"$f":"Tehniline!DG13","v":-7.638334409421077E-14},{"$f":"Tehniline!DE13","v":1.0846434861377929E-14},{"$f":"Tehniline!DL13","v":3.4372504842394849E-14},{"$f":"Tehniline!DH13","v":2.2151169787321124E-14},{"$f":"Tehniline!DC13","v":3.055333763768431E-16},{"$f":"Tehniline!DD13","v":2.3678836669205338E-15},{"$f":"Tehniline!DM13","v":7.6383344094210776E-17},{"$f":"Tehniline!DN13","v":0},{"$f":"Tehniline!DO13","v":0},{"$f":"Tehniline!DP13","v":9.1660012913052927E-15},1.7763568394002506E-16]
[null,"Nisu 265-20/21",0,0.17699999999999999,0,null,{"$f":"Tehniline!CZ14","v":0},0,{"$f":"Tehniline!DK14","v":0},{"$f":"Tehniline!DB14","v":0},{"$f":"Tehniline!DF14","v":0},{"$f":"Tehniline!DG14","v":0},{"$f":"Tehniline!DE14","v":0},{"$f":"Tehniline!DL14","v":0},{"$f":"Tehniline!DH14","v":0},{"$f":"Tehniline!DC14","v":0},{"$f":"Tehniline!DD14","v":0},{"$f":"Tehniline!DM14","v":0},{"$f":"Tehniline!DN14","v":0},{"$f":"Tehniline!DO14","v":0},{"$f":"Tehniline!DP14","v":0},0]
[null,"Mineraal2",0,0.05,0,null,{"$f":"Tehniline!CZ15","v":0},0,{"$f":"Tehniline!DK15","v":0},{"$f":"Tehniline!DB15","v":0},{"$f":"Tehniline!DF15","v":0},{"$f":"Tehniline!DG15","v":0},{"$f":"Tehniline!DE15","v":0},{"$f":"Tehniline!DL15","v":0},{"$f":"Tehniline!DH15","v":0},{"$f":"Tehniline!DC15","v":0},{"$f":"Tehniline!DD15","v":0},{"$f":"Tehniline!DM15","v":0},{"$f":"Tehniline!DN15","v":0},{"$f":"Tehniline!DO15","v":0},{"$f":"Tehniline!DP15","v":0},0]
[null,"Lubjakivi",9.3680153335307381E-2,0.01,9.3680153335307386E-4,null,{"$f":"Tehniline!CZ16","v":9.3680153335307381E-2},9.274335180195431E-2,{"$f":"Tehniline!DK16","v":0},{"$f":"Tehniline!DB16","v":0},{"$f":"Tehniline!DF16","v":0},{"$f":"Tehniline!DG16","v":0},{"$f":"Tehniline!DE16","v":0},{"$f":"Tehniline!DL16","v":0},{"$f":"Tehniline!DH16","v":0},{"$f":"Tehniline!DC16","v":33.387606648703553},{"$f":"Tehniline!DD16","v":0},{"$f":"Tehniline!DM16","v":0},{"$f":"Tehniline!DN16","v":0},{"$f":"Tehniline!DO16","v":0},{"$f":"Tehniline!DP16","v":0},9.3680153335307386E-4]
[null,"Mineraal 3",0,0.72,0,null,{"$f":"Tehniline!CZ17","v":0},0,{"$f":"Tehniline!DK17","v":0},{"$f":"Tehniline!DB17","v":0},{"$f":"Tehniline!DF17","v":0},{"$f":"Tehniline!DG17","v":0},{"$f":"Tehniline!DE17","v":0},{"$f":"Tehniline!DL17","v":0},{"$f":"Tehniline!DH17","v":0},{"$f":"Tehniline!DC17","v":0},{"$f":"Tehniline!DD17","v":0},{"$f":"Tehniline!DM17","v":0},{"$f":"Tehniline!DN17","v":0},{"$f":"Tehniline!DO17","v":0},{"$f":"Tehniline!DP17","v":0},0]
[null,"Karbamiid",0,0.29499999999999998,0,null,{"$f":"Tehniline!CZ18","v":0},0,{"$f":"Tehniline!DK18","v":0},{"$f":"Tehniline!DB18","v":0},{"$f":"Tehniline!DF18","v":0},{"$f":"Tehniline!DG18","v":0},{"$f":"Tehniline!DE18","v":0},{"$f":"Tehniline!DL18","v":0},{"$f":"Tehniline!DH18","v":0},{"$f":"Tehniline!DC18","v":0},{"$f":"Tehniline!DD18","v":0},{"$f":"Tehniline!DM18","v":0},{"$f":"Tehniline!DN18","v":0},{"$f":"Tehniline!DO18","v":0},{"$f":"Tehniline!DP18","v":0},0]
[null,"Kaitstud rasv",0,1.1299999999999999,0,null,{"$f":"Tehniline!CZ19","v":0},0,{"$f":"Tehniline!DK19","v":0},{"$f":"Tehniline!DB19","v":0},{"$f":"Tehniline!DF19","v":0},{"$f":"Tehniline!DG19","v":0},{"$f":"Tehniline!DE19","v":0},{"$f":"Tehniline!DL19","v":0},{"$f":"Tehniline!DH19","v":0},{"$f":"Tehniline!DC19","v":0},{"$f":"Tehniline!DD19","v":0},{"$f":"Tehniline!DM19","v":0},{"$f":"Tehniline!DN19","v":0},{"$f":"Tehniline!DO19","v":0},{"$f":"Tehniline!DP19","v":0},0]
[null,null,0,null,0,null,{"$f":"Tehniline!CZ20","v":0},0,{"$f":"Tehniline!DK20","v":0},{"$f":"Tehniline!DB20","v":0},{"$f":"Tehniline!DF20","v":0},{"$f":"Tehniline!DG20","v":0},{"$f":"Tehniline!DE20","v":0},{"$f":"Tehniline!DL20","v":0},{"$f":"Tehniline!DH20","v":0},{"$f":"Tehniline!DC20","v":0},{"$f":"Tehniline!DD20","v":0},{"$f":"Tehniline!DM20","v":0},{"$f":"Tehniline!DN20","v":0},{"$f":"Tehniline!DO20","v":0},{"$f":"Tehniline!DP20","v":0},0]
[null,null,0,null,0,null,{"$f":"Tehniline!CZ21","v":0},0,{"$f":"Tehniline!DK21","v":0},{"$f":"Tehniline!DB21","v":0},{"$f":"Tehniline!DF21","v":0},{"$f":"Tehniline!DG21","v":0},{"$f":"Tehniline!DE21","v":0},{"$f":"Tehniline!DL21","v":0},{"$f":"Tehniline!DH21","v":0},{"$f":"Tehniline!DC21","v":0},{"$f":"Tehniline!DD21","v":0},{"$f":"Tehniline!DM21","v":0},{"$f":"Tehniline!DN21","v":0},{"$f":"Tehniline!DO21","v":0},{"$f":"Tehniline!DP21","v":0},0]
[null,null,0,null,0,null,{"$f":"Tehniline!CZ22","v":0},0,{"$f":"Tehniline!DK22","v":0},{"$f":"Tehniline!DB22","v":0},{"$f":"Tehniline!DF22","v":0},{"$f":"Tehniline!DG22","v":0},{"$f":"Tehniline!DE22","v":0},{"$f":"Tehniline!DL22","v":0},{"$f":"Tehniline!DH22","v":0},{"$f":"Tehniline!DC22","v":0},{"$f":"Tehniline!DD22","v":0},{"$f":"Tehniline!DM22","v":0},{"$f":"Tehniline!DN22","v":0},{"$f":"Tehniline!DO22","v":0},{"$f":"Tehniline!DP22","v":0},0]
[null,null,0,null,0,null,{"$f":"Tehniline!CZ23","v":0},0,{"$f":"Tehniline!DK23","v":0},{"$f":"Tehniline!DB23","v":0},{"$f":"Tehniline!DF23","v":0},{"$f":"Tehniline!DG23","v":0},{"$f":"Tehniline!DE23","v":0},{"$f":"Tehniline!DL23","v":0},{"$f":"Tehniline!DH23","v":0},{"$f":"Tehniline!DC23","v":0},{"$f":"Tehniline!DD23","v":0},{"$f":"Tehniline!DM23","v":0},{"$f":"Tehniline!DN23","v":0},{"$f":"Tehniline!DO23","v":0},{"$f":"Tehniline!DP23","v":0},0]
[null,null,0,null,0,null,{"$f":"Tehniline!CZ24","v":0},0,{"$f":"Tehniline!DK24","v":0},{"$f":"Tehniline!DB24","v":0},{"$f":"Tehniline!DF24","v":0},{"$f":"Tehniline!DG24","v":0},{"$f":"Tehniline!DE24","v":0},{"$f":"Tehniline!DL24","v":0},{"$f":"Tehniline!DH24","v":0},{"$f":"Tehniline!DC24","v":0},{"$f":"Tehniline!DD24","v":0},{"$f":"Tehniline!DM24","v":0},{"$f":"Tehniline!DN24","v":0},{"$f":"Tehniline!DO24","v":0},{"$f":"Tehniline!DP24","v":0},0]
[]
[null,"Kontrollnäitajad","Mudel",null,"Käsitsi"]
[]
[null,"Ratsiooni maksumus, €/päev",{"$f":"Tabel1!Y5","v":1.978784376810014},null,{"$f":"V28","v":1.978784376810014},null,"Kokku:",{"$f":"SUM(H3:H25)","v":13.559803790000766},{"$f":"SUM(I3:I25)","v":2142.4489988200708},{"$f":"SUM(J3:J25)","v":2659.1273566979212},1291.266240539946,67.799018949979526,146.67950176804578,526.4961134313786,2319.3234766733954,94.918626530003635,54.239215160002217,5.0543339599726647,0,0,1710.141296135115,1.978784376810014]
[null,"Ratsiooni kogus, kg/päev",{"$f":"SUM(C3:C25)","v":28.635311053248799},null,{"$f":"SUM(G3:G25)","v":28.635311053248799},null,"1kg/KA's",null,{"$f":"I28/$H$28","v":157.99999999999631},{"$f":"J28/$H$28","v":196.10367508848526},95.227501853098204,4.9999999999982077,10.817228924522476,38.827708835995544,171.0440292936764,6.999999999999873,3.9999999999999378,0.37274388613940107,0,0,126.1184396632791]
[null,null,null,null,null,null,null,"TP/ME suhe: ",null,{"$f":"I28/M28","v":14.606328580308858},"MP/ME suhe:",null,{"$f":"K28/M28","v":8.8033176072680739},null,"Ca:P suhe:",null,{"$f":"P28/Q28","v":1.7499999999999956}]
[null,"Kuivaine kogus, kg",{"$f":"Tabel1!Y6","v":13.559803790000766},null,{"$f":"H28","v":13.559803790000766},null,null,null,"TF tarbenormid:",{"$f":"'Lehm ja ratsiooni tingimused'!D7","v":650},null,null,null," kg lehmale, kes lüpsab ",{"$f":"'Lehm ja ratsiooni tingimused'!D8","v":"20"},"kg EKM piima "]
[null,"Kuivaine osatähtsus ratsiooni kogumassist, %",{"$f":"C31/C29","v":0.47353436338741456},null,{"$f":"H28/E29","v":0.47353436338741456},null,null,null,null,null,null,null,null,null,"ja kelle kehamassi muutus on",-0.2,"kg"]
[null,"Jõusööda osakaal ratsiooni kuivainest, %",{"$f":"(SUMPRODUCT(--(Tabel1!B3:'Tabel1'!W3=\"Teraviljad\"),Tabel1!B2:W2,Tabel1!B6:W6)+SUMPRODUCT(--(Tabel1!B3:'Tabel1'!W3=\"Õlikoogid\"),Tabel1!B2:W2,Tabel1!B6:W6)+SUMPRODUCT(--(Tabel1!B3:'Tabel1'!W3=\"Nisu\"),Tabel1!B2:W2,Tabel1!B6:W6))/'Optimaalne ratsioon'!C31","v":0.36323182830793416},null,{"$f":"(SUMPRODUCT(--(Tehniline!F3:'Tehniline'!F27=\"Teraviljad\"),Tehniline!CZ3:CZ27,Tehniline!I3:I27)+SUMPRODUCT(--(Tehniline!F3:'Tehniline'!F27=\"Õlikoogid\"),Tehniline!CZ3:CZ27,Tehniline!I3:I27)+SUMPRODUCT(--(Tehniline!F3:'Tehniline'!F27=\"Nisu\"),Tehniline!CZ3:CZ27,Tehniline!I3:I27))/Tehniline!DA31","v":0.36323182830793416},null,null,null,"TARVE:",null,{"$f":"(3.25*J31^0.75)+IF(P32>0,P32*233,P32*138)+IF(O31<15,O31*47,IF(AND(O31>=15, O31<=35),O31*(48.5-(O31*0.1)),IF(O31>35,O31*45,\"0\")))","v":1290.7775558512337},null,{"$f":"(J31^0.75*0.473)+IF(P32>0,P32*60/1,P32*30/1)+(IF(AND(O31>0,O31<=8),(4.975+(O31-1)*0.025)*O31,IF(AND(O31>8,O31<=10),(5.15+(O31-8)*0.02)*O31,IF(AND(O31>10,O31<=12),(5.19+(O31-10)*0.015)*O31,IF(AND(O31>12,O31<=14),(5.22+((O31-12)*0.01))*O31,IF(AND(O31>14,O31<=20),(5.24+(O31-14)*0.015)*O31,IF(AND(O31>20,O31<=24),(5.33+(O31-20)*0.01)*O31,IF(O31>24,(5.37+(O31-24)*0.005)*O31))))))))","v":161.89002582081034},null,null,{"$f":"(J31*25/500)+(3*O31)","v":92.5},{"$f":"(J31*25/500)+(2*O31)","v":72.5}]
[null,"Silo osatähtsus kuivainest, % ",{"$f":"(SUMPRODUCT(--(Tabel1!B3:'Tabel1'!W3=\"Silo\"),Tabel1!B2:W2,Tabel1!B6:W6)+SUMPRODUCT(--(Tabel1!B3:'Tabel1'!W3=\"Maisisilo\"),Tabel1!B2:W2,Tabel1!B6:W6))/'Optimaalne ratsioon'!C31","v":0.56871826727660513},null,{"$f":"(SUMPRODUCT(--(Tehniline!F3:'Tehniline'!F27=\"Silo\"),Tehniline!CZ3:CZ27,Tehniline!I3:I27)+ SUMPRODUCT(--(Tehniline!F3:'Tehniline'!F27=\"Maisisilo\"),Tehniline!CZ3:CZ27,Tehniline!I3:I27))/Tehniline!DA31","v":0.56871826727660513},null,null,null,"VAHE:",null,{"$f":"K28-K33","v":0.48868468871228288},null,{"$f":"M28-M33","v":-15.210524052764555},null,null,{"$f":"P28-P33","v":2.4186265300036354},{"$f":"Q28-Q33","v":-18.260784839997783}]
[null,"Maisisilo osatähtsus kogu silokoguse kuivainest, %",{"$f":"(SUMPRODUCT(--(Tabel1!B3:'Tabel1'!W3=\"Maisisilo\"),Tabel1!B2:W2,Tabel1!B6:W6))/(SUMPRODUCT(--(Tabel1!B3:'Tabel1'!W3=\"Silo\"),Tabel1!B2:W2,Tabel1!B6:W6)+SUMPRODUCT(--(Tabel1!B3:'Tabel1'!W3=\"Maisisilo\"),Tabel1!B2:W2,Tabel1!B6:W6))","v":0.15956842703009635},null,{"$f":"(SUMPRODUCT(--(Tehniline!F3:'Tehniline'!F27=\"Maisisilo\"),Tehniline!CZ3:CZ27,Tehniline!I3:I27))/(SUMPRODUCT(--(Tehniline!F3:'Tehniline'!F27=\"Silo\"),Tehniline!CZ3:CZ27,Tehniline!I3:I27) +SUMPRODUCT(--(Tehniline!F3:'Tehniline'!F27=\"Maisisilo\"),Tehniline!CZ3:CZ27,Tehniline!I3:I27))","v":0.15956842703009635}]
[null,"Nisu osatähtsus teravilja ja jahude kogusest, %",{"$f":"SUMPRODUCT(--(Tabel1!B3:'Tabel1'!W3=\"Nisu\"),Tabel1!B2:W2,Tabel1!B6:W6)/(SUMPRODUCT(--(Tabel1!B3:'Tabel1'!W3=\"Nisu\"),Tabel1!B2:W2,Tabel1!B6:W6)+SUMPRODUCT(--(Tabel1!B3:'Tabel1'!W3=\"Teraviljad\"),Tabel1!B2:W2,Tabel1!B6:W6))","v":0},null,{"$f":"SUMPRODUCT(--(Tehniline!F3:'Tehniline'!F27=\"Nisu\"),Tehniline!CZ3:CZ27,Tehniline!I3:I27)/(SUMPRODUCT(--(Tehniline!F3:'Tehniline'!F27=\"Nisu\"),Tehniline!CZ3:CZ27,Tehniline!I3:I27)+ SUMPRODUCT(--(Tehniline!F3:'Tehniline'!F27=\"Teraviljad\"),Tehniline!CZ3:CZ27,Tehniline!I3:I27))","v":0}]
[]
[null,"Metaboliseeruv energia, MJ",{"$f":"Tabel1!Y7","v":146.67950176804578},null,{"$f":"M28","v":146.67950176804578},null,null,null,null,"Piima karbamiid, mg/l",{"$f":"0.1107*L28+260.01","v":267.51535139776274},"(VPB järgi)"]
[null,"Metaboliseeruv energia, MJ/kg KA",{"$f":"C38/C31","v":10.817228924522476},null,{"$f":"M28/H28","v":10.817228924522476},null,null,null,null,"Piima karbamiid, mg/l",{"$f":"17.381*(I28/M28)+20.666","v":274.53859705434826},"(TP/ME suhte järgi)"]
[null,"(Toor)proteiin, g KA",{"$f":"Tabel1!Y15/'Optimaalne ratsioon'!C31","v":157.99999999999631},null,{"$f":"I28/H28","v":157.99999999999631}]
[null,"Toorproteiini ja metaboliseeruva energia suhe",{"$f":"C40/C39","v":14.606328580308858},null,{"$f":"E40/E39","v":14.606328580308858}]
[null,"Metaboliseeruv proteiin, g/kg KA",{"$f":"Tabel1!Y9/'Optimaalne ratsioon'!C31","v":95.227501853098204},null,{"$f":"K28/H28","v":95.227501853098204}]
[null,"Metaboliseeruva proteiini ja metaboliseeruva energia suhe",{"$f":"C42/C39","v":8.8033176072680739},null,{"$f":"E42/E39","v":8.8033176072680739}]
[null,"VPB, g",{"$f":"Tabel1!Y10/'Optimaalne ratsioon'!C31","v":4.9999999999982059},null,{"$f":"L29","v":4.9999999999982077}]
[null,"Ca:P suhe",{"$f":"Tabel1!Y13/Tabel1!Y14","v":1.7499999999999956},null,{"$f":"Q30","v":1.7499999999999956}]
[]
[null,"Tärklis ja suhkur ratsiooni kuivaines, g/kg",{"$f":"Tabel1!Y17/'Optimaalne ratsioon'!C31","v":196.10367508848526},null,{"$f":"J28/H28","v":196.10367508848526}]
[null,"Toorkiud, g/kg KA",{"$f":"Tabel1!Y8/'Optimaalne ratsioon'!C31","v":171.0440292936764},null,{"$f":"O28/H28","v":171.0440292936764}]
[null,"ADF, g/kg KA",{"$f":"Tabel1!Y18/'Optimaalne ratsioon'!C31","v":268.40371480115897},null,{"$f":"Tehniline!DI31/Tehniline!DA31","v":268.40371480115897}]
[null,"NDF, g/kg KA",{"$f":"Tabel1!Y19/'Optimaalne ratsioon'!C31","v":419.20761034385635},null,{"$f":"Tehniline!DJ31/Tehniline!DA31","v":419.20761034385629}]

{"sheet":"Tabel1","index":4,"n_rows":78,"n_cols":30,"rows_kept":78,"cut":false,"hidden":false,"merged":[]}
[null,{"$f":"B6*B2","v":-5.083676071666299E-16},{"$f":"C6*C2","v":6.2097518449971764E-14},6.4811629822649985,0,{"$f":"F6*F2","v":1.2305451337949185},0.82999999999999985,0,1.185905624850921,0.75894691574128881,2.9804997815466221,7.6383344094210769E-16,0,0,9.274335180195431E-2,0,0,0,0,0,0,0,0,null,650,null,"NORM?"]
["valik",-1.4524788776189426E-15,2.4544473695641013E-13,17.516656708824321,0,4.3791641772061149,0.99999999999999989,0,1.3176729165010233,0.86243967697873725,3.4656974204030488,8.8817841970012523E-16,0,0,9.3680153335307381E-2,0,0,0,0,0,0,0,0]
[null,"Silo","Silo","Silo","Maisisilo","Maisisilo","Hein","Põhk","Õlikoogid","Õlikoogid","Teraviljad","Teraviljad","Nisu","Mineraalid","Mineraalid","Mineraalid","Mineraalid","Rasv"]
["Söödad","Lutsernisilo  TÕ 120-12-60","V auk - rohusilo","Uus rohusilo","VII auk - maisisilo","Uus maisisilo","Hein kõrreliste kultuurrohumaa  030-15-60","Odrapõhk 255-16-0","Rapsikook  350-28","Sojašrott 310-29","Oder  255-20/21","Mais 260-20/21","Nisu 265-20/21","Mineraal2","Lubjakivi","Mineraal 3","Karbamiid","Kaitstud rasv"]
["Hind, €/kg",0.03,0.03,0.03,0.03,0.03,0.04,0.08,0.27,0.47,0.15,0.2,0.17699999999999999,0.05,0.01,0.72,0.29499999999999998,1.1299999999999999,null,null,null,null,null,null,{"$f":"SUMPRODUCT(B5:W5,$B$2:$W$2)","v":1.978784376810014},null,0]
["KA,%",0.35,0.253,0.37,0.23,0.28100000000000003,0.83,0.83,0.9,0.88,0.86,0.86,0.86,0.99,0.99,0.99,0.99,0.99,null,null,null,null,null,null,{"$f":"SUMPRODUCT(B6:W6,$B$2:$W$2)","v":13.559803790000766},"=",{"$f":"'Lehm ja ratsiooni tingimused'!D10","v":13.559803790000002}]
["ME, MJ/kg KA",2.94,2.2264000000000004,3.5150000000000001,2.5300000000000002,2.9224000000000006,6.9719999999999995,5.7270000000000003,12.06,12.407999999999999,11.18,12.212,11.868,0,0,0,0,31.68,null,null,null,null,null,null,{"$f":"SUMPRODUCT(B7:W7,$B$2:$W$2)","v":146.67950176804578},">=",{"$f":"$AA$6*AB7","v":142.37793979500003},10.5,null,{"$f":"Y7/$Y$6","v":10.817228924522476}]
["Toorkiud, g/kg KA",116.19999999999999,78.936000000000007,76.59,51.29,71.936000000000007,278.05,348.59999999999997,110.7,69.52,51.6,24.94,21.5,0,0,0,0,0,null,null,null,null,null,null,{"$f":"SUMPRODUCT(B8:W8,$B$2:$W$2)","v":2319.3234766733954},">=",{"$f":"$AA$6*AB8","v":1898.3725306000003},140,null,{"$f":"Y8/$Y$6","v":171.0440292936764}]
["MP, g/kg KA",23.799999999999997,18.216000000000001,28.12,18.170000000000002,21.637,57.269999999999996,46.48,144.9,172.48,88.58,104.06,91.16,0,0,0,0,0,null,null,null,null,null,null,1291.266240539946,">=",{"$f":"$AA$6*AB9","v":1247.5019486800002},92,null,95.227501853098204]
["VPB, g/kg KA",10.5,6.8310000000000004,-1.85,-9.89,-12.083000000000002,-32.369999999999997,-39.839999999999996,125.10000000000001,176,-37.839999999999996,-86,-24.08,0,0,0,2598.75,0,null,null,null,null,null,null,67.799018949979498,">=",0,0,null,4.9999999999982059]
["VPB, g, max",10.5,6.8310000000000004,-1.85,-9.89,-12.083000000000002,-32.369999999999997,-39.839999999999996,125.10000000000001,176,-37.839999999999996,-86,-24.08,0,0,0,2598.75,0,null,null,null,null,null,null,67.799018949979498,"<=",67.799018950000004,5,null,4.9999999999982059]
["Ca, g/kg KA",5.4249999999999998,2.7577000000000003,2.0720000000000001,0.89700000000000002,1.3769000000000002,4.399,3.2369999999999997,7.4700000000000006,2.992,0.68800000000000006,0.34400000000000003,0.51600000000000001,148.5,356.4,173.25,0,0,null,null,null,null,null,null,94.918626530003635,">=",94.918626530000012,7,null,6.999999999999873]
["Ca,  g, max",5.4249999999999998,2.7577000000000003,2.0720000000000001,0.89700000000000002,1.3769000000000002,4.399,3.2369999999999997,7.4700000000000006,2.992,0.68800000000000006,0.34400000000000003,0.51600000000000001,148.5,356.4,173.25,0,0,null,null,null,null,null,null,94.918626530003635,"<=",108.47843032000002,8,null,6.999999999999873]
["P, g/kg KA",0.90999999999999992,0.86019999999999996,1.073,0.48300000000000004,0.75870000000000015,1.9089999999999998,0.83,9.4500000000000011,6.4239999999999995,3.5259999999999998,2.6659999999999999,3.2679999999999998,74.25,0,74.25,0,0,null,null,null,null,null,null,54.239215160002217,">=",54.239215160000008,4,null,3.9999999999999378]
["(Toor) proteiin, g/kg KA",51.449999999999996,24.288,46.25,20.93,24.728000000000002,66.399999999999991,39.01,307.8,440,107.5,81.7,125.56,0,0,0,2598.75,0,null,null,null,null,null,null,2142.4489988200708,">=",2142.4489988200003,158,null,157.99999999999631]
["Vaba - reserveering",0,0,0,0,0,0,0,0,0,0,0,0,0,0,0,0,0,null,null,null,null,null,null,0,">=",0]
["Tärklis+suhkur, g/kg KA",8.75,6.3250000000000002,9.25,69,84.300000000000011,0,0,108,228.8,516,602,559,0,0,0,0,0,null,null,null,null,null,null,2659.1273566979212,">=",0]
["ADF, g/kg KA",133.69999999999999,88.55,129.5,81.88000000000001,100.03600000000002,351.09,414.16999999999996,208.8,82.72,67.94,24.08,0,0,0,0,0,0,null,null,null,null,null,null,3639.5017092110402,"<=",0]
["NDF, g/kg KA",166.25,126.5,185,132.25,161.57500000000002,553.61,654.04,299.7,149.6,190.06,92.88,0,0,0,0,0,0,null,null,null,null,null,null,5684.3729435377873,"<=",0]
["silo",1,1,1,1,1,null,null,null,null,null,null,null,null,null,null,null,null,null,null,null,null,null,null,21.89582088603068,"<=",{"$f":"'Lehm ja ratsiooni tingimused'!D18","v":50},null,"D17"]
["silo max%",-1,-1,-1,0,0,null,null,null,null,null,null,null,null,null,null,null,null,null,null,null,null,null,null,-17.516656708824566,"<=",0]
["hein",null,null,null,null,null,1,null,null,null,null,null,null,null,null,null,null,null,null,null,null,null,null,null,0.99999999999999989,"<=",{"$f":"'Lehm ja ratsiooni tingimused'!D24","v":1},null,"D18"]
["põhk",null,null,null,null,null,null,1,null,null,null,null,null,null,null,null,null,null,null,null,null,null,null,null,0,"<=",{"$f":"'Lehm ja ratsiooni tingimused'!D25","v":0.5},null,"D19"]
["jahud",null,null,null,null,null,null,null,1,1,1,1,1,null,null,null,null,null,null,null,null,null,null,null,5.6458100138828105,"<=",{"$f":"'Lehm ja ratsiooni tingimused'!D31","v":15},null,"D20"]
["jahud%",null,null,null,null,null,null,null,null,null,-0.5,-0.5,-0.5,null,null,null,null,null,null,null,null,null,null,null,-1.7328487102015249,"<=",0]
["nisu max",null,null,null,null,null,null,null,null,null,-0.5,-0.5,0.5,null,null,null,null,null,null,null,null,null,null,null,-1.7328487102015249,"<=",0]
["õlikoogid",null,null,null,null,null,null,null,1,null,null,null,null,null,null,null,null,null,null,null,null,null,null,null,1.3176729165010233,"<=",{"$f":"'Lehm ja ratsiooni tingimused'!D28","v":5},null,"D21"]
["panto",null,null,null,null,null,null,null,null,null,null,null,null,null,null,null,null,null,null,null,null,null,null,null,0,"<=",0]
["mineraal",null,null,null,null,null,null,null,null,null,null,null,null,1,null,null,null,null,null,null,null,null,null,null,0,"<=",{"$f":"'Lehm ja ratsiooni tingimused'!D39","v":0.2},null,"D22"]
["lubjakivi",null,null,null,null,null,null,null,null,null,null,null,null,null,1,null,null,null,null,null,null,null,null,null,9.3680153335307381E-2,"<=",{"$f":"'Lehm ja ratsiooni tingimused'!D40","v":0.25},null,"D23"]
["maisisilo min",-0.2,-0.2,-0.2,0.8,0.8,null,null,null,null,null,null,null,null,null,null,null,null,null,null,null,null,null,null,-2.1316282072803006E-14,">=",0]
["Kaitstud rasv max",null,null,null,null,null,null,null,null,null,null,null,null,null,null,null,null,1,null,null,null,null,null,null,0,"<=",{"$f":"'Lehm ja ratsiooni tingimused'!D36","v":0.2},null,"D27"]
["Lisasööt1",null,null,null,null,null,null,null,null,null,null,null,null,null,null,null,null,null,null,null,null,null,null,null,0,">=",{"$f":"'Lehm ja ratsiooni tingimused'!D43","v":0},null,"D28"]
["Lisasööt2",null,null,null,null,null,null,null,null,null,null,null,null,null,null,null,null,null,null,null,null,null,null,null,0,">=",{"$f":"'Lehm ja ratsiooni tingimused'!D44","v":0},null,"D29"]
["rohusilo max %",0,0,0,null,null,null,null,null,null,null,null,null,null,null,null,null,null,null,null,null,null,null,null,{"$f":"SUMPRODUCT(B35:W35,$B$2:$W$2)","v":0},">=",0]
["rohusilo max %",0,0,0,null,null,null,null,null,null,null,null,null,null,null,null,null,null,null,null,null,null,null,null,{"$f":"SUMPRODUCT(B36:W36,$B$2:$W$2)","v":0},">=",0]
["rohusilo max %",0,0,0,null,null,null,null,null,null,null,null,null,null,null,null,null,null,null,null,null,null,null,null,0,">=",0]
["rohusilo max %",0,0,0,null,null,null,null,null,null,null,null,null,null,null,null,null,null,null,null,null,null,null,null,0,">=",0]
["rohusilo max %",1,0,0,null,null,null,null,null,null,null,null,null,null,null,null,null,null,null,null,null,null,null,null,-1.4524788776189426E-15,">=",0]
["rohusilo max %",0,0,0,null,null,null,null,null,null,null,null,null,null,null,null,null,null,null,null,null,null,null,null,0,">=",0]
["rohusilo max %",0,0,0,null,null,null,null,null,null,null,null,null,null,null,null,null,null,null,null,null,null,null,null,0,">=",0]
["rohusilo max %",0,1,0,null,null,null,null,null,null,null,null,null,null,null,null,null,null,null,null,null,null,null,null,2.4544473695641013E-13,">=",0]
["rohusilo max %",0,0,1,null,null,null,null,null,null,null,null,null,null,null,null,null,null,null,null,null,null,null,null,17.516656708824321,">=",0]
["rohusilo max %",0,0,0,null,null,null,null,null,null,null,null,null,null,null,null,null,null,null,null,null,null,null,null,0,">=",0]
["rohusilo max %",0,0,0,null,null,null,null,null,null,null,null,null,null,null,null,null,null,null,null,null,null,null,null,0,">=",0]
["rohusilo max %",0,0,0,null,null,null,null,null,null,null,null,null,null,null,null,null,null,null,null,null,null,null,null,0,">=",0]
["rohusilo max %",0,0,0,null,null,null,null,null,null,null,null,null,null,null,null,null,null,null,null,null,null,null,null,0,">=",0]
["Vesi",null,null,null,null,null,null,null,null,null,null,null,null,null,null,null,null,null,null,null,null,null,null,null,0,null,0]
["teravilja max%",null,null,null,null,null,null,null,null,null,1,0,0,null,null,null,null,null,null,null,null,null,null,null,3.4656974204030488,">=",0]
["teravilja max%",null,null,null,null,null,null,null,null,null,0,1,0,null,null,null,null,null,null,null,null,null,null,null,8.8817841970012523E-16,">=",0]
["teravilja max%",null,null,null,null,null,null,null,null,null,0,0,0,null,null,null,null,null,null,null,null,null,null,null,0,">=",0]
["teravilja max%",null,null,null,null,null,null,null,null,null,0,0,0,null,null,null,null,null,null,null,null,null,null,null,0,">=",0]
["teravilja max%",null,null,null,null,null,null,null,null,null,0,0,0,null,null,null,null,null,null,null,null,null,null,null,0,">=",0]
["teravilja max%",null,null,null,null,null,null,null,null,null,0,0,0,null,null,null,null,null,null,null,null,null,null,null,0,">=",0]
["teravilja max%",null,null,null,null,null,null,null,null,null,0,0,0,null,null,null,null,null,null,null,null,null,null,null,0,">=",0]
["teravilja max%",null,null,null,null,null,null,null,null,null,0,0,0,null,null,null,null,null,null,null,null,null,null,null,0,">=",0]
["teravilja max%",null,null,null,null,null,null,null,null,null,0,0,0,null,null,null,null,null,null,null,null,null,null,null,0,">=",0]
["teravilja max%",null,null,null,null,null,null,null,null,null,0,0,0,null,null,null,null,null,null,null,null,null,null,null,0,">=",0]
["teravilja max%",null,null,null,null,null,null,null,null,null,0,0,0,null,null,null,null,null,null,null,null,null,null,null,0,">=",0]
["teravilja max%",null,null,null,null,null,null,null,null,null,0,0,0,null,null,null,null,null,null,null,null,null,null,null,0,">=",0]
["teravilja max%",null,null,null,null,null,null,null,null,null,0,0,0,null,null,null,null,null,null,null,null,null,null,null,0,">=",0]
["teravilja max%",null,null,null,null,null,null,null,null,null,0,0,0,null,null,null,null,null,null,null,null,null,null,null,0,">=",0]
["teravilja max%",null,null,null,null,null,null,null,null,null,0,0,0,null,null,null,null,null,null,null,null,null,null,null,0,">=",0]
["teravilja max%",null,null,null,null,null,null,null,null,null,0,0,0,null,null,null,null,null,null,null,null,null,null,null,0,">=",0]
["teravilja max%",null,null,null,null,null,null,null,null,null,0,0,0,null,null,null,null,null,null,null,null,null,null,null,0,">=",0]
["nisu max%",null,null,null,null,null,null,null,null,null,0,0,1,null,null,null,null,null,null,null,null,null,null,null,0,">=",0]
["nisu max%",null,null,null,null,null,null,null,null,null,0,0,0,null,null,null,null,null,null,null,null,null,null,null,0,">=",0]
["nisu max%",null,null,null,null,null,null,null,null,null,0,0,0,null,null,null,null,null,null,null,null,null,null,null,0,">=",0]
["nisu max%",null,null,null,null,null,null,null,null,null,null,null,null,null,null,null,null,null,null,null,null,null,null,null,0,">=",0]
["nisu max%",null,null,null,null,null,null,null,null,null,null,null,null,null,null,null,null,null,null,null,null,null,null,null,0,">=",0]
["nisu max%",null,null,null,null,null,null,null,null,null,null,null,null,null,null,null,null,null,null,null,null,null,null,null,0,">=",0]
["nisu max%",null,null,null,null,null,null,null,null,null,null,null,null,null,null,null,null,null,null,null,null,null,null,null,0,">=",0]
["nisu max%",null,null,null,null,null,null,null,null,null,null,null,null,null,null,null,null,null,null,null,null,null,null,null,0,">=",0]
["TR g/kg",10.149999999999999,9.1080000000000005,14.06,7.36,7.5870000000000006,19.09,16.599999999999998,113.4,14.96,18.919999999999998,38.700000000000003,22.36,0,0,0,0,0]
["Na g/kg KA",0.13999999999999999,0.1265,0.185,0.115,0.14050000000000001,0.33200000000000002,0.83,9.0000000000000011E-2,0.17600000000000002,0.17200000000000001,8.6000000000000007E-2,0,0,0,0,0,0]
["K g/kg KA",0,0,0,0,0,0,0,0,0,0,0,0,0,0,0,0,0]
["Mg g/kg KA",0,0,0,0,0,0,0,0,0,0,0,0,0,0,0,0,0]
["KAB, mekv",54.599999999999994,70.84,103.6,32.43,39.621000000000002,160.19,152.72,-526.5,230.56,16.34,10.32,77.400000000000006,0,0,0,0,0]

{"sheet":"Tehniline","index":5,"n_rows":58,"n_cols":120,"rows_kept":58,"cut":false,"hidden":true,"merged":[[27,0,30,0],[27,1,30,1]]}
[]
[null,null,null,null,null,null,"Söödad","Hind, €/kg","KA,%","ME, MJ/kg KA","Toorkiud, g/kg KA","MP, g/kg KA","VPB, g/kg KA","VPB, g, max","Ca, g/kg KA","Ca,  g, max","P, g/kg KA","(Toor) proteiin, g/kg KA","Vaba - reserveering","Tärklis+suhkur, g/kg KA","ADF, g/kg KA","NDF, g/kg KA","silo","silo max%","hein","põhk","jahud","jahud%","nisu max","õlikoogid","panto","mineraal","lubjakivi","maisisilo min","Kaitstud rasv max","Lisasööt1","Lisasööt2","rohusilo max %","rohusilo max %","rohusilo max %","rohusilo max %","rohusilo max %","rohusilo max %","rohusilo max %","rohusilo max %","rohusilo max %","rohusilo max %","rohusilo max %","rohusilo max %","rohusilo max %","Vesi","teravilja max%","teravilja max%","teravilja max%","teravilja max%","teravilja max%","teravilja max%","teravilja max%","teravilja max%","teravilja max%","teravilja max%","teravilja max%","teravilja max%","teravilja max%","teravilja max%","teravilja max%","teravilja max%","teravilja max%","nisu max%","nisu max%","nisu max%","nisu max%","nisu max%","nisu max%","nisu max%","nisu max%","TR g/kg","Na g/kg KA","K g/kg KA","Mg g/kg KA","KAB, mekv",null,null,null,null,null,null,null,null,null,null,null,null,null,null,null,null,null,null,null,null,null,null,"puhas","KA","Tärklis+suhkur","Ca,Max","P","ME, MJ/kg KA","MP, g/kg KA","VPB, g","Toorkiud, g/kg KA","ADF, g/kg KA","NDF, g/kg KA","Proteiin,g KA","TR","Na, g","K, g","Mg, g","KAB, mekv"]
[45,0.35,null,"- 0…30 lüpsipäev",null,"Silo","Lutsernisilo  TÕ 120-12-60",0.03,0.35,8.4,332,68,30,30,15.5,15.5,2.6,147,null,25,382,475,1,-1,null,null,null,null,null,null,null,null,null,-0.2,null,null,null,0,0,0,0,1,0,0,0,0,0,0,0,0,null,null,null,null,null,null,null,null,null,null,null,null,null,null,null,null,null,null,null,null,null,null,null,null,null,null,29,0.4,null,null,156,null,null,null,null,null,null,null,null,null,null,null,null,null,null,null,null,null,null,null,null,null,null,{"$f":"IFERROR(DA3/I3,0)","v":-1.4524788776189426E-15},{"$f":"'Optimaalne ratsioon'!H3","v":-5.083676071666299E-16},{"$f":"IFERROR(SUMPRODUCT(T3,DA3),0)","v":-1.2709190179165747E-14},{"$f":"IFERROR(SUMPRODUCT(P3,DA3),0)","v":-7.8796979110827631E-15},{"$f":"IFERROR(SUMPRODUCT(Q3,DA3),0)","v":-1.3217557786332377E-15},{"$f":"IFERROR(SUMPRODUCT(J3,DA3),0)","v":-4.2702879001996913E-15},{"$f":"IFERROR(SUMPRODUCT(L3,DA3),0)","v":-3.4568997287330836E-14},{"$f":"IFERROR(SUMPRODUCT(N3,DA3),0)","v":-1.5251028214998896E-14},{"$f":"IFERROR(SUMPRODUCT(K3,DA3),0)","v":-1.6877804557932113E-13},{"$f":"IFERROR(SUMPRODUCT(U3,DA3),0)","v":-1.9419642593765262E-13},{"$f":"IFERROR(SUMPRODUCT(V3,DA3),0)","v":-2.4147461340414922E-13},{"$f":"IFERROR(SUMPRODUCT(R3,DA3),0)","v":-7.4730038253494589E-14},{"$f":"IFERROR(SUMPRODUCT(BY3,DA3),0)","v":-1.4742660607832268E-14},{"$f":"IFERROR(SUMPRODUCT(BZ3,DA3),0)","v":-2.0334704286665198E-16},{"$f":"IFERROR(SUMPRODUCT(CA3,DA3),0)","v":0},{"$f":"IFERROR(SUMPRODUCT(CB3,DA3),0)","v":0},{"$f":"IFERROR(SUMPRODUCT(CC3,DA3),0)","v":-7.9305346717994258E-14}]
[1,0.35,null,"- Laktatsiooni I pool (31…150 lüpsipäev)",null,"Silo","V auk - rohusilo",0.03,0.253,8.8000000000000007,312,72,27,27,10.9,10.9,3.4,96,null,25,350,500,1,-1,null,null,null,null,null,null,null,null,null,-0.2,null,null,null,0,0,0,0,0,0,0,1,0,0,0,0,0,null,null,null,null,null,null,null,null,null,null,null,null,null,null,null,null,null,null,null,null,null,null,null,null,null,null,36,0.5,null,null,280,null,null,null,null,null,null,null,null,null,null,null,null,null,null,null,null,null,null,null,null,null,null,{"$f":"IFERROR(DA4/I4,0)","v":2.4544473695641013E-13},{"$f":"'Optimaalne ratsioon'!H4","v":6.2097518449971764E-14},{"$f":"IFERROR(SUMPRODUCT(T4,DA4),0)","v":1.5524379612492941E-12},{"$f":"IFERROR(SUMPRODUCT(P4,DA4),0)","v":6.7686295110469223E-13},{"$f":"IFERROR(SUMPRODUCT(Q4,DA4),0)","v":2.1113156272990398E-13},{"$f":"IFERROR(SUMPRODUCT(J4,DA4),0)","v":5.4645816235975161E-13},{"$f":"IFERROR(SUMPRODUCT(L4,DA4),0)","v":4.4710213283979667E-12},{"$f":"IFERROR(SUMPRODUCT(N4,DA4),0)","v":1.6766329981492377E-12},{"$f":"IFERROR(SUMPRODUCT(K4,DA4),0)","v":1.9374425756391189E-11},{"$f":"IFERROR(SUMPRODUCT(U4,DA4),0)","v":2.1734131457490118E-11},{"$f":"IFERROR(SUMPRODUCT(V4,DA4),0)","v":3.1048759224985882E-11},{"$f":"IFERROR(SUMPRODUCT(R4,DA4),0)","v":5.9613617711972889E-12},{"$f":"IFERROR(SUMPRODUCT(BY4,DA4),0)","v":2.2355106641989834E-12},{"$f":"IFERROR(SUMPRODUCT(BZ4,DA4),0)","v":3.1048759224985882E-14},{"$f":"IFERROR(SUMPRODUCT(CA4,DA4),0)","v":0},{"$f":"IFERROR(SUMPRODUCT(CB4,DA4),0)","v":0},{"$f":"IFERROR(SUMPRODUCT(CC4,DA4),0)","v":1.7387305165992094E-11}]
[0.5,0.35,null,"- Laktatsiooni II pool (151… lüpsipäev)",null,"Silo","Uus rohusilo",0.03,0.37,9.5,207,76,-5,-5,5.6,5.6,2.9,125,null,25,350,500,1,-1,null,null,null,null,null,null,null,null,null,-0.2,null,null,null,0,0,0,0,0,0,0,0,1,0,0,0,0,null,null,null,null,null,null,null,null,null,null,null,null,null,null,null,null,null,null,null,null,null,null,null,null,null,null,38,0.5,null,null,280,null,null,null,null,null,null,null,null,null,null,null,null,null,null,null,null,null,null,null,null,null,null,17.516656708824321,{"$f":"'Optimaalne ratsioon'!H5","v":6.4811629822649985},162.02907455662498,36.294512700683988,18.795372648568495,61.571048331517488,492.56838665213991,-32.405814911324995,1341.6007373288546,2268.4070437927494,3240.5814911324992,810.1453727831248,246.28419332606995,3.2405814911324993,0,0,1814.7256350341995]
[11,0.35,null,"Kinnisperiood",null,"Maisisilo","VII auk - maisisilo",0.03,0.23,11,223,79,-43,-43,3.9,3.9,2.1,91,null,300,356,575,1,0,null,null,null,null,null,null,null,null,null,0.8,null,null,null,null,null,null,null,null,null,null,null,null,null,null,null,null,null,null,null,null,null,null,null,null,null,null,null,null,null,null,null,null,null,null,null,null,null,null,null,null,null,null,32,0.5,null,null,141,null,null,null,null,null,null,null,null,null,null,null,null,null,null,null,null,null,null,null,null,null,null,0,{"$f":"'Optimaalne ratsioon'!H6","v":0},0,0,0,0,0,0,0,0,0,0,0,0,0,0,0]
[5,0.35,null,null,null,"Maisisilo","Uus maisisilo",0.03,0.28100000000000003,10.4,256,77,-43,-43,4.9000000000000004,4.9000000000000004,2.7,88,null,300,356,575,1,0,null,null,null,null,null,null,null,null,null,0.8,null,null,null,null,null,null,null,null,null,null,null,null,null,null,null,null,null,null,null,null,null,null,null,null,null,null,null,null,null,null,null,null,null,null,null,null,null,null,null,null,null,null,27,0.5,null,null,141,null,null,null,null,null,null,null,null,null,null,null,null,null,null,null,null,null,null,null,null,null,null,4.3791641772061149,{"$f":"'Optimaalne ratsioon'!H7","v":1.2305451337949185},369.16354013847553,6.0296711555951008,3.3224718612462802,12.797669391467153,94.75197530220872,-52.913440753181497,315.01955425149913,438.07406763099095,707.56345193207812,108.28797177395282,33.224718612462802,0.61527256689745924,0,0,173.50686386508352]
[0.2,0.3,null,null,null,"Hein","Hein kõrreliste kultuurrohumaa  030-15-60",0.04,0.83,8.4,335,69,-39,-39,5.3,5.3,2.2999999999999998,80,null,null,423,667,null,null,1,null,null,null,null,null,null,null,null,null,null,null,null,null,null,null,null,null,null,null,null,null,null,null,null,null,null,null,null,null,null,null,null,null,null,null,null,null,null,null,null,null,null,null,null,null,null,null,null,null,null,null,23,0.4,null,null,193,null,null,null,null,null,null,null,null,null,null,null,null,null,null,null,null,null,null,null,null,null,null,0.99999999999999989,{"$f":"'Optimaalne ratsioon'!H8","v":0.82999999999999985},0,4.3989999999999991,1.9089999999999996,6.9719999999999986,57.269999999999989,-32.369999999999997,278.04999999999995,351.08999999999992,553.6099999999999,66.399999999999991,19.089999999999996,0.33199999999999996,0,0,160.18999999999997]
[0.25,0.22,null,null,null,"Põhk","Odrapõhk 255-16-0",0.08,0.83,6.9,420,56,-48,-48,3.9,3.9,1,47,null,null,499,788,null,null,null,1,null,null,null,null,null,null,null,null,null,null,null,null,null,null,null,null,null,null,null,null,null,null,null,null,null,null,null,null,null,null,null,null,null,null,null,null,null,null,null,null,null,null,null,null,null,null,null,null,null,null,20,1,null,null,184,null,null,null,null,null,null,null,null,null,null,null,null,null,null,null,null,null,null,null,null,null,null,0,{"$f":"'Optimaalne ratsioon'!H9","v":0},0,0,0,0,0,0,0,0,0,0,0,0,0,0,0]
[0.2,0.83,null,{"$f":"0.83*(5.640313+0.58204*'Lehm ja ratsiooni tingimused'!D8-0.00236*POWER('Lehm ja ratsiooni tingimused'!D8,2))","v":13.559803790000002},null,"Õlikoogid","Rapsikook  350-28",0.27,0.9,13.4,123,161,139,139,8.3000000000000007,8.3000000000000007,10.5,342,null,120,232,333,null,null,null,null,1,null,null,1,null,null,null,null,null,null,null,null,null,null,null,null,null,null,null,null,null,null,null,null,null,null,null,null,null,null,null,null,null,null,null,null,null,null,null,null,null,null,null,null,null,null,null,null,null,null,126,0.1,null,null,-585,null,null,null,null,null,null,null,null,null,null,null,null,null,null,null,null,null,null,null,null,null,null,1.3176729165010233,{"$f":"'Optimaalne ratsioon'!H10","v":1.185905624850921},142.30867498211052,9.8430166862626454,12.452009060934671,15.891135373002342,190.93080560099827,164.84088185427802,145.86639185666328,275.13010496541369,394.90657307535668,405.57972369901501,149.42410873121605,0.1185905624850921,0,0,-693.75479053778884]
[0.25,0.83,null,null,null,"Õlikoogid","Sojašrott 310-29",0.47,0.88,14.1,79,196,200,200,3.4,3.4,7.3,500,null,260,94,170,null,null,null,null,1,null,null,null,null,null,null,null,null,null,null,null,null,null,null,null,null,null,null,null,null,null,null,null,null,null,null,null,null,null,null,null,null,null,null,null,null,null,null,null,null,null,null,null,null,null,null,null,null,null,17,0.2,null,null,262,null,null,null,null,null,null,null,null,null,null,null,null,null,null,null,null,null,null,null,null,null,null,0.86243967697873725,{"$f":"'Optimaalne ratsioon'!H11","v":0.75894691574128881},197.3261980927351,2.5804195135203818,5.540312484911408,10.701151511952173,148.75359548529261,151.78938314825777,59.956806343561816,71.341010079681155,129.02097567601911,379.47345787064438,12.90209756760191,0.15178938314825777,0,0,198.84409192421768]
[0.5,0.83,null,null,null,"Teraviljad","Oder  255-20/21",0.15,0.86,13,60,103,-44,-44,0.8,0.8,4.0999999999999996,125,null,600,79,221,null,null,null,null,1,-0.5,-0.5,null,null,null,null,null,null,null,null,null,null,null,null,null,null,null,null,null,null,null,null,null,null,1,0,0,0,0,0,0,0,0,0,0,0,0,0,0,0,0,0,0,0,null,null,null,null,null,22,0.2,null,null,19,null,null,null,null,null,null,null,null,null,null,null,null,null,null,null,null,null,null,null,null,null,null,3.4656974204030488,{"$f":"'Optimaalne ratsioon'!H12","v":2.9804997815466221},1788.2998689279732,2.3843998252372978,12.22004910434115,38.746497160106088,306.99147749930205,-131.14199038805137,178.82998689279734,235.45948274218316,658.69045172180347,372.56247269332778,65.570995194025684,0.59609995630932444,0,0,56.629495849385819]
[null,0.83,null,"Ratsioon muudetud KA kogusest",null,"Teraviljad","Mais 260-20/21",0.2,0.86,14.2,29,121,-100,-100,0.4,0.4,3.1,95,null,700,28,108,null,null,null,null,1,-0.5,-0.5,null,null,null,null,null,null,null,null,null,null,null,null,null,null,null,null,null,null,null,null,null,null,0,1,0,0,0,0,0,0,0,0,0,0,0,0,0,0,0,0,0,0,null,null,null,null,null,45,0.1,null,null,12,null,null,null,null,null,null,null,null,null,null,null,null,null,null,null,null,null,null,null,null,null,null,8.8817841970012523E-16,{"$f":"'Optimaalne ratsioon'!H13","v":7.6383344094210769E-16},5.3468340865947539E-13,3.055333763768431E-16,2.3678836669205338E-15,1.0846434861377929E-14,9.2423846353995034E-14,-7.638334409421077E-14,2.2151169787321124E-14,2.1387336346379014E-14,8.2494011621747628E-14,7.2564176889500234E-14,3.4372504842394849E-14,7.6383344094210776E-17,0,0,9.1660012913052927E-15]
[null,0.82,null,{"$f":"SUMPRODUCT(DA3:DA31,I3:I31)","v":7.82294756466663},null,"Nisu","Nisu 265-20/21",0.17699999999999999,0.86,13.8,25,106,-28,-28,0.6,0.6,3.8,146,null,650,null,null,null,null,null,null,1,-0.5,0.5,null,null,null,null,null,null,null,null,null,null,null,null,null,null,null,null,null,null,null,null,null,null,0,0,0,0,0,0,0,0,0,0,0,0,0,0,0,0,0,1,0,0,null,null,null,null,null,26,null,null,null,90,null,null,null,null,null,null,null,null,null,null,null,null,null,null,null,null,null,null,null,null,null,null,0,{"$f":"'Optimaalne ratsioon'!H14","v":0},0,0,0,0,0,0,0,0,0,0,0,0,0,0,0]
[null,0.9,null,null,null,"Mineraalid","Mineraal2",0.05,0.99,null,null,null,null,0,150,150,75,null,null,null,null,null,null,null,null,null,null,null,null,null,null,1,null,null,null,null,null,null,null,null,null,null,null,null,null,null,null,null,null,null,null,null,null,null,null,null,null,null,null,null,null,null,null,null,null,null,null,null,null,null,null,null,null,null,null,null,null,null,null,null,null,null,null,null,null,null,null,null,null,null,null,null,null,null,null,null,null,null,null,null,null,null,null,0,{"$f":"'Optimaalne ratsioon'!H15","v":0},0,0,0,0,0,0,0,0,0,0,0,0,0,0,0]
[null,0.9,null,null,null,"Mineraalid","Lubjakivi",0.01,0.99,null,null,null,null,0,360,360,null,null,null,null,null,null,null,null,null,null,null,null,null,null,null,null,1,null,null,null,null,null,null,null,null,null,null,null,null,null,null,null,null,null,null,null,null,null,null,null,null,null,null,null,null,null,null,null,null,null,null,null,null,null,null,null,null,null,null,null,null,null,null,null,null,null,null,null,null,null,null,null,null,null,null,null,null,null,null,null,null,null,null,null,null,null,null,9.3680153335307381E-2,{"$f":"'Optimaalne ratsioon'!H16","v":9.274335180195431E-2},0,33.387606648703553,0,0,0,0,0,0,0,0,0,0,0,0,0]
[null,0.86,null,null,null,"Mineraalid","Mineraal 3",0.72,0.99,null,null,null,null,0,175,175,75,null,null,null,null,null,null,null,null,null,null,null,null,null,null,null,null,null,null,null,null,null,null,null,null,null,null,null,null,null,null,null,null,null,null,null,null,null,null,null,null,null,null,null,null,null,null,null,null,null,null,null,null,null,null,null,null,null,null,null,null,null,null,null,null,null,null,null,null,null,null,null,null,null,null,null,null,null,null,null,null,null,null,null,null,null,null,0,{"$f":"'Optimaalne ratsioon'!H17","v":0},0,0,0,0,0,0,0,0,0,0,0,0,0,0,0]
[null,0.86,null,null,null,"Mineraalid","Karbamiid",0.29499999999999998,0.99,null,null,null,2625,2625,null,0,null,2625,null,null,null,null,null,null,null,null,null,null,null,null,null,null,null,null,null,null,null,null,null,null,null,null,null,null,null,null,null,null,null,null,null,null,null,null,null,null,null,null,null,null,null,null,null,null,null,null,null,null,null,null,null,null,null,null,null,null,null,null,null,null,null,null,null,null,null,null,null,null,null,null,null,null,null,null,null,null,null,null,null,null,null,null,null,0,{"$f":"'Optimaalne ratsioon'!H18","v":0},0,0,0,0,0,0,0,0,0,0,0,0,0,0,0]
[null,0.86,null,null,null,"Rasv","Kaitstud rasv",1.1299999999999999,0.99,32,null,null,null,0,null,0,null,null,null,null,null,null,null,null,null,null,null,null,null,null,null,null,null,null,1,null,null,null,null,null,null,null,null,null,null,null,null,null,null,null,null,null,null,null,null,null,null,null,null,null,null,null,null,null,null,null,null,null,null,null,null,null,null,null,null,null,null,null,null,null,null,null,null,null,null,null,null,null,null,null,null,null,null,null,null,null,null,null,null,null,null,null,null,0,{"$f":"'Optimaalne ratsioon'!H19","v":0},0,0,0,0,0,0,0,0,0,0,0,0,0,0,0]
[null,0.65,null,null,null,null,null,null,null,null,null,null,null,null,null,null,null,null,null,null,null,null,null,null,null,null,null,null,null,null,null,null,null,null,null,null,null,null,null,null,null,null,null,null,null,null,null,null,null,null,null,null,null,null,null,null,null,null,null,null,null,null,null,null,null,null,null,null,null,null,null,null,null,null,null,null,null,null,null,null,null,null,null,null,null,null,null,null,null,null,null,null,null,null,null,null,null,null,null,null,null,null,null,0,{"$f":"'Optimaalne ratsioon'!H20","v":0},0,0,0,0,0,0,0,0,0,0,0,0,0,0,0]
[null,0.99,null,null,null,null,null,null,null,null,null,null,null,null,null,null,null,null,null,null,null,null,null,null,null,null,null,null,null,null,null,null,null,null,null,null,null,null,null,null,null,null,null,null,null,null,null,null,null,null,null,null,null,null,null,null,null,null,null,null,null,null,null,null,null,null,null,null,null,null,null,null,null,null,null,null,null,null,null,null,null,null,null,null,null,null,null,null,null,null,null,null,null,null,null,null,null,null,null,null,null,null,null,0,{"$f":"'Optimaalne ratsioon'!H21","v":0},0,0,0,0,0,0,0,0,0,0,0,0,0,0,0]
[null,0.99,null,null,null,null,null,null,null,null,null,null,null,null,null,null,null,null,null,null,null,null,null,null,null,null,null,null,null,null,null,null,null,null,null,null,null,null,null,null,null,null,null,null,null,null,null,null,null,null,null,null,null,null,null,null,null,null,null,null,null,null,null,null,null,null,null,null,null,null,null,null,null,null,null,null,null,null,null,null,null,null,null,null,null,null,null,null,null,null,null,null,null,null,null,null,null,null,null,null,null,null,null,0,{"$f":"'Optimaalne ratsioon'!H22","v":0},0,0,0,0,0,0,0,0,0,0,0,0,0,0,0]
[null,0.99,null,null,null,null,null,null,null,null,null,null,null,null,null,null,null,null,null,null,null,null,null,null,null,null,null,null,null,null,null,null,null,null,null,null,null,null,null,null,null,null,null,null,null,null,null,null,null,null,null,null,null,null,null,null,null,null,null,null,null,null,null,null,null,null,null,null,null,null,null,null,null,null,null,null,null,null,null,null,null,null,null,null,null,null,null,null,null,null,null,null,null,null,null,null,null,null,null,null,null,null,null,0,{"$f":"'Optimaalne ratsioon'!H23","v":0},0,0,0,0,0,0,0,0,0,0,0,0,0,0,0]
[null,0.99,null,null,null,null,null,null,null,null,null,null,null,null,null,null,null,null,null,null,null,null,null,null,null,null,null,null,null,null,null,null,null,null,null,null,null,null,null,null,null,null,null,null,null,null,null,null,null,null,null,null,null,null,null,null,null,null,null,null,null,null,null,null,null,null,null,null,null,null,null,null,null,null,null,null,null,null,null,null,null,null,null,null,null,null,null,null,null,null,null,null,null,null,null,null,null,null,null,null,null,null,null,0,{"$f":"'Optimaalne ratsioon'!H24","v":0},0,0,0,0,0,0,0,0,0,0,0,0,0,0,0]
[null,null,null,null,null,null,null,null,null,null,null,null,null,null,null,null,null,null,null,null,null,null,null,null,null,null,null,null,null,null,null,null,null,null,null,null,null,null,null,null,null,null,null,null,null,null,null,null,null,null,null,null,null,null,null,null,null,null,null,null,null,null,null,null,null,null,null,null,null,null,null,null,null,null,null,null,null,null,null,null,null,null,null,null,null,null,null,null,null,null,null,null,null,null,null,null,null,null,null,null,null,null,null,0,{"$f":"'Optimaalne ratsioon'!H25","v":0},0,0,0,0,0,0,0,0,0,0,0,0,0,0,0]
[null,null,null,null,null,null,null,null,null,null,null,null,null,null,null,null,null,null,null,null,null,null,null,null,null,null,null,null,null,null,null,null,null,null,null,null,null,null,null,null,null,null,null,null,null,null,null,null,null,null,null,null,null,null,null,null,null,null,null,null,null,null,null,null,null,null,null,null,null,null,null,null,null,null,null,null,null,null,null,null,null,null,null,null,null,null,null,null,null,null,null,null,null,null,null,null,null,null,null,null,null,null,null,0,{"$f":"'Optimaalne ratsioon'!H26","v":0},0,0,0,0,0,0,0,0,0,0,0,0,0,0,0]
[null,null,null,null,null,null,null,null,null,null,null,null,null,null,null,null,null,null,null,null,null,null,null,null,null,null,null,null,null,null,null,null,null,null,null,null,null,null,null,null,null,null,null,null,null,null,null,null,null,null,null,null,null,null,null,null,null,null,null,null,null,null,null,null,null,null,null,null,null,null,null,null,null,null,null,null,null,null,null,null,null,null,null,null,null,null,null,null,null,null,null,null,null,null,null,null,null,null,null,null,null,null,null,0,{"$f":"'Optimaalne ratsioon'!H27","v":0},0,0,0,0,0,0,0,0,0,0,0,0,0,0,0]
["silode tabeli jaoks","teraviljad + nisu"]
[]
[]
[null,null,null,null,null,null,null,null,null,null,null,null,null,null,null,null,null,null,null,null,null,null,null,null,null,null,null,null,null,null,null,null,null,null,null,null,null,null,null,null,null,null,null,null,null,null,null,null,null,null,null,null,null,null,null,null,null,null,null,null,null,null,null,null,null,null,null,null,null,null,null,null,null,null,null,null,null,null,null,null,null,null,null,null,null,null,null,null,null,null,null,null,null,null,null,null,null,null,null,null,null,null,null,{"$f":"SUM(CZ3:CZ27)","v":28.635311053248799},{"$f":"SUM(DA3:DA27)","v":13.559803790000766},2659.1273566979212,94.918626530003635,54.239215160002217,146.67950176804578,1291.266240539946,67.799018949979526,2319.3234766733954,3639.5017092110402,5684.3729435377863,2142.4489988200708,526.4961134313786,5.0543339599726647,0,0,1710.141296135115]
[false,true,50]
[false,true,0]
[false,false,1]
[false,false,0]
[true,false]
[false,false,null,null,null,null,null,null,null,null,null,null,null,null,null,null,null,null,null,null,null,null,null,null,null,null,null,null,null,null,null,null,null,null,null,null,null,null,null,null,null,null,null,null,null,null,null,null,null,null,null,null,null,null,null,null,null,null,null,null,null,null,null,null,null,null,null,null,null,null,null,null,null,null,null,null,null,null,null,null,null,null,null,null,null,null,null,null,null,null,null,null,null,null,null,null,null,null,null,null,null,null,null,{"$f":"(SUMPRODUCT(--(Tehniline!F3:'Tehniline'!F27=\"Teraviljad\"),Tehniline!CZ3:CZ27,Tehniline!I3:I27)+SUMPRODUCT(--(Tehniline!F3:'Tehniline'!F27=\"Õlikoogid\"),Tehniline!CZ3:CZ27,Tehniline!I3:I27)+SUMPRODUCT(--(Tehniline!F3:'Tehniline'!F27=\"Nisu\"),Tehniline!CZ3:CZ27,Tehniline!I3:I27))/Tehniline!DA31","v":0.36323182830793416}]
[false,false,1]
[true,false,0.5]
[true,false]
[false,false]
[false,false,5]
[false,false]
[false,false]
[null,false,15]
[null,false,0.5]
[null,false,0]
[null,false]
[null,true]
[null,false,0.2]
[null,false]
[]
[null,null,0.2]
[null,null,0.25]
[]
[]
[null,null,0]
[null,null,0]

{"sheet":"0…30 lüpsipäev","index":6,"n_rows":50,"n_cols":22,"rows_kept":50,"cut":false,"hidden":false,"merged":[[0,7,0,21],[29,7,29,8],[29,10,29,11],[29,14,29,15]]}
[null,null,null,null,null,null,null,"Ratsioonis"]
[null,"Söödad","Kogus, kg","Hind, €/kg","Maksumus, €",null,null,"KA, kg","TP, g","T+S, g","MP, g","VPB, g","ME, MJ","TR, g","TK, g","Ca, g","P, g","Na, g","K, g","Mg, g","KAB, mekv","Hind"]
[null,"Põldheinasilo (50% ristikut) LL  103-12-40",19.764289501221544,0.03,0.59292868503664631,null,19.764289501221544,6.9175013254275397,933.86267893271781,207.5250397628262,546.48260470877563,0,67.791512989189897,6.9175013254275397,1936.9003711197111,68.483263121732648,17.985503446111604,13.835002650855079,20.752503976282618,27.670005301710159,34.587506627137699,0.59292868503664631]
[null,"Timutisilo  LL 200-12-40",14.179621133942637,0.03,0.42538863401827909,null,14.179621133942637,4.9628673968799228,570.72975064119112,148.88602190639767,377.17792216287415,-74.443010953198836,50.124960708487222,4.9628673968799228,1434.2686776982978,25.806910463775601,13.399741971575793,9.9257347937598457,14.888602190639769,19.851469587519691,24.814336984399613,0.42538863401827909]
[null,"V auk - rohusilo",0,0.03,0,null,0,0,0,0,0,0,0,0,0,0,0,0,0,0,0,0]
[null,"Maisisilo PK 260-12-70",0,0.03,0,null,0,0,0,0,0,0,0,0,0,0,0,0,0,0,0,0]
[null,"VII auk - maisisilo",8.4859776587910449,0.03,0.25457932976373132,null,8.4859776587910449,1.9517748615219404,177.61151239849659,390.35497230438807,154.1902140602333,-83.926319045443435,21.469523476741344,1.9517748615219404,435.24579411939271,7.6119219599355672,4.0987272091960749,3.9035497230438807,5.8553245845658211,7.8070994460877614,9.7588743076097018,0.25457932976373132]
[null,"Hein kõrreliste kultuurrohumaa  030-15-60",0,7.8E-2,0,null,0,0,0,0,0,0,0,0,0,0,0,0,0,0,0,0]
[null,"Põldhein (50% ristikut)  LL 103-15-40",0.99999999999999678,7.8E-2,7.799999999999975E-2,null,0.99999999999999678,0.8299999999999973,102.08999999999966,0,67.229999999999777,-14.109999999999953,7.7189999999999754,0.8299999999999973,260.61999999999915,7.6359999999999744,1.9919999999999933,1.6599999999999946,2.4899999999999918,3.3199999999999892,4.1499999999999861,7.799999999999975E-2]
[null,"Odrapõhk 255-16-0",0.50000000000000178,1.4999999999999999E-2,7.5000000000000266E-3,null,0.50000000000000178,0.41500000000000148,19.50500000000007,0,23.240000000000084,-19.920000000000073,2.8635000000000104,0.41500000000000148,174.30000000000061,1.6185000000000058,0.41500000000000148,0.83000000000000296,1.2450000000000045,1.6600000000000059,2.0750000000000073,7.5000000000000266E-3]
[null,"Rapsikook  350-28",2.9647840311279072,0.27,0.800491688404535,null,2.9647840311279072,2.6683056280151165,912.56052478116987,320.19667536181396,429.59720611043377,370.89448229410118,35.755295415402564,2.6683056280151165,328.20159224585933,22.14693671252547,28.017209094158723,5.336611256030233,8.0049168840453504,10.673222512060466,13.341528140075582,0.800491688404535]
[null,"Sojašrott 310-29",0,0.46,0,null,0,0,0,0,0,0,0,0,0,0,0,0,0,0,0,0]
[null,"Oder  255-20/21",4.7594631603066141E-17,0.159,7.5675464248875169E-18,null,4.7594631603066141E-17,4.0931383178636882E-17,5.1164228973296103E-15,2.4558829907182128E-14,4.2159324673995991E-15,-1.8009808598600227E-15,5.3210798132227943E-16,4.0931383178636882E-17,2.4558829907182127E-15,3.2745106542909504E-17,1.6781867103241121E-16,8.1862766357273763E-17,1.2279414953591065E-16,1.6372553271454753E-16,2.046569158931844E-16,7.5675464248875169E-18]
[null,"Mais 260-20/21",6.1599456072690538E-2,0.2,1.2319891214538109E-2,null,6.1599456072690538E-2,5.297553222251386E-2,5.0326755611388165,37.0828725557597,6.4100393989241775,-5.2975532222513859,0.75225255755969678,5.297553222251386E-2,1.536290434452902,2.1190212889005546E-2,0.16422414988979298,0.10595106444502772,0.15892659666754158,0.21190212889005544,0.26487766111256927,1.2319891214538109E-2]
[null,"Nisukliid 265-24",0.9835244720150832,0.15,0.14752867080226248,null,0.9835244720150832,0.84583104593297154,141.25378467080625,507.4986275597829,77.816456225833377,15.224958826793488,9.4733077144492803,0.84583104593297154,82.045611455498232,1.18416346430616,9.3041415052626864,1.6916620918659431,2.5374931377989145,3.3833241837318861,4.2291552296648574,0.14752867080226248]
[null,"Nisu 265-20/21",0,0.17699999999999999,0,null,0,0,0,0,0,0,0,0,0,0,0,0,0,0,0,0]
[null,"Mineraal1",0,0.05,0,null,0,0,0,0,0,0,0,0,0,0,0,0,0,0,0,0]
[null,"Mineraal2",0.20000000000000004,0.05,1.0000000000000002E-2,null,0.20000000000000004,0.19800000000000004,0,0,0,0,0,0.19800000000000004,0,29.700000000000006,14.850000000000003,0.39600000000000007,0.59400000000000008,0.79200000000000015,0.99000000000000021,1.0000000000000002E-2]
[null,"Lubjakivi",0,0.01,0,null,0,0,0,0,0,0,0,0,0,0,0,0,0,0,0,0]
[null,"Mineraal 3",0,0.72,0,null,0,0,0,0,0,0,0,0,0,0,0,0,0,0,0,0]
[null,"Sooda",0,0.34300000000000003,0,null,0,0,0,0,0,0,0,0,0,0,0,0,0,0,0,0]
[null,"Karbamiid",0,0.29499999999999998,0,null,0,0,0,0,0,0,0,0,0,0,0,0,0,0,0,0]
[null,"Mineraal 4",0,1.3149999999999999,0,null,0,0,0,0,0,0,0,0,0,0,0,0,0,0,0,0]
[null,"Kaitstud rasv",0,1.1299999999999999,0,null,0,0,0,0,0,0,0,0,0,0,0,0,0,0,0,0]
[null,null,null,null,null,null,null,0,0,0,0,0,0,0,0,0,0,0,0,0,0,0]
[null,"Kontrollnäitajad"]
[]
[null,"Ratsiooni maksumus, €/päev",2.3287368992399919,null,null,null,"Kokku:",18.842255790000003,2862.6459269855204,1611.5442094509685,1682.1444426670744,188.42255790000095,195.94935286182999,18.842255790000003,4653.1183370732115,164.20888593516446,90.226547376194674,37.684511580000006,56.526767370000009,75.369023160000012,94.211278950000008,2.3287368992399919]
[null,"Ratsiooni kogus, kg/päev",48.139796253170907,null,null,null,"1kg/KA's",null,151.92692206762149,85.528199352131196,89.275109170305669,10.00000000000005,10.399463580460711,1,246.95123497594821,8.714927117288882,4.7885215221459774,2,3,4,5]
[null,null,null,null,null,null,null,"TP/ME suhe: ",null,14.609111411580223,"MP/ME suhe:",null,8.5845878952874468,null,"Ca:P suhe:",null,1.8199619813723389]
[null,"Kuivaine kogus, kg",18.842255790000003,null,null,null,null,null,"TF tarbenormid:",2.8988085830769231E-2,null,null,null," kg lehmale, kes lüpsab ","34","kg EKM piima "]
[null,"Kuivaine osatähtsus ratsiooni kogumassist, %",0.39140705313556218,null,null,null,null,null,null,null,null,null,null,null,"ja kelle kehamassi muutus on",0.7,"kg"]
[null,"Jõusööda osakaal ratsiooni kuivainest, %",0.18931449853598456,null,null,null,null,null,"TARVE:",null,1693.3283221339962,null,226.313229652117,null,null,102.00144940429153,68.001449404291535]
[null,"Silo osatähtsus kuivainest, % ",0.73410231439329166,null,null,null,null,null,"VAHE:",null,-11.18387946692178,null,-30.363876790287009,null,null,62.207436530872926,22.225097971903139]
[null,"Maisisilo osatähtsus kogu silokoguse kuivainest, %",0.14110429447852763,null,null,null,null,null,null,null,177.23867843307917]
[null,"Nisu osatähtsus teravilja ja jahude kogusest, %",0.94106014184806108,null,null,null,null,null,null,null,null,"Ei tohi olla negatiivne ega üle +300"]
[]
[null,"Metaboliseeruv energia, MJ",195.94935286182999,null,null,null,null,null,null,"Piima karbamiid, mg/l",280.8683771595301,"(PBV järgi)"]
[null,"Metaboliseeruv energia, MJ/kg KA",10.399463580460711,null,null,null,null,null,null,"Piima karbamiid, mg/l",274.58696544467585,"(TP/ME suhte järgi)"]
[null,"(Toor)proteiin, g KA",151.92692206762149,null,null,null,null,null,null,"Ratsioon kuivaine(kg)",9.010855993384979]
[null,"Toorproteiini ja metaboliseeruva energia suhe",14.609111411580221,null,null,null,null,null,null,"Ratsioon kuivaine(%)",0.47822596688063418]
[null,"Metaboliseeruv proteiin, g/kg KA",89.275109170305669]
[null,"Metaboliseeruva proteiini ja metaboliseeruva energia suhe",8.5845878952874468]
[null,"VPB, g",10.000000000000052]
[null,"Ca:P suhe",1.8199619813723384]
[]
[null,"Tärklis ja suhkur ratsiooni kuivaines, g/kg",85.528199352131196]
[null,"Toorkiud, g/kg KA",246.95123497594821]
[null,"ADF, g/kg KA",326.4491196218321]
[null,"NDF, g/kg KA",484.13580240262945]

{"sheet":"Laktatsiooni I pool","index":7,"n_rows":50,"n_cols":22,"rows_kept":50,"cut":false,"hidden":false,"merged":[[0,7,0,21],[29,7,29,8],[29,10,29,11],[29,14,29,15]]}
[null,null,null,null,null,null,null,"Ratsioonis"]
[null,"Söödad","Kogus, kg","Hind, €/kg","Maksumus, €",null,null,"KA, kg","TP, g","T+S, g","MP, g","VPB, g","ME, MJ","TR, g","TK, g","Ca, g","P, g","Na, g","K, g","Mg, g","KAB, mekv","Hind"]
[null,"Põldheinasilo (50% ristikut) LL  103-12-40",34.239530190419366,0.03,1.0271859057125809,null,23.8,8.33,1124.55,208.25,658.07,0,81.634,8.33,2332.4,82.466999999999999,21.658000000000001,16.66,24.990000000000002,33.32,41.65,0.71399999999999997]
[null,"V auk - rohusilo",0,0.03,0,null,0,0,0,0,0,0,0,0,0,0,0,0,0,0,0,0]
[null,"VII auk - maisisilo",8.5598825475988694,0.03,0.25679647642796605,null,8.5598825475988694,1.9687729859477401,179.15834172124434,590.63189578432207,155.53306588987147,-84.657238395752827,21.656502845425141,1.9687729859477401,439.03637586634602,7.6782146451961859,4.1344232704902542,3.9375459718954802,5.9063189578432205,7.8750919437909603,9.8438649297387002,0.25679647642796605]
[null,"Hein kõrreliste kultuurrohumaa  030-15-60",1,7.8E-2,7.8E-2,null,1,0.83,66.399999999999991,0,57.269999999999996,-32.369999999999997,6.9719999999999995,0.83,278.05,4.399,1.9089999999999998,1.66,2.4899999999999998,3.32,4.1499999999999995,7.8E-2]
[null,"Põldhein (50% ristikut)  LL 103-15-40",0,7.8E-2,0,null,0,0,0,0,0,0,0,0,0,0,0,0,0,0,0,0]
[null,"Odrapõhk 255-16-0",0.50000000000000011,1.4999999999999999E-2,7.5000000000000015E-3,null,0.50000000000000011,0.41500000000000009,19.505000000000003,0,23.240000000000006,-19.920000000000005,2.8635000000000006,0.41500000000000009,174.30000000000004,1.6185000000000003,0.41500000000000009,0.83000000000000018,1.2450000000000003,1.6600000000000004,2.0750000000000006,7.5000000000000015E-3]
[null,"Rapsikook  350-28",3.9999999999999996,0.27,1.0799999999999998,null,4.3,3.87,1323.54,464.40000000000003,623.07000000000005,537.93000000000006,51.858000000000004,3.87,476.01,32.121000000000002,40.634999999999998,7.74,11.61,15.48,19.350000000000001,1.161]
[null,"Sojašrott 310-29",0,0.46,0,null,0,0,0,0,0,0,0,0,0,0,0,0,0,0,0,0]
[null,"Oder  255-20/21",2.5822422673878105,0.159,0.41057652051466187,null,3.5,3.01,376.25,1805.9999999999998,310.02999999999997,-132.44,39.129999999999995,3.01,180.6,2.4079999999999999,12.340999999999998,6.02,9.0299999999999994,12.04,15.049999999999999,0.55649999999999999]
[null,"Mais 260-20/21",-4.4408920985006262E-16,0.2,-8.8817841970012528E-17,null,2,1.72,163.4,1204,208.12,-172,24.423999999999999,1.72,49.88,0.68800000000000006,5.3319999999999999,3.44,5.16,6.88,8.6,0.4]
[null,"Nisu 265-20/21",2.5822422673906913,0.17699999999999999,0.45705688132815231,null,3.5,3.01,439.46,1956.4999999999998,319.06,-84.28,41.537999999999997,3.01,75.25,1.8059999999999998,11.437999999999999,6.02,9.0299999999999994,12.04,15.049999999999999,0.61949999999999994]
[null,"Mineraal1",0,0.05,0,null,0,0,0,0,0,0,0,0,0,0,0,0,0,0,0,0]
[null,"Mineraal2",0.25,0.05,1.2500000000000001E-2,null,0.25,0.2475,0,0,0,0,0,0.2475,0,37.125,18.5625,0.495,0.74249999999999994,0.99,1.2375,1.2500000000000001E-2]
[null,"Lubjakivi",0,0.01,0,null,0.1,9.9000000000000005E-2,0,0,0,0,0,9.9000000000000005E-2,0,35.64,0,0.19800000000000001,0.29700000000000004,0.39600000000000002,0.495,1E-3]
[null,"Mineraal 3",1.3570452013578486E-2,0.72,9.7707254497765086E-3,null,1.3570452013578486E-2,1.34347474934427E-2,0,0,0,0,0,1.34347474934427E-2,0,2.3510808113524724,1.0076060620082026,2.6869494986885401E-2,4.0304242480328101E-2,5.3738989973770801E-2,6.7173737467213501E-2,9.7707254497765086E-3]
[null,"Sooda",0,0.34300000000000003,0,null,0,0,0,0,0,0,0,0,0,0,0,0,0,0,0,0]
[null,"Karbamiid",0,0.29499999999999998,0,null,0,0,0,0,0,0,0,0,0,0,0,0,0,0,0,0]
[null,"Mineraal 4",0,1.3149999999999999,0,null,0,0,0,0,0,0,0,0,0,0,0,0,0,0,0,0]
[null,"Kaitstud rasv",0,1.1299999999999999,0,null,0,0,0,0,0,0,0,0,0,0,0,0,0,0,0,0]
[null,null,0,null,0,null,0,0,0,0,0,0,0,0,0,0,0,0,0,0,0,0]
[null,null,0,null,0,null,0,0,0,0,0,0,0,0,0,0,0,0,0,0,0,0]
[null,null,0,null,0,null,0,0,0,0,0,0,0,0,0,0,0,0,0,0,0,0]
[null,null,null,null,null,null,null,0,0,0,0,0,0,0,0,0,0,0,0,0,0,0]
[null,"Kontrollnäitajad"]
[]
[null,"Ratsiooni maksumus, €/päev",3.3393865094331376,null,null,null,"Kokku:",23.51370773344118,3692.2633417212446,6229.7818957843219,2354.3930658898717,12.262761604247231,270.07600284542514,23.51370773344118,4005.5263758663464,208.30179545654863,117.43252933249845,47.02741546688236,70.541123200323554,94.05483093376472,117.56853866720591,3.8165672018777426]
[null,"Ratsiooni kogus, kg/päev",53.727467724810317,null,null,null,"1kg/KA's",null,157.0259945210644,264.94255888552743,100.12853321900634,0.52151543870757311,11.485896052936102,1,170.34856524008288,8.8587388181363647,4.9942157427382661,2,3.0000000000000004,4,5.0000000000000009]
[null,null,null,null,null,null,null,"TP/ME suhe: ",null,13.671201079773343,"MP/ME suhe:",null,8.7175204056814373,null,"Ca:P suhe:",null,1.7737997864864423]
[null,"Kuivaine kogus, kg",23.49999999999747,null,null,null,null,null,"TF tarbenormid:",650,null,null,null," kg lehmale, kes lüpsab ","38","kg EKM piima "]
[null,"Kuivaine osatähtsus ratsiooni kogumassist, %",0.43739265956779161,null,null,null,null,null,null,null,null,null,null,null,"ja kelle kehamassi muutus on",0,"kg"]
[null,"Jõusööda osakaal ratsiooni kuivainest, %",0.34218964680469682,null,null,null,null,null,"TARVE:",null,2128.3775558512339,null,267.61002582081034,null,null,146.5,108.5]
[null,"Silo osatähtsus kuivainest, % ",0.5937280235147242,null,null,null,null,null,"VAHE:",null,226.01551003863779,null,2.4659770246148014,null,null,61.801795456548632,8.9325293324984472]
[null,"Maisisilo osatähtsus kogu silokoguse kuivainest, %",0.14110429447844305,null,null,null,null,null,null,null,238.27827164288502]
[null,"Nisu osatähtsus teravilja ja jahude kogusest, %",0.500000000000279,null,null,null,null,null,null,null,null,"Ei tohi olla negatiivne ega üle +300"]
[]
[null,"Metaboliseeruv energia, MJ",256.68911117735206,null,null,null,null,null,null,"Piima karbamiid, mg/l",261.36748770959014,"(PBV järgi)"]
[null,"Metaboliseeruv energia, MJ/kg KA",10.922940901165093,null,null,null,null,null,null,"Piima karbamiid, mg/l",258.28514596754047,"(TP/ME suhte järgi)"]
[null,"(Toor)proteiin, g KA",158.12334153432869,null,null,null,null,null,null,"Ratsioon kuivaine(kg)",14.897403186786489]
[null,"Toorproteiini ja metaboliseeruva energia suhe",14.476260831683389,null,null,null,null,null,null,"Ratsioon kuivaine(%)",0.6335624885563842]
[null,"Metaboliseeruv proteiin, g/kg KA",94.744608544500167]
[null,"Metaboliseeruva proteiini ja metaboliseeruva energia suhe",8.6739102043840823]
[null,"VPB, g",8.6621412939381504]
[null,"Ca:P suhe",1.8199619813724668]
[]
[null,"Tärklis ja suhkur ratsiooni kuivaines, g/kg",174.38886052742293]
[null,"Toorkiud, g/kg KA",207.59243592655662]
[null,"ADF, g/kg KA",277.10525588244178]
[null,"NDF, g/kg KA",413.53791007308109]

{"sheet":"Laktatsiooni II pool","index":8,"n_rows":50,"n_cols":22,"rows_kept":50,"cut":false,"hidden":false,"merged":[[0,7,0,21],[29,7,29,8],[29,10,29,11],[29,14,29,15]]}
[null,null,null,null,null,null,null,"Ratsioonis"]
[null,"Söödad","Kogus, kg","Hind, €/kg","Maksumus, €",null,null,"KA, kg","TP, g","T+S, g","MP, g","VPB, g","ME, MJ","TR, g","TK, g","Ca, g","P, g","Na, g","K, g","Mg, g","KAB, mekv","Hind"]
[null,"Põldheinasilo (50% ristikut) LL  103-12-40",3.9134377593562557,0.03,0.11740313278068766,null,3.9134377593562557,1.3697032157746893,184.90993412958306,41.091096473240682,108.20655404620045,0,13.423091514591956,1.3697032157746893,383.51690041691302,13.560061836169425,3.5612283610141926,2.7394064315493787,4.1091096473240682,5.4788128630987574,6.8485160788734465,0.11740313278068766]
[null,"Timutisilo  LL 200-12-40",28.013270041025525,0.03,0.84039810123076575,null,28.013270041025525,9.8046445143589338,1127.5341191512773,294.13933543076803,745.152983091279,-147.06966771538401,99.026909595025231,9.8046445143589338,2833.5422646497318,50.984151474666454,26.472540188769123,19.609289028717868,29.413933543076801,39.218578057435735,49.023222571794669,0.84039810123076575]
[null,"V auk - rohusilo",0,0.03,0,null,0,0,0,0,0,0,0,0,0,0,0,0,0,0,0,0]
[null,"Maisisilo PK 260-12-70",0,0.03,0,null,0,0,0,0,0,0,0,0,0,0,0,0,0,0,0,0]
[null,"VII auk - maisisilo",0,0.03,0,null,0,0,0,0,0,0,0,0,0,0,0,0,0,0,0,0]
[null,"Hein kõrreliste kultuurrohumaa  030-15-60",0,7.8E-2,0,null,0,0,0,0,0,0,0,0,0,0,0,0,0,0,0,0]
[null,"Põldhein (50% ristikut)  LL 103-15-40",0.99999999999999134,7.8E-2,7.799999999999932E-2,null,0.99999999999999134,0.82999999999999274,102.08999999999911,0,67.229999999999407,-14.109999999999877,7.7189999999999328,0.82999999999999274,260.61999999999773,7.6359999999999326,1.9919999999999825,1.6599999999999855,2.489999999999978,3.319999999999971,4.1499999999999639,7.799999999999932E-2]
[null,"Odrapõhk 255-16-0",0.5,1.4999999999999999E-2,7.4999999999999997E-3,null,0.5,0.41499999999999998,19.504999999999999,0,23.24,-19.919999999999998,2.8635000000000002,0.41499999999999998,174.29999999999998,1.6184999999999998,0.41499999999999998,0.83,1.2449999999999999,1.66,2.0749999999999997,7.4999999999999997E-3]
[null,"Rapsikook  350-28",3.0050823021944217,0.27,0.81137222159249389,null,3.0050823021944217,2.7045740719749798,924.96433261544314,324.54888863699756,435.43642558797177,375.93579600452222,36.241292564464729,2.7045740719749798,332.66261085292251,22.447964797392334,28.398027755737289,5.4091481439499596,8.1137222159249394,10.818296287899919,13.522870359874899,0.81137222159249389]
[null,"Sojašrott 310-29",0,0.46,0,null,0,0,0,0,0,0,0,0,0,0,0,0,0,0,0,0]
[null,"Oder  255-20/21",0,0.159,0,null,0,0,0,0,0,0,0,0,0,0,0,0,0,0,0,0]
[null,"Mais 260-20/21",0.46085528824579514,0.2,9.2171057649159033E-2,null,0.46085528824579514,0.39633554789138381,37.65187704968146,277.43488352396867,47.956601294857442,-39.63355478913838,5.62796478005765,0.39633554789138381,11.493730888850131,0.15853421915655352,1.2286401984632898,0.79267109578276762,1.1890066436741513,1.5853421915655352,1.9816777394569192,9.2171057649159033E-2]
[null,"Nisukliid 265-24",2.2204460492503131E-16,0.15,3.3306690738754695E-17,null,2.2204460492503131E-16,1.9095836023552692E-16,3.1890046159332997E-14,1.1457501614131615E-13,1.7568169141668478E-14,3.4372504842394847E-15,2.1387336346379015E-15,1.9095836023552692E-16,1.8522960942846112E-14,2.6734170432973769E-16,2.100541962590796E-15,3.8191672047105384E-16,5.7287508070658079E-16,7.6383344094210769E-16,9.5479180117763459E-16,3.3306690738754695E-17]
[null,"Nisu 265-20/21",1.1102230246251565E-16,0.17699999999999999,1.965094753586527E-17,null,1.1102230246251565E-16,9.5479180117763461E-17,1.3939960297193466E-14,6.2061467076546251E-14,1.0120793092482927E-14,-2.6734170432973768E-15,1.3176126856251358E-15,9.5479180117763461E-17,2.3869795029440866E-15,5.7287508070658079E-17,3.6282088444750113E-16,1.9095836023552692E-16,2.864375403532904E-16,3.8191672047105384E-16,4.7739590058881729E-16,1.965094753586527E-17]
[null,"Mineraal1",0,0.05,0,null,0,0,0,0,0,0,0,0,0,0,0,0,0,0,0,0]
[null,"Mineraal2",0,0.05,0,null,0,0,0,0,0,0,0,0,0,0,0,0,0,0,0,0]
[null,"Lubjakivi",0,0.01,0,null,0,0,0,0,0,0,0,0,0,0,0,0,0,0,0,0]
[null,"Mineraal 3",0,0.72,0,null,0,0,0,0,0,0,0,0,0,0,0,0,0,0,0,0]
[null,"Sooda",0,0.34300000000000003,0,null,0,0,0,0,0,0,0,0,0,0,0,0,0,0,0,0]
[null,"Karbamiid",0,0.29499999999999998,0,null,0,0,0,0,0,0,0,0,0,0,0,0,0,0,0,0]
[null,"Mineraal 4",0,1.3149999999999999,0,null,0,0,0,0,0,0,0,0,0,0,0,0,0,0,0,0]
[null,"Kaitstud rasv",0,1.1299999999999999,0,null,0,0,0,0,0,0,0,0,0,0,0,0,0,0,0,0]
[null,null,null,null,null,null,null,0,0,0,0,0,0,0,0,0,0,0,0,0,0,0]
[null,"Kontrollnäitajad"]
[]
[null,"Ratsiooni maksumus, €/päev",1.9468445132531058,null,null,null,"Kokku:",15.52025734999998,2396.6552629459838,937.21420406497509,1427.222564020308,155.20257349999997,164.9017584541395,15.52025734999998,3996.1355068084154,96.405212327384703,62.067436503983878,31.04051469999996,46.56077204999994,62.08102939999992,77.601286749999886,1.9468445132531058]
[null,"Ratsiooni kogus, kg/päev",36.89264539082199,null,null,null,"1kg/KA's",null,154.42110326514572,60.386511829649287,91.958691910499141,10.000000000000011,10.624937121557441,1,257.47868844509981,6.2115730527744653,3.9991241835937701,2,3,4,4.9999999999999991]
[null,null,null,null,null,null,null,"TP/ME suhe: ",null,14.533836906369395,"MP/ME suhe:",null,8.6549869291856592,null,"Ca:P suhe:",null,1.553233350006276]
[null,"Kuivaine kogus, kg",15.52025734999998,null,null,null,null,null,"TF tarbenormid:",2.821864972727273E-2,null,null,null," kg lehmale, kes lüpsab ","20","kg EKM piima "]
[null,"Kuivaine osatähtsus ratsiooni kogumassist, %",0.42068702814846259,null,null,null,null,null,null,null,null,null,null,null,"ja kelle kehamassi muutus on",0.7,"kg"]
[null,"Jõusööda osakaal ratsiooni kuivainest, %",0.19979756455947995,null,null,null,null,null,"TARVE:",null,1063.3237615864855,null,149.03256591704852,null,null,60.001410932486365,40.001410932486365]
[null,"Silo osatähtsus kuivainest, % ",0.71998469343252469,null,null,null,null,null,"VAHE:",null,363.89880243382254,null,15.869192537090981,null,null,36.403801394898338,22.066025571497512]
[null,"Maisisilo osatähtsus kogu silokoguse kuivainest, %",0,null,null,null,null,null,null,null,519.10137593382251]
[null,"Nisu osatähtsus teravilja ja jahude kogusest, %",7.2271473471713095E-16,null,null,null,null,null,null,null,null,"Ei tohi olla negatiivne ega üle +300"]
[]
[null,"Metaboliseeruv energia, MJ",164.9017584541395,null,null,null,null,null,null,"Piima karbamiid, mg/l",277.19092488644998,"(PBV järgi)"]
[null,"Metaboliseeruv energia, MJ/kg KA",10.624937121557441,null,null,null,null,null,null,"Piima karbamiid, mg/l",273.27861926960645,"(TP/ME suhte järgi)"]
[null,"(Toor)proteiin, g KA",154.42110326514572,null,null,null,null,null,null,"Ratsioon kuivaine(kg)",7.7193369415108331]
[null,"Toorproteiini ja metaboliseeruva energia suhe",14.533836906369393,null,null,null,null,null,null,"Ratsioon kuivaine(%)",0.4973717102384802]
[null,"Metaboliseeruv proteiin, g/kg KA",91.958691910499141]
[null,"Metaboliseeruva proteiini ja metaboliseeruva energia suhe",8.6549869291856592]
[null,"VPB, g",10.000000000000007]
[null,"Ca:P suhe",1.553233350006276]
[]
[null,"Tärklis ja suhkur ratsiooni kuivaines, g/kg",60.386511829649287]
[null,"Toorkiud, g/kg KA",257.47868844509981]
[null,"ADF, g/kg KA",343.16313777541825]
[null,"NDF, g/kg KA",517.30846055576444]

{"sheet":"Kinnisperiood","index":9,"n_rows":50,"n_cols":22,"rows_kept":50,"cut":false,"hidden":false,"merged":[[0,7,0,21],[29,7,29,8],[29,10,29,11],[29,14,29,15]]}
[null,null,null,null,null,null,null,"Ratsioonis"]
[null,"Söödad","Kogus, kg","Hind, €/kg","Maksumus, €",null,null,"KA, kg","TP, g","T+S, g","MP, g","VPB, g","ME, MJ","TR, g","TK, g","Ca, g","P, g","Na, g","K, g","Mg, g","KAB, mekv","Hind"]
[null,"Põldheinasilo (50% ristikut) LL  103-12-40",0,0.03,0,null,0,0,0,0,0,0,0,0,0,0,0,0,0,0,0,0]
[null,"Timutisilo  LL 200-12-40",26.333717269968762,0.03,0.79001151809906278,null,26.333717269968762,9.2168010444890669,1059.9321201162427,276.50403133467199,700.47687938116906,-138.252015667336,93.089690549339579,9.2168010444890669,2663.6555018573404,47.927365431343148,24.885362820120481,18.433602088978134,27.650403133467201,36.867204177956268,46.084005222445334,0.79001151809906278]
[null,"V auk - rohusilo",5.5025120649268883E-15,0.03,1.6507536194780664E-16,null,5.5025120649268883E-15,1.3921355524265028E-15,1.3364501303294427E-13,4.1764066572795087E-14,1.002337597747082E-13,3.7587659915515577E-14,1.2250792861353225E-14,1.3921355524265028E-15,4.3434629235706889E-13,1.5174277521448882E-14,4.7332608782501091E-15,2.7842711048530056E-15,4.1764066572795084E-15,5.5685422097060112E-15,6.960677762132514E-15,1.6507536194780664E-16]
[null,"Maisisilo PK 260-12-70",0,0.03,0,null,0,0,0,0,0,0,0,0,0,0,0,0,0,0,0,0]
[null,"VII auk - maisisilo",0,0.03,0,null,0,0,0,0,0,0,0,0,0,0,0,0,0,0,0,0]
[null,"Hein kõrreliste kultuurrohumaa  030-15-60",0,7.8E-2,0,null,0,0,0,0,0,0,0,0,0,0,0,0,0,0,0,0]
[null,"Põldhein (50% ristikut)  LL 103-15-40",0,7.8E-2,0,null,0,0,0,0,0,0,0,0,0,0,0,0,0,0,0,0]
[null,"Odrapõhk 255-16-0",0.5,1.4999999999999999E-2,7.4999999999999997E-3,null,0.5,0.41499999999999998,19.504999999999999,0,23.24,-19.919999999999998,2.8635000000000002,0.41499999999999998,174.29999999999998,1.6184999999999998,0.41499999999999998,0.83,1.2449999999999999,1.66,2.0749999999999997,7.4999999999999997E-3]
[null,"Rapsikook  350-28",0,0.27,0,null,0,0,0,0,0,0,0,0,0,0,0,0,0,0,0,0]
[null,"Sojašrott 310-29",0,0.46,0,null,0,0,0,0,0,0,0,0,0,0,0,0,0,0,0,0]
[null,"Oder  255-20/21",8.3598885298739624E-17,0.159,1.32922227624996E-17,null,8.3598885298739624E-17,7.1895041356916081E-17,8.9868801696145103E-15,4.3137024814149652E-14,7.4051892597623557E-15,-3.1633818197043075E-15,9.3463553763990897E-16,7.1895041356916081E-17,4.313702481414965E-15,5.7516033085532865E-17,2.9476966956335589E-16,1.4379008271383216E-16,2.1568512407074823E-16,2.8758016542766433E-16,3.5947520678458042E-16,1.32922227624996E-17]
[null,"Mais 260-20/21",0,0.2,0,null,0,0,0,0,0,0,0,0,0,0,0,0,0,0,0,0]
[null,"Nisukliid 265-24",0.21986564637064343,0.15,3.2979846955596512E-2,null,0.21986564637064343,0.18908445587875336,31.57710413175181,113.45067352725202,17.395769940845309,3.4035202058175607,2.1177459058420376,0.18908445587875336,18.341192220239076,0.2647182382302547,2.0799290146662868,0.37816891175750672,0.56725336763626011,0.75633782351501344,0.94542227939376677,3.2979846955596512E-2]
[null,"Nisu 265-20/21",0,0.17699999999999999,0,null,0,0,0,0,0,0,0,0,0,0,0,0,0,0,0,0]
[null,"Mineraal1",0,0.05,0,null,0,0,0,0,0,0,0,0,0,0,0,0,0,0,0,0]
[null,"Mineraal2",3.1241860810953249E-2,0.05,1.5620930405476625E-3,null,3.1241860810953249E-2,3.0929442202843715E-2,0,0,0,0,0,3.0929442202843715E-2,0,4.639416330426557,2.3197081652132785,6.1858884405687431E-2,9.2788326608531146E-2,0.12371776881137486,0.15464721101421858,1.5620930405476625E-3]
[null,"Lubjakivi",0,0.01,0,null,0,0,0,0,0,0,0,0,0,0,0,0,0,0,0,0]
[null,"Mineraal 3",0,0.72,0,null,0,0,0,0,0,0,0,0,0,0,0,0,0,0,0,0]
[null,"Sooda",0,0.34300000000000003,0,null,0,0,0,0,0,0,0,0,0,0,0,0,0,0,0,0]
[null,"Karbamiid",4.8671775181146931E-2,0.29499999999999998,1.4358173678438344E-2,null,4.8671775181146931E-2,4.8185057429335459E-2,126.48577575200558,0,0,126.48577575200558,0,4.8185057429335459E-2,0,0,0,9.6370114858670919E-2,0.14455517228800638,0.19274022971734184,0.2409252871466773,1.4358173678438344E-2]
[null,"Mineraal 4",0,1.3149999999999999,0,null,0,0,0,0,0,0,0,0,0,0,0,0,0,0,0,0]
[null,"Kaitstud rasv",0,1.1299999999999999,0,null,0,0,0,0,0,0,0,0,0,0,0,0,0,0,0,0]
[null,null,null,null,null,null,null,0,0,0,0,0,0,0,0,0,0,0,0,0,0,0]
[null,"Kontrollnäitajad"]
[]
[null,"Ratsiooni maksumus, €/päev",0.84641163177364542,null,null,null,"Kokku:",9.9,1237.5000000000005,389.95470486192414,741.11264932201448,-28.282719709512818,98.070936455181638,9.9,2856.29669407758,54.449999999999967,29.700000000000049,19.8,29.700000000000003,39.6,49.500000000000014,0.84641163177364542]
[null,"Ratsiooni kogus, kg/päev",27.133496552331515,null,null,null,"1kg/KA's",null,125.00000000000004,39.389364127467083,74.859863567880254,-2.8568403746982645,9.9061551974930939,1,288.51481758359392,5.4999999999999964,3.0000000000000049,2,3,4,5.0000000000000009]
[null,null,null,null,null,null,null,"TP/ME suhe: ",null,12.618417287832642,"MP/ME suhe:",null,7.556903972877862,null,"Ca:P suhe:",null,1.8333333333333293]
[null,"Kuivaine kogus, kg",9.9,null,null,null,null,null,"TF tarbenormid:",1.7999999999999999E-2,null,null,null," kg lehmale, kes lüpsab ","20","kg EKM piima "]
[null,"Kuivaine osatähtsus ratsiooni kogumassist, %",0.36486267005456463,null,null,null,null,null,null,null,null,null,null,null,"ja kelle kehamassi muutus on",0.7,"kg"]
[null,"Jõusööda osakaal ratsiooni kuivainest, %",1.9099439987752872E-2,null,null,null,null,null,"TARVE:",null,1063.2597120704686,null,149.02324424902511,null,null,60.000900000000001,40.000900000000001]
[null,"Silo osatähtsus kuivainest, % ",0.93099000449384528,null,null,null,null,null,"VAHE:",null,-322.14706274845412,null,-50.952307793843474,null,null,-5.5509000000000341,-10.300899999999952]
[null,"Maisisilo osatähtsus kogu silokoguse kuivainest, %",0,null,null,null,null,null,null,null,-350.42978245796695]
[null,"Nisu osatähtsus teravilja ja jahude kogusest, %",0.99999999999999956,null,null,null,null,null,null,null,null,"Ei tohi olla negatiivne ega üle +300"]
[]
[null,"Metaboliseeruv energia, MJ",98.070936455181624,null,null,null,null,null,null,"Piima karbamiid, mg/l",256.8791029281569,"(PBV järgi)"]
[null,"Metaboliseeruv energia, MJ/kg KA",9.9061551974930921,null,null,null,null,null,null,"Piima karbamiid, mg/l",239.98671087981916,"(TP/ME suhte järgi)"]
[null,"(Toor)proteiin, g KA",125.00000000000004,null,null,null,null,null,null,"Ratsioon kuivaine(kg)",3.8112663522627597]
[null,"Toorproteiini ja metaboliseeruva energia suhe",12.618417287832646,null,null,null,null,null,null,"Ratsioon kuivaine(%)",0.38497639921846055]
[null,"Metaboliseeruv proteiin, g/kg KA",74.859863567880254]
[null,"Metaboliseeruva proteiini ja metaboliseeruva energia suhe",7.5569039728778646]
[null,"VPB, g",-2.8568403746982631]
[null,"Ca:P suhe",1.833333333333329]
[]
[null,"Tärklis ja suhkur ratsiooni kuivaines, g/kg",39.389364127467083]
[null,"Toorkiud, g/kg KA",288.51481758359387]
[null,"ADF, g/kg KA",370.03892845286873]
[null,"NDF, g/kg KA",564.62761579830897]